BEGIN:VCALENDAR
VERSION:2.0
PRODID:-//Carolina Dragway &quot;The House of Hook&quot; in Aiken, SC - ECPv6.15.20//NONSGML v1.0//EN
CALSCALE:GREGORIAN
METHOD:PUBLISH
X-ORIGINAL-URL:https://carolinadragway.com
X-WR-CALDESC:Events for Carolina Dragway &quot;The House of Hook&quot; in Aiken, SC
REFRESH-INTERVAL;VALUE=DURATION:PT1H
X-Robots-Tag:noindex
X-PUBLISHED-TTL:PT1H
BEGIN:VTIMEZONE
TZID:America/New_York
BEGIN:DAYLIGHT
TZOFFSETFROM:-0500
TZOFFSETTO:-0400
TZNAME:EDT
DTSTART:20250309T070000
END:DAYLIGHT
BEGIN:STANDARD
TZOFFSETFROM:-0400
TZOFFSETTO:-0500
TZNAME:EST
DTSTART:20251102T060000
END:STANDARD
BEGIN:DAYLIGHT
TZOFFSETFROM:-0500
TZOFFSETTO:-0400
TZNAME:EDT
DTSTART:20260308T070000
END:DAYLIGHT
BEGIN:STANDARD
TZOFFSETFROM:-0400
TZOFFSETTO:-0500
TZNAME:EST
DTSTART:20261101T060000
END:STANDARD
BEGIN:DAYLIGHT
TZOFFSETFROM:-0500
TZOFFSETTO:-0400
TZNAME:EDT
DTSTART:20270314T070000
END:DAYLIGHT
BEGIN:STANDARD
TZOFFSETFROM:-0400
TZOFFSETTO:-0500
TZNAME:EST
DTSTART:20271107T060000
END:STANDARD
END:VTIMEZONE
BEGIN:VEVENT
DTSTART;TZID=America/New_York:20260702T183000
DTEND;TZID=America/New_York:20260702T233000
DTSTAMP:20260423T141129
CREATED:20260210T141950Z
LAST-MODIFIED:20260210T141950Z
UID:13282-1783017000-1783035000@carolinadragway.com
SUMMARY:TEST & TUNE & FIREWORKS SHOW
DESCRIPTION:TEST & TUNE – 6:30PM TO 11:30PM
URL:https://carolinadragway.com/event/test-tune-fireworks-show/
END:VEVENT
BEGIN:VEVENT
DTSTART;TZID=America/New_York:20260709T183000
DTEND;TZID=America/New_York:20260709T233000
DTSTAMP:20260423T141129
CREATED:20260210T142023Z
LAST-MODIFIED:20260210T142023Z
UID:13284-1783621800-1783639800@carolinadragway.com
SUMMARY:TEST & TUNE
DESCRIPTION:TEST & TUNE – 6:30PM TO 11:30PM
URL:https://carolinadragway.com/event/test-tune-56/
END:VEVENT
BEGIN:VEVENT
DTSTART;TZID=America/New_York:20260711T080000
DTEND;TZID=America/New_York:20260711T170000
DTSTAMP:20260423T141129
CREATED:20260210T142142Z
LAST-MODIFIED:20260210T142142Z
UID:13286-1783756800-1783789200@carolinadragway.com
SUMMARY:TO BE ANNOUNCED
DESCRIPTION:
URL:https://carolinadragway.com/event/to-be-announced-3/
END:VEVENT
BEGIN:VEVENT
DTSTART;TZID=America/New_York:20260716T183000
DTEND;TZID=America/New_York:20260716T233000
DTSTAMP:20260423T141129
CREATED:20260210T142219Z
LAST-MODIFIED:20260210T142219Z
UID:13288-1784226600-1784244600@carolinadragway.com
SUMMARY:TEST & TUNE
DESCRIPTION:TEST & TUNE – 6:30PM TO 11:30PM
URL:https://carolinadragway.com/event/test-tune-57/
END:VEVENT
BEGIN:VEVENT
DTSTART;TZID=America/New_York:20260723T183000
DTEND;TZID=America/New_York:20260723T233000
DTSTAMP:20260423T141129
CREATED:20260210T142250Z
LAST-MODIFIED:20260210T142250Z
UID:13290-1784831400-1784849400@carolinadragway.com
SUMMARY:TEST & TUNE
DESCRIPTION:TEST & TUNE – 6:30PM TO 11:30PM
URL:https://carolinadragway.com/event/test-tune-58/
END:VEVENT
BEGIN:VEVENT
DTSTART;TZID=America/New_York:20260725T120000
DTEND;TZID=America/New_York:20260725T233000
DTSTAMP:20260423T141129
CREATED:20260210T142642Z
LAST-MODIFIED:20260210T142642Z
UID:13292-1784980800-1785022200@carolinadragway.com
SUMMARY:CAROLINA HEAT INDEX RACING
DESCRIPTION:12PM TO 11:30PM
URL:https://carolinadragway.com/event/carolina-heat-index-racing/
END:VEVENT
BEGIN:VEVENT
DTSTART;TZID=America/New_York:20260730T183000
DTEND;TZID=America/New_York:20260730T233000
DTSTAMP:20260423T141129
CREATED:20260210T142756Z
LAST-MODIFIED:20260210T142756Z
UID:13294-1785436200-1785454200@carolinadragway.com
SUMMARY:TEST & TUNE
DESCRIPTION:TEST & TUNE – 6:30PM TO 11:30PM
URL:https://carolinadragway.com/event/test-tune-59/
END:VEVENT
BEGIN:VEVENT
DTSTART;TZID=America/New_York:20260731T160000
DTEND;TZID=America/New_York:20260731T220000
DTSTAMP:20260423T141129
CREATED:20260210T142843Z
LAST-MODIFIED:20260210T142843Z
UID:13296-1785513600-1785535200@carolinadragway.com
SUMMARY:OPEN PRIVATE TESTING
DESCRIPTION:4PM TO 10PM
URL:https://carolinadragway.com/event/open-private-testing-4/
END:VEVENT
END:VCALENDAR