BEGIN:VCALENDAR
VERSION:2.0
PRODID:-//Carolina Dragway &quot;The House of Hook&quot; in Aiken, SC - ECPv6.15.20//NONSGML v1.0//EN
CALSCALE:GREGORIAN
METHOD:PUBLISH
X-ORIGINAL-URL:https://carolinadragway.com
X-WR-CALDESC:Events for Carolina Dragway &quot;The House of Hook&quot; in Aiken, SC
REFRESH-INTERVAL;VALUE=DURATION:PT1H
X-Robots-Tag:noindex
X-PUBLISHED-TTL:PT1H
BEGIN:VTIMEZONE
TZID:America/New_York
BEGIN:DAYLIGHT
TZOFFSETFROM:-0500
TZOFFSETTO:-0400
TZNAME:EDT
DTSTART:20250309T070000
END:DAYLIGHT
BEGIN:STANDARD
TZOFFSETFROM:-0400
TZOFFSETTO:-0500
TZNAME:EST
DTSTART:20251102T060000
END:STANDARD
BEGIN:DAYLIGHT
TZOFFSETFROM:-0500
TZOFFSETTO:-0400
TZNAME:EDT
DTSTART:20260308T070000
END:DAYLIGHT
BEGIN:STANDARD
TZOFFSETFROM:-0400
TZOFFSETTO:-0500
TZNAME:EST
DTSTART:20261101T060000
END:STANDARD
BEGIN:DAYLIGHT
TZOFFSETFROM:-0500
TZOFFSETTO:-0400
TZNAME:EDT
DTSTART:20270314T070000
END:DAYLIGHT
BEGIN:STANDARD
TZOFFSETFROM:-0400
TZOFFSETTO:-0500
TZNAME:EST
DTSTART:20271107T060000
END:STANDARD
END:VTIMEZONE
BEGIN:VEVENT
DTSTART;TZID=America/New_York:20260502T080000
DTEND;TZID=America/New_York:20260502T220000
DTSTAMP:20260423T110829
CREATED:20260210T134134Z
LAST-MODIFIED:20260210T134134Z
UID:13247-1777708800-1777759200@carolinadragway.com
SUMMARY:SUMMIT SERIES BRACKET POINTS RACES 3 & 4
DESCRIPTION:MAY 2ND- 8AM TO 10PM \nMAY 3RD- 8AM TO 8PM
URL:https://carolinadragway.com/event/summit-series-bracket-points-races-3-4/
END:VEVENT
BEGIN:VEVENT
DTSTART;TZID=America/New_York:20260503T080000
DTEND;TZID=America/New_York:20260503T200000
DTSTAMP:20260423T110829
CREATED:20260210T134222Z
LAST-MODIFIED:20260210T134222Z
UID:13249-1777795200-1777838400@carolinadragway.com
SUMMARY:SUMMIT SERIES BRACKET POINTS RACES 3 & 4
DESCRIPTION:MAY 2ND- 8AM TO 10PM \nMAY 3RD- 8AM TO 8PM
URL:https://carolinadragway.com/event/summit-series-bracket-points-races-3-4-2/
END:VEVENT
BEGIN:VEVENT
DTSTART;TZID=America/New_York:20260507T183000
DTEND;TZID=America/New_York:20260507T233000
DTSTAMP:20260423T110829
CREATED:20260210T134310Z
LAST-MODIFIED:20260210T134310Z
UID:13251-1778178600-1778196600@carolinadragway.com
SUMMARY:TEST & TUNE
DESCRIPTION:TEST & TUNE – 6:30PM TO 11:30PM
URL:https://carolinadragway.com/event/test-tune-48/
END:VEVENT
BEGIN:VEVENT
DTSTART;TZID=America/New_York:20260509T130000
DTEND;TZID=America/New_York:20260509T130000
DTSTAMP:20260423T110829
CREATED:20260203T193207Z
LAST-MODIFIED:20260312T191531Z
UID:13183-1778331600-1778331600@carolinadragway.com
SUMMARY:COUNTRY BOYS VS THE WORLD
DESCRIPTION:ENTRY FEE – $20 \nTECH CARDS – $30 \nGATES OPEN @ 1PM \nTRACK HOT @ 3PM
URL:https://carolinadragway.com/event/country-boys-vs-the-world/
END:VEVENT
BEGIN:VEVENT
DTSTART;TZID=America/New_York:20260509T130000
DTEND;TZID=America/New_York:20260509T233000
DTSTAMP:20260423T110829
CREATED:20260210T134445Z
LAST-MODIFIED:20260210T134445Z
UID:13253-1778331600-1778369400@carolinadragway.com
SUMMARY:STEVEN CLAY'S GRUDGE RACE
DESCRIPTION:GATES OPEN @ 1PM \nTRACK GOES HOT @ 3PM  \nEVENT ENDS @ 11:30PM
URL:https://carolinadragway.com/event/steven-clays-grudge-race/
END:VEVENT
BEGIN:VEVENT
DTSTART;TZID=America/New_York:20260514T183000
DTEND;TZID=America/New_York:20260514T233000
DTSTAMP:20260423T110829
CREATED:20260210T134518Z
LAST-MODIFIED:20260210T134518Z
UID:13255-1778783400-1778801400@carolinadragway.com
SUMMARY:TEST & TUNE
DESCRIPTION:TEST & TUNE – 6:30PM TO 11:30PM
URL:https://carolinadragway.com/event/test-tune-49/
END:VEVENT
BEGIN:VEVENT
DTSTART;TZID=America/New_York:20260521T183000
DTEND;TZID=America/New_York:20260521T233000
DTSTAMP:20260423T110829
CREATED:20260210T134602Z
LAST-MODIFIED:20260210T134602Z
UID:13258-1779388200-1779406200@carolinadragway.com
SUMMARY:TEST & TUNE
DESCRIPTION:TEST & TUNE – 6:30PM TO 11:30PM
URL:https://carolinadragway.com/event/test-tune-50/
END:VEVENT
BEGIN:VEVENT
DTSTART;TZID=America/New_York:20260528T183000
DTEND;TZID=America/New_York:20260528T233000
DTSTAMP:20260423T110829
CREATED:20260210T134631Z
LAST-MODIFIED:20260210T134631Z
UID:13260-1779993000-1780011000@carolinadragway.com
SUMMARY:TEST & TUNE
DESCRIPTION:TEST & TUNE – 6:30PM TO 11:30PM
URL:https://carolinadragway.com/event/test-tune-51/
END:VEVENT
BEGIN:VEVENT
DTSTART;TZID=America/New_York:20260529T080000
DTEND;TZID=America/New_York:20260531T233000
DTSTAMP:20260423T110829
CREATED:20260210T134726Z
LAST-MODIFIED:20260210T134726Z
UID:13262-1780041600-1780270200@carolinadragway.com
SUMMARY:NHRA NATIONAL OPEN
DESCRIPTION:MAY 29TH TO MAY 31ST
URL:https://carolinadragway.com/event/nhra-national-open-4/
END:VEVENT
END:VCALENDAR