BEGIN:VCALENDAR
VERSION:2.0
PRODID:-//Carolina Dragway &quot;The House of Hook&quot; in Aiken, SC - ECPv6.15.20//NONSGML v1.0//EN
CALSCALE:GREGORIAN
METHOD:PUBLISH
X-WR-CALNAME:Carolina Dragway &quot;The House of Hook&quot; in Aiken, SC
X-ORIGINAL-URL:https://carolinadragway.com
X-WR-CALDESC:Events for Carolina Dragway &quot;The House of Hook&quot; in Aiken, SC
REFRESH-INTERVAL;VALUE=DURATION:PT1H
X-Robots-Tag:noindex
X-PUBLISHED-TTL:PT1H
BEGIN:VTIMEZONE
TZID:America/New_York
BEGIN:DAYLIGHT
TZOFFSETFROM:-0500
TZOFFSETTO:-0400
TZNAME:EDT
DTSTART:20250309T070000
END:DAYLIGHT
BEGIN:STANDARD
TZOFFSETFROM:-0400
TZOFFSETTO:-0500
TZNAME:EST
DTSTART:20251102T060000
END:STANDARD
BEGIN:DAYLIGHT
TZOFFSETFROM:-0500
TZOFFSETTO:-0400
TZNAME:EDT
DTSTART:20260308T070000
END:DAYLIGHT
BEGIN:STANDARD
TZOFFSETFROM:-0400
TZOFFSETTO:-0500
TZNAME:EST
DTSTART:20261101T060000
END:STANDARD
BEGIN:DAYLIGHT
TZOFFSETFROM:-0500
TZOFFSETTO:-0400
TZNAME:EDT
DTSTART:20270314T070000
END:DAYLIGHT
BEGIN:STANDARD
TZOFFSETFROM:-0400
TZOFFSETTO:-0500
TZNAME:EST
DTSTART:20271107T060000
END:STANDARD
END:VTIMEZONE
BEGIN:VEVENT
DTSTART;TZID=America/New_York:20260305T183000
DTEND;TZID=America/New_York:20260305T233000
DTSTAMP:20260423T110833
CREATED:20260210T124612Z
LAST-MODIFIED:20260304T204502Z
UID:13211-1772735400-1772753400@carolinadragway.com
SUMMARY:TEST & TUNE
DESCRIPTION:GATES OPEN @ 6:30PM \nTRACK GOES HOT @ 7PM \nTECH CARDS $30 \n$20 PER PERSON \nKIDS 10 & UNDER FREE
URL:https://carolinadragway.com/event/test-tune-39/
END:VEVENT
BEGIN:VEVENT
DTSTART;TZID=America/New_York:20260306T160000
DTEND;TZID=America/New_York:20260306T220000
DTSTAMP:20260423T110833
CREATED:20260210T124654Z
LAST-MODIFIED:20260304T204154Z
UID:13213-1772812800-1772834400@carolinadragway.com
SUMMARY:OPEN PRIVATE TESTING
DESCRIPTION:$250 PER CAR
URL:https://carolinadragway.com/event/open-private-testing/
END:VEVENT
BEGIN:VEVENT
DTSTART;TZID=America/New_York:20260307T100000
DTEND;TZID=America/New_York:20260307T220000
DTSTAMP:20260423T110833
CREATED:20260203T192903Z
LAST-MODIFIED:20260203T192903Z
UID:13180-1772877600-1772920800@carolinadragway.com
SUMMARY:14TH ANNUAL MARCH MADNESS
DESCRIPTION:ADMISSION – $30 \nKIDS 10 & UNDER – FREE \nTECH CARDS – $45 \nGATES OPEN @ 10AM  \nTRACK HOT @ 12PM \nDRIVERS MEETING FOR SHOOTOUT @ 2:30PM \nSHOOUT STARTS @ 4PM
URL:https://carolinadragway.com/event/14th-annual-march-madness/
END:VEVENT
BEGIN:VEVENT
DTSTART;TZID=America/New_York:20260307T103000
DTEND;TZID=America/New_York:20260307T233000
DTSTAMP:20260423T110833
CREATED:20260210T124842Z
LAST-MODIFIED:20260210T124842Z
UID:13215-1772879400-1772926200@carolinadragway.com
SUMMARY:MIKE HILL MARCH MADNESS (4.84 POINTS RACE)
DESCRIPTION:GATES OPEN @ 10AM \nTRACK GOES HOT @ 12PM  \n 
URL:https://carolinadragway.com/event/mike-hill-march-madness-4-84-points-race/
END:VEVENT
BEGIN:VEVENT
DTSTART;TZID=America/New_York:20260312T183000
DTEND;TZID=America/New_York:20260312T233000
DTSTAMP:20260423T110833
CREATED:20260204T183827Z
LAST-MODIFIED:20260310T175651Z
UID:13190-1773340200-1773358200@carolinadragway.com
SUMMARY:BABY GANGSTA
DESCRIPTION:GATES OPEN 6:30PM \nTRACK HOT @ 7PM \nTECH CARDS $30 \nADMISSION $20 \nKIDS 10 & UNDER FREE
URL:https://carolinadragway.com/event/baby-gangsta/
END:VEVENT
BEGIN:VEVENT
DTSTART;TZID=America/New_York:20260312T183000
DTEND;TZID=America/New_York:20260312T233000
DTSTAMP:20260423T110833
CREATED:20260210T131559Z
LAST-MODIFIED:20260310T174251Z
UID:13217-1773340200-1773358200@carolinadragway.com
SUMMARY:TEST & TUNE
DESCRIPTION:GATES OPEN 6:30 PM \nFIRST ROUND @ 7:30PM \nTECH CARDS $30 \nADMISSION $20/ PERSON \nKIDS 10 & UNDER FREE \n 
URL:https://carolinadragway.com/event/test-tune-40/
END:VEVENT
BEGIN:VEVENT
DTSTART;TZID=America/New_York:20260314T100000
DTEND;TZID=America/New_York:20260314T160000
DTSTAMP:20260423T110833
CREATED:20260210T131649Z
LAST-MODIFIED:20260217T131103Z
UID:13219-1773482400-1773504000@carolinadragway.com
SUMMARY:COFFEE & CARS
DESCRIPTION:10AM TO 4PM
URL:https://carolinadragway.com/event/coffee-cars-3/
END:VEVENT
BEGIN:VEVENT
DTSTART;TZID=America/New_York:20260319T183000
DTEND;TZID=America/New_York:20260319T233000
DTSTAMP:20260423T110833
CREATED:20260210T131717Z
LAST-MODIFIED:20260210T131717Z
UID:13221-1773945000-1773963000@carolinadragway.com
SUMMARY:TEST & TUNE
DESCRIPTION:6:30PM TO 11:30PM
URL:https://carolinadragway.com/event/test-tune-41/
END:VEVENT
BEGIN:VEVENT
DTSTART;TZID=America/New_York:20260321T080000
DTEND;TZID=America/New_York:20260321T170000
DTSTAMP:20260423T110833
CREATED:20260210T131742Z
LAST-MODIFIED:20260210T131742Z
UID:13223-1774080000-1774112400@carolinadragway.com
SUMMARY:TO BE ANNOUNCED
DESCRIPTION:
URL:https://carolinadragway.com/event/to-be-announced-2/
END:VEVENT
BEGIN:VEVENT
DTSTART;TZID=America/New_York:20260326T183000
DTEND;TZID=America/New_York:20260326T233000
DTSTAMP:20260423T110833
CREATED:20260210T131810Z
LAST-MODIFIED:20260210T131810Z
UID:13225-1774549800-1774567800@carolinadragway.com
SUMMARY:TEST & TUNE
DESCRIPTION:6:30PM TO 11:30PM
URL:https://carolinadragway.com/event/test-tune-42/
END:VEVENT
BEGIN:VEVENT
DTSTART;TZID=America/New_York:20260327T100000
DTEND;TZID=America/New_York:20260329T233000
DTSTAMP:20260423T110833
CREATED:20260210T131904Z
LAST-MODIFIED:20260326T142356Z
UID:13227-1774605600-1774827000@carolinadragway.com
SUMMARY:NHRA NATIONAL OPEN
DESCRIPTION:FRIDAY\, MARCH 27TH: \nGATES OPEN @ 10AM \nTEST N TUNE 2PM-9PM \nSATURDAY\, MARCH28TH: \nGATES OPEN @ 7:30AM \nTIME RUNS/QUALIFYING @ 9AM \nELIMINATIONS @ 12PM \nSUNDAY\, MARCH 29TH: \nGATE OPEN @ 8AM \nTIME RUNS/QUALIFYING @9AM \nELIMINATIONS @11AM \n  \n 
URL:https://carolinadragway.com/event/nhra-national-open-3/
END:VEVENT
END:VCALENDAR