BEGIN:VCALENDAR
VERSION:2.0
PRODID:-//Carolina Dragway &quot;The House of Hook&quot; in Aiken, SC - ECPv6.15.20//NONSGML v1.0//EN
CALSCALE:GREGORIAN
METHOD:PUBLISH
X-WR-CALNAME:Carolina Dragway &quot;The House of Hook&quot; in Aiken, SC
X-ORIGINAL-URL:https://carolinadragway.com
X-WR-CALDESC:Events for Carolina Dragway &quot;The House of Hook&quot; in Aiken, SC
REFRESH-INTERVAL;VALUE=DURATION:PT1H
X-Robots-Tag:noindex
X-PUBLISHED-TTL:PT1H
BEGIN:VTIMEZONE
TZID:America/New_York
BEGIN:DAYLIGHT
TZOFFSETFROM:-0500
TZOFFSETTO:-0400
TZNAME:EDT
DTSTART:20250309T070000
END:DAYLIGHT
BEGIN:STANDARD
TZOFFSETFROM:-0400
TZOFFSETTO:-0500
TZNAME:EST
DTSTART:20251102T060000
END:STANDARD
BEGIN:DAYLIGHT
TZOFFSETFROM:-0500
TZOFFSETTO:-0400
TZNAME:EDT
DTSTART:20260308T070000
END:DAYLIGHT
BEGIN:STANDARD
TZOFFSETFROM:-0400
TZOFFSETTO:-0500
TZNAME:EST
DTSTART:20261101T060000
END:STANDARD
BEGIN:DAYLIGHT
TZOFFSETFROM:-0500
TZOFFSETTO:-0400
TZNAME:EDT
DTSTART:20270314T070000
END:DAYLIGHT
BEGIN:STANDARD
TZOFFSETFROM:-0400
TZOFFSETTO:-0500
TZNAME:EST
DTSTART:20271107T060000
END:STANDARD
END:VTIMEZONE
BEGIN:VEVENT
DTSTART;TZID=America/New_York:20260207T090000
DTEND;TZID=America/New_York:20260207T180000
DTSTAMP:20260423T125126
CREATED:20260121T203813Z
LAST-MODIFIED:20260203T193311Z
UID:13142-1770454800-1770487200@carolinadragway.com
SUMMARY:16TH ANNUAL FIRST A$$ CUTTIN OF 2026
DESCRIPTION:GATES OPEN @ 9AM \nTRACK HOT @12PM \nSHOOTOUT STARTS @ 1PM \nADMISSION – $30.00 \nKIDS 10 & UNDER – FREE \nTECH CARD – $40.00
URL:https://carolinadragway.com/event/tmr-first-a-cuttin-of-2026/
END:VEVENT
BEGIN:VEVENT
DTSTART;TZID=America/New_York:20260227T180000
DTEND;TZID=America/New_York:20260227T233000
DTSTAMP:20260423T125126
CREATED:20260226T130305Z
LAST-MODIFIED:20260226T130305Z
UID:13390-1772215200-1772235000@carolinadragway.com
SUMMARY:Frigid Fallout No Prep Private Testing
DESCRIPTION:6 PM TO 12 AM \n$100 PER CAR
URL:https://carolinadragway.com/event/frigid-fallout-no-prep-private-testing/
END:VEVENT
BEGIN:VEVENT
DTSTART;TZID=America/New_York:20260228T090000
DTEND;TZID=America/New_York:20260228T180000
DTSTAMP:20260423T125126
CREATED:20260210T124518Z
LAST-MODIFIED:20260226T125823Z
UID:13209-1772269200-1772301600@carolinadragway.com
SUMMARY:FRIGID FALLOUT NO PREP RACE
DESCRIPTION:GATES OPEN @ 9AM  \nTRACK GOES HOT @ 11AM
URL:https://carolinadragway.com/event/no-prep/
END:VEVENT
END:VCALENDAR