BEGIN:VCALENDAR
VERSION:2.0
PRODID:-//Carolina Dragway &quot;The House of Hook&quot; in Aiken, SC - ECPv6.15.20//NONSGML v1.0//EN
CALSCALE:GREGORIAN
METHOD:PUBLISH
X-WR-CALNAME:Carolina Dragway &quot;The House of Hook&quot; in Aiken, SC
X-ORIGINAL-URL:https://carolinadragway.com
X-WR-CALDESC:Events for Carolina Dragway &quot;The House of Hook&quot; in Aiken, SC
REFRESH-INTERVAL;VALUE=DURATION:PT1H
X-Robots-Tag:noindex
X-PUBLISHED-TTL:PT1H
BEGIN:VTIMEZONE
TZID:America/New_York
BEGIN:DAYLIGHT
TZOFFSETFROM:-0500
TZOFFSETTO:-0400
TZNAME:EDT
DTSTART:20240310T070000
END:DAYLIGHT
BEGIN:STANDARD
TZOFFSETFROM:-0400
TZOFFSETTO:-0500
TZNAME:EST
DTSTART:20241103T060000
END:STANDARD
BEGIN:DAYLIGHT
TZOFFSETFROM:-0500
TZOFFSETTO:-0400
TZNAME:EDT
DTSTART:20250309T070000
END:DAYLIGHT
BEGIN:STANDARD
TZOFFSETFROM:-0400
TZOFFSETTO:-0500
TZNAME:EST
DTSTART:20251102T060000
END:STANDARD
BEGIN:DAYLIGHT
TZOFFSETFROM:-0500
TZOFFSETTO:-0400
TZNAME:EDT
DTSTART:20260308T070000
END:DAYLIGHT
BEGIN:STANDARD
TZOFFSETFROM:-0400
TZOFFSETTO:-0500
TZNAME:EST
DTSTART:20261101T060000
END:STANDARD
END:VTIMEZONE
BEGIN:VEVENT
DTSTART;TZID=America/New_York:20251002T183000
DTEND;TZID=America/New_York:20251002T233000
DTSTAMP:20260423T184600
CREATED:20250206T160310Z
LAST-MODIFIED:20250206T160310Z
UID:11864-1759429800-1759447800@carolinadragway.com
SUMMARY:TEST & TUNE
DESCRIPTION:Gates Open 6:30 PM \nSpectators: $20 \nKids 12 & Under: Free \nTech Cards: $30 
URL:https://carolinadragway.com/event/test-tune-30/
CATEGORIES:Test-n-Tune
END:VEVENT
BEGIN:VEVENT
DTSTART;TZID=America/New_York:20251004T080000
DTEND;TZID=America/New_York:20251004T170000
DTSTAMP:20260423T184600
CREATED:20250717T151155Z
LAST-MODIFIED:20250717T151155Z
UID:12565-1759564800-1759597200@carolinadragway.com
SUMMARY:Incident Response Program Training Opportunity
DESCRIPTION:OCTOBER 4TH\, 2025 \n8AM TO 5PM \n$40 PER PERSON \nONE DAY TRAINING \nREGISTRATION LINK QR CODE IN PHOTO
URL:https://carolinadragway.com/event/incident-response-program-training-opportunity/
END:VEVENT
BEGIN:VEVENT
DTSTART;TZID=America/New_York:20251009T183000
DTEND;TZID=America/New_York:20251009T233000
DTSTAMP:20260423T184600
CREATED:20250206T160413Z
LAST-MODIFIED:20250206T160413Z
UID:11866-1760034600-1760052600@carolinadragway.com
SUMMARY:TEST & TUNE
DESCRIPTION:Gates Open 6:30 PM \nSpectators: $20 \nKids 12 & Under: Free \nTech Cards: $30 
URL:https://carolinadragway.com/event/test-tune-31/
CATEGORIES:Test-n-Tune
END:VEVENT
BEGIN:VEVENT
DTSTART;TZID=America/New_York:20251016T183000
DTEND;TZID=America/New_York:20251016T233000
DTSTAMP:20260423T184600
CREATED:20250206T160602Z
LAST-MODIFIED:20250206T160602Z
UID:11868-1760639400-1760657400@carolinadragway.com
SUMMARY:TEST & TUNE
DESCRIPTION:Gates Open 6:30 PM \nSpectators: $20 \nKids 12 & Under: Free \nTech Cards: $30 
URL:https://carolinadragway.com/event/test-tune-32/
CATEGORIES:Test-n-Tune
END:VEVENT
BEGIN:VEVENT
DTSTART;TZID=America/New_York:20251018T140000
DTEND;TZID=America/New_York:20251018T233000
DTSTAMP:20260423T184600
CREATED:20250916T182858Z
LAST-MODIFIED:20250916T201147Z
UID:12801-1760796000-1760830200@carolinadragway.com
SUMMARY:PrimeTime Takeover
DESCRIPTION: 
URL:https://carolinadragway.com/event/primetime-takeover/
END:VEVENT
BEGIN:VEVENT
DTSTART;TZID=America/New_York:20251023T183000
DTEND;TZID=America/New_York:20251023T233000
DTSTAMP:20260423T184600
CREATED:20250206T160652Z
LAST-MODIFIED:20250206T160652Z
UID:11870-1761244200-1761262200@carolinadragway.com
SUMMARY:TEST & TUNE
DESCRIPTION:Gates Open 6:30 PM \nSpectators: $20 \nKids 12 & Under: Free \nTech Cards: $30 
URL:https://carolinadragway.com/event/test-tune-33/
CATEGORIES:Test-n-Tune
END:VEVENT
BEGIN:VEVENT
DTSTART;TZID=America/New_York:20251025T080000
DTEND;TZID=America/New_York:20251025T230000
DTSTAMP:20260423T184600
CREATED:20250206T183118Z
LAST-MODIFIED:20250922T181559Z
UID:11929-1761379200-1761433200@carolinadragway.com
SUMMARY:Import vs. Muscle
DESCRIPTION:
URL:https://carolinadragway.com/event/import-vs-muscle/
END:VEVENT
BEGIN:VEVENT
DTSTART;TZID=America/New_York:20251030T183000
DTEND;TZID=America/New_York:20251030T233000
DTSTAMP:20260423T184600
CREATED:20250206T160720Z
LAST-MODIFIED:20250206T160720Z
UID:11872-1761849000-1761867000@carolinadragway.com
SUMMARY:TEST & TUNE
DESCRIPTION:Gates Open 6:30 PM \nSpectators: $20 \nKids 12 & Under: Free \nTech Cards: $30 
URL:https://carolinadragway.com/event/test-tune-34/
CATEGORIES:Test-n-Tune
END:VEVENT
END:VCALENDAR