BEGIN:VCALENDAR
VERSION:2.0
PRODID:-//Carolina Dragway &quot;The House of Hook&quot; in Aiken, SC - ECPv6.15.20//NONSGML v1.0//EN
CALSCALE:GREGORIAN
METHOD:PUBLISH
X-ORIGINAL-URL:https://carolinadragway.com
X-WR-CALDESC:Events for Carolina Dragway &quot;The House of Hook&quot; in Aiken, SC
REFRESH-INTERVAL;VALUE=DURATION:PT1H
X-Robots-Tag:noindex
X-PUBLISHED-TTL:PT1H
BEGIN:VTIMEZONE
TZID:America/New_York
BEGIN:DAYLIGHT
TZOFFSETFROM:-0500
TZOFFSETTO:-0400
TZNAME:EDT
DTSTART:20240310T070000
END:DAYLIGHT
BEGIN:STANDARD
TZOFFSETFROM:-0400
TZOFFSETTO:-0500
TZNAME:EST
DTSTART:20241103T060000
END:STANDARD
BEGIN:DAYLIGHT
TZOFFSETFROM:-0500
TZOFFSETTO:-0400
TZNAME:EDT
DTSTART:20250309T070000
END:DAYLIGHT
BEGIN:STANDARD
TZOFFSETFROM:-0400
TZOFFSETTO:-0500
TZNAME:EST
DTSTART:20251102T060000
END:STANDARD
BEGIN:DAYLIGHT
TZOFFSETFROM:-0500
TZOFFSETTO:-0400
TZNAME:EDT
DTSTART:20260308T070000
END:DAYLIGHT
BEGIN:STANDARD
TZOFFSETFROM:-0400
TZOFFSETTO:-0500
TZNAME:EST
DTSTART:20261101T060000
END:STANDARD
END:VTIMEZONE
BEGIN:VEVENT
DTSTART;TZID=America/New_York:20250703T183000
DTEND;TZID=America/New_York:20250703T233000
DTSTAMP:20260423T232227
CREATED:20250205T213116Z
LAST-MODIFIED:20250701T191842Z
UID:11834-1751567400-1751585400@carolinadragway.com
SUMMARY:TEST & TUNE ***FIREWORKS SHOW***
DESCRIPTION:***FIREWORKS SHOW*** \nGates Open 6:30 PM \nSpectators: $20 \nKids 12 & Under: Free \nTech Cards: $30 
URL:https://carolinadragway.com/event/test-tune-17/
CATEGORIES:Test-n-Tune
END:VEVENT
BEGIN:VEVENT
DTSTART;TZID=America/New_York:20250705T160000
DTEND;TZID=America/New_York:20250705T160000
DTSTAMP:20260423T232227
CREATED:20250206T182606Z
LAST-MODIFIED:20250414T123223Z
UID:11907-1751731200-1751731200@carolinadragway.com
SUMMARY:Closed
DESCRIPTION:
URL:https://carolinadragway.com/event/coffee-cars-4/
END:VEVENT
BEGIN:VEVENT
DTSTART;TZID=America/New_York:20250710T183000
DTEND;TZID=America/New_York:20250710T233000
DTSTAMP:20260423T232227
CREATED:20250206T155333Z
LAST-MODIFIED:20250206T155333Z
UID:11840-1752172200-1752190200@carolinadragway.com
SUMMARY:TEST & TUNE
DESCRIPTION:Gates Open 6:30 PM \nSpectators: $20 \nKids 12 & Under: Free \nTech Cards: $30 
URL:https://carolinadragway.com/event/test-tune-18/
CATEGORIES:Test-n-Tune
END:VEVENT
BEGIN:VEVENT
DTSTART;TZID=America/New_York:20250711T183000
DTEND;TZID=America/New_York:20250711T233000
DTSTAMP:20260423T232227
CREATED:20250708T150209Z
LAST-MODIFIED:20250708T150235Z
UID:12543-1752258600-1752276600@carolinadragway.com
SUMMARY:Baby Gangstas No Prep
DESCRIPTION:  \nGATES OPEN AT 6:30PM \nTRACK HOT AT 7PM \n$10 DOLLAR ADMISSION \n$20 TO RACE
URL:https://carolinadragway.com/event/baby-gangstas-no-prep/
END:VEVENT
BEGIN:VEVENT
DTSTART;TZID=America/New_York:20250717T183000
DTEND;TZID=America/New_York:20250717T233000
DTSTAMP:20260423T232227
CREATED:20250206T155430Z
LAST-MODIFIED:20250206T155430Z
UID:11842-1752777000-1752795000@carolinadragway.com
SUMMARY:TEST & TUNE
DESCRIPTION:Gates Open 6:30 PM \nSpectators: $20 \nKids 12 & Under: Free \nTech Cards: $30 
URL:https://carolinadragway.com/event/test-tune-19/
CATEGORIES:Test-n-Tune
END:VEVENT
BEGIN:VEVENT
DTSTART;TZID=America/New_York:20250724T183000
DTEND;TZID=America/New_York:20250724T233000
DTSTAMP:20260423T232227
CREATED:20250206T155525Z
LAST-MODIFIED:20250206T155525Z
UID:11844-1753381800-1753399800@carolinadragway.com
SUMMARY:TEST & TUNE
DESCRIPTION:Gates Open 6:30 PM \nSpectators: $20 \nKids 12 & Under: Free \nTech Cards: $30 
URL:https://carolinadragway.com/event/test-tune-20/
CATEGORIES:Test-n-Tune
END:VEVENT
BEGIN:VEVENT
DTSTART;TZID=America/New_York:20250726T080000
DTEND;TZID=America/New_York:20250727T120000
DTSTAMP:20260423T232227
CREATED:20250206T182707Z
LAST-MODIFIED:20250528T190033Z
UID:11911-1753516800-1753617600@carolinadragway.com
SUMMARY:Summit Series Bracket Races 9 & 10
DESCRIPTION:GATES OPEN @8AM \nTIME TRIALS START @1OAM \nSPECTATORS $20
URL:https://carolinadragway.com/event/summit-series-bracket-races-9-10/
END:VEVENT
BEGIN:VEVENT
DTSTART;TZID=America/New_York:20250731T183000
DTEND;TZID=America/New_York:20250731T233000
DTSTAMP:20260423T232227
CREATED:20250206T155600Z
LAST-MODIFIED:20250206T155600Z
UID:11846-1753986600-1754004600@carolinadragway.com
SUMMARY:TEST & TUNE
DESCRIPTION:Gates Open 6:30 PM \nSpectators: $20 \nKids 12 & Under: Free \nTech Cards: $30 
URL:https://carolinadragway.com/event/test-tune-21/
CATEGORIES:Test-n-Tune
END:VEVENT
END:VCALENDAR