BEGIN:VCALENDAR
VERSION:2.0
PRODID:-//Carolina Dragway &quot;The House of Hook&quot; in Aiken, SC - ECPv6.15.20//NONSGML v1.0//EN
CALSCALE:GREGORIAN
METHOD:PUBLISH
X-ORIGINAL-URL:https://carolinadragway.com
X-WR-CALDESC:Events for Carolina Dragway &quot;The House of Hook&quot; in Aiken, SC
REFRESH-INTERVAL;VALUE=DURATION:PT1H
X-Robots-Tag:noindex
X-PUBLISHED-TTL:PT1H
BEGIN:VTIMEZONE
TZID:America/New_York
BEGIN:DAYLIGHT
TZOFFSETFROM:-0500
TZOFFSETTO:-0400
TZNAME:EDT
DTSTART:20230312T070000
END:DAYLIGHT
BEGIN:STANDARD
TZOFFSETFROM:-0400
TZOFFSETTO:-0500
TZNAME:EST
DTSTART:20231105T060000
END:STANDARD
BEGIN:DAYLIGHT
TZOFFSETFROM:-0500
TZOFFSETTO:-0400
TZNAME:EDT
DTSTART:20240310T070000
END:DAYLIGHT
BEGIN:STANDARD
TZOFFSETFROM:-0400
TZOFFSETTO:-0500
TZNAME:EST
DTSTART:20241103T060000
END:STANDARD
BEGIN:DAYLIGHT
TZOFFSETFROM:-0500
TZOFFSETTO:-0400
TZNAME:EDT
DTSTART:20250309T070000
END:DAYLIGHT
BEGIN:STANDARD
TZOFFSETFROM:-0400
TZOFFSETTO:-0500
TZNAME:EST
DTSTART:20251102T060000
END:STANDARD
END:VTIMEZONE
BEGIN:VEVENT
DTSTART;TZID=America/New_York:20241003T183000
DTEND;TZID=America/New_York:20241003T233000
DTSTAMP:20260424T225142
CREATED:20240930T192010Z
LAST-MODIFIED:20241001T181128Z
UID:11552-1727980200-1727998200@carolinadragway.com
SUMMARY:Test-N-Tune/Grudge Racing CANCELED.... DUE TO WEATHER!!
DESCRIPTION:CANCELED…. DUE TO WEATHER!!
URL:https://carolinadragway.com/event/test-n-tune-grudge-racing-2/
LOCATION:Carolina Dragway\, 302 Dragstrip Road\, Aiken\, SC\, 29803\, United States
CATEGORIES:Test-n-Tune
ORGANIZER;CN="Carolina Dragway":MAILTO:info@carolinadragway.com
END:VEVENT
BEGIN:VEVENT
DTSTART;VALUE=DATE:20241004
DTEND;VALUE=DATE:20241007
DTSTAMP:20260424T225142
CREATED:20231219T160651Z
LAST-MODIFIED:20241001T181418Z
UID:10812-1728000000-1728259199@carolinadragway.com
SUMMARY:NHRA National Open / NIGHT OF FIRE CANCELED.... DUE TO WEATHER!!
DESCRIPTION:CANCELED…. DUE TO WEATHER!!
URL:https://carolinadragway.com/event/nhra-national-open-2/
LOCATION:Carolina Dragway\, 302 Dragstrip Road\, Aiken\, SC\, 29803\, United States
CATEGORIES:Bracket Races
ORGANIZER;CN="Carolina Dragway":MAILTO:info@carolinadragway.com
END:VEVENT
BEGIN:VEVENT
DTSTART;TZID=America/New_York:20240307T183000
DTEND;TZID=America/New_York:20240307T233000
DTSTAMP:20260424T225142
CREATED:20231204T194834Z
LAST-MODIFIED:20231219T160539Z
UID:10755-1709836200-1709854200@carolinadragway.com
SUMMARY:Test-N-Tune/Grudge Racing
DESCRIPTION:
URL:https://carolinadragway.com/event/test-n-tune-grudge-racing/
LOCATION:Carolina Dragway\, 302 Dragstrip Road\, Aiken\, SC\, 29803\, United States
CATEGORIES:Test-n-Tune
ORGANIZER;CN="Carolina Dragway":MAILTO:info@carolinadragway.com
END:VEVENT
BEGIN:VEVENT
DTSTART;TZID=America/New_York:20240307T183000
DTEND;TZID=America/New_York:20240307T233000
DTSTAMP:20260424T225142
CREATED:20231204T194834Z
LAST-MODIFIED:20231219T160539Z
UID:10755-1709836200-1709854200@carolinadragway.com
SUMMARY:Test-N-Tune/Grudge Racing
DESCRIPTION:
URL:https://carolinadragway.com/event/test-n-tune-grudge-racing/
LOCATION:Carolina Dragway\, 302 Dragstrip Road\, Aiken\, SC\, 29803\, United States
CATEGORIES:Test-n-Tune
ORGANIZER;CN="Carolina Dragway":MAILTO:info@carolinadragway.com
END:VEVENT
BEGIN:VEVENT
DTSTART;TZID=America/New_York:20241019T120000
DTEND;TZID=America/New_York:20241019T120000
DTSTAMP:20260424T225142
CREATED:20241001T181856Z
LAST-MODIFIED:20241001T181856Z
UID:11557-1729339200-1729339200@carolinadragway.com
SUMMARY:Kill Or Be Killed Octoberfest
DESCRIPTION:
URL:https://carolinadragway.com/event/kill-or-be-killed-octoberfest/
LOCATION:Carolina Dragway\, 302 Dragstrip Road\, Aiken\, SC\, 29803\, United States
ORGANIZER;CN="Carolina Dragway":MAILTO:info@carolinadragway.com
END:VEVENT
BEGIN:VEVENT
DTSTART;TZID=America/New_York:20240307T183000
DTEND;TZID=America/New_York:20240307T233000
DTSTAMP:20260424T225142
CREATED:20231204T194834Z
LAST-MODIFIED:20231219T160539Z
UID:10755-1709836200-1709854200@carolinadragway.com
SUMMARY:Test-N-Tune/Grudge Racing
DESCRIPTION:
URL:https://carolinadragway.com/event/test-n-tune-grudge-racing/
LOCATION:Carolina Dragway\, 302 Dragstrip Road\, Aiken\, SC\, 29803\, United States
CATEGORIES:Test-n-Tune
ORGANIZER;CN="Carolina Dragway":MAILTO:info@carolinadragway.com
END:VEVENT
BEGIN:VEVENT
DTSTART;VALUE=DATE:20241026
DTEND;VALUE=DATE:20241027
DTSTAMP:20260424T225142
CREATED:20231204T194549Z
LAST-MODIFIED:20241024T144238Z
UID:10744-1729900800-1729987199@carolinadragway.com
SUMMARY:All Out 3: Import vs Muscle & Trunk or Treat
DESCRIPTION:
URL:https://carolinadragway.com/event/all-out-3-import-vs-muscle/
LOCATION:Carolina Dragway\, 302 Dragstrip Road\, Aiken\, SC\, 29803\, United States
CATEGORIES:Heads-Up Races,No-Time/Grudge Races
ORGANIZER;CN="All Out Import vs Muscle":MAILTO:alloutimportvsmuscle@gmail.com
END:VEVENT
END:VCALENDAR