BEGIN:VCALENDAR
VERSION:2.0
PRODID:-//Carolina Dragway &quot;The House of Hook&quot; in Aiken, SC - ECPv6.15.20//NONSGML v1.0//EN
CALSCALE:GREGORIAN
METHOD:PUBLISH
X-ORIGINAL-URL:https://carolinadragway.com
X-WR-CALDESC:Events for Carolina Dragway &quot;The House of Hook&quot; in Aiken, SC
REFRESH-INTERVAL;VALUE=DURATION:PT1H
X-Robots-Tag:noindex
X-PUBLISHED-TTL:PT1H
BEGIN:VTIMEZONE
TZID:America/New_York
BEGIN:DAYLIGHT
TZOFFSETFROM:-0500
TZOFFSETTO:-0400
TZNAME:EDT
DTSTART:20220313T070000
END:DAYLIGHT
BEGIN:STANDARD
TZOFFSETFROM:-0400
TZOFFSETTO:-0500
TZNAME:EST
DTSTART:20221106T060000
END:STANDARD
BEGIN:DAYLIGHT
TZOFFSETFROM:-0500
TZOFFSETTO:-0400
TZNAME:EDT
DTSTART:20230312T070000
END:DAYLIGHT
BEGIN:STANDARD
TZOFFSETFROM:-0400
TZOFFSETTO:-0500
TZNAME:EST
DTSTART:20231105T060000
END:STANDARD
BEGIN:DAYLIGHT
TZOFFSETFROM:-0500
TZOFFSETTO:-0400
TZNAME:EDT
DTSTART:20240310T070000
END:DAYLIGHT
BEGIN:STANDARD
TZOFFSETFROM:-0400
TZOFFSETTO:-0500
TZNAME:EST
DTSTART:20241103T060000
END:STANDARD
END:VTIMEZONE
BEGIN:VEVENT
DTSTART;VALUE=DATE:20231209
DTEND;VALUE=DATE:20231210
DTSTAMP:20260425T111908
CREATED:20230110T220639Z
LAST-MODIFIED:20231130T195417Z
UID:9449-1702080000-1702166399@carolinadragway.com
SUMMARY:Coffee & Cars / Test-N-Tune
DESCRIPTION:For more information\, PLEASE VISIT CoffeeAndCarsAugusta.com/ or facebook.com/CoffeeandCarsAugusta/.
URL:https://carolinadragway.com/event/coffee-cars-test-n-tune-8/
LOCATION:Carolina Dragway\, 302 Dragstrip Road\, Aiken\, SC\, 29803\, United States
CATEGORIES:Other Events,Test-n-Tune
ORGANIZER;CN="Coffee and Cars Augusta":MAILTO:coffeeandcarsaugusta@gmail.com
END:VEVENT
BEGIN:VEVENT
DTSTART;TZID=America/New_York:20231216T110000
DTEND;TZID=America/New_York:20231216T220000
DTSTAMP:20260425T111908
CREATED:20230720T181558Z
LAST-MODIFIED:20230720T181559Z
UID:10470-1702724400-1702764000@carolinadragway.com
SUMMARY:3rd Annual Burnouts for Kids
DESCRIPTION:The 3rd annual BURNOUTS FOR KIDS is back at Carolina Dragway and will feature a burnout contest with a $10\,000 guaranteed payout to the winner! Contest will be judged by 10 celebrity judges. Judges will score participants after each run with scorecards ranging from 0-10. The contestant with the highest accumulative score at the end will be declared the winner. In the event of a tie\, the crowd will decide the winner. This year we will be splitting all proceeds and donations to The Children’s Hospital of Georgia & Doctors Hospital. Last year we raised a little over $26\,000!!! We have set a goal of $50K this year\, with your support we hope to crush that goal!\n \n-Gates open at 11:00AM\n-Test & Tune from 12:00-5:30PM\n-Show Judging 4:00PM\n-Burnout Competition 7:30PM\n-Fireworks at completion of Burnout Competition\n-Show & competition awards immediately following fireworks display.\n \nThis is a family friendly event. $10k Burnout Contest\, Open Test-n-Tune\, Car/Truck/Motorcycle show\, Inflatables for kids and food trucks on site! Like all of our events we will end the night with a firework display! There will be a zero tolerance for anyone getting out of hand. No reckless driving in parking lots\, burnouts (spectators)\, excessive revving etc. Security will be on site and you will be removed. Please be respectful as well when leaving the event.
URL:https://carolinadragway.com/event/3rd-annual-burnouts-for-kids/
LOCATION:Carolina Dragway\, 302 Dragstrip Road\, Aiken\, SC\, 29803\, United States
CATEGORIES:Other Events
ATTACH;FMTTYPE=image/jpeg:https://carolinadragway.com/wp-content/uploads/2023/07/361943137_107167159123740_1781047448040473107_n.jpg
ORGANIZER;CN="Bring It Back Meets":MAILTO:nateprater3@gmail.com
END:VEVENT
END:VCALENDAR