BEGIN:VCALENDAR
VERSION:2.0
PRODID:-//Carolina Dragway &quot;The House of Hook&quot; in Aiken, SC - ECPv6.15.20//NONSGML v1.0//EN
CALSCALE:GREGORIAN
METHOD:PUBLISH
X-WR-CALNAME:Carolina Dragway &quot;The House of Hook&quot; in Aiken, SC
X-ORIGINAL-URL:https://carolinadragway.com
X-WR-CALDESC:Events for Carolina Dragway &quot;The House of Hook&quot; in Aiken, SC
REFRESH-INTERVAL;VALUE=DURATION:PT1H
X-Robots-Tag:noindex
X-PUBLISHED-TTL:PT1H
BEGIN:VTIMEZONE
TZID:America/New_York
BEGIN:DAYLIGHT
TZOFFSETFROM:-0500
TZOFFSETTO:-0400
TZNAME:EDT
DTSTART:20240310T070000
END:DAYLIGHT
BEGIN:STANDARD
TZOFFSETFROM:-0400
TZOFFSETTO:-0500
TZNAME:EST
DTSTART:20241103T060000
END:STANDARD
BEGIN:DAYLIGHT
TZOFFSETFROM:-0500
TZOFFSETTO:-0400
TZNAME:EDT
DTSTART:20250309T070000
END:DAYLIGHT
BEGIN:STANDARD
TZOFFSETFROM:-0400
TZOFFSETTO:-0500
TZNAME:EST
DTSTART:20251102T060000
END:STANDARD
BEGIN:DAYLIGHT
TZOFFSETFROM:-0500
TZOFFSETTO:-0400
TZNAME:EDT
DTSTART:20260308T070000
END:DAYLIGHT
BEGIN:STANDARD
TZOFFSETFROM:-0400
TZOFFSETTO:-0500
TZNAME:EST
DTSTART:20261101T060000
END:STANDARD
END:VTIMEZONE
BEGIN:VEVENT
DTSTART;TZID=America/New_York:20250717T183000
DTEND;TZID=America/New_York:20250717T233000
DTSTAMP:20260424T091226
CREATED:20250206T155430Z
LAST-MODIFIED:20250206T155430Z
UID:11842-1752777000-1752795000@carolinadragway.com
SUMMARY:TEST & TUNE
DESCRIPTION:Gates Open 6:30 PM \nSpectators: $20 \nKids 12 & Under: Free \nTech Cards: $30 
URL:https://carolinadragway.com/event/test-tune-19/
CATEGORIES:Test-n-Tune
END:VEVENT
BEGIN:VEVENT
DTSTART;TZID=America/New_York:20250711T183000
DTEND;TZID=America/New_York:20250711T233000
DTSTAMP:20260424T091227
CREATED:20250708T150209Z
LAST-MODIFIED:20250708T150235Z
UID:12543-1752258600-1752276600@carolinadragway.com
SUMMARY:Baby Gangstas No Prep
DESCRIPTION:  \nGATES OPEN AT 6:30PM \nTRACK HOT AT 7PM \n$10 DOLLAR ADMISSION \n$20 TO RACE
URL:https://carolinadragway.com/event/baby-gangstas-no-prep/
END:VEVENT
BEGIN:VEVENT
DTSTART;TZID=America/New_York:20250710T183000
DTEND;TZID=America/New_York:20250710T233000
DTSTAMP:20260424T091227
CREATED:20250206T155333Z
LAST-MODIFIED:20250206T155333Z
UID:11840-1752172200-1752190200@carolinadragway.com
SUMMARY:TEST & TUNE
DESCRIPTION:Gates Open 6:30 PM \nSpectators: $20 \nKids 12 & Under: Free \nTech Cards: $30 
URL:https://carolinadragway.com/event/test-tune-18/
CATEGORIES:Test-n-Tune
END:VEVENT
BEGIN:VEVENT
DTSTART;TZID=America/New_York:20250705T160000
DTEND;TZID=America/New_York:20250705T160000
DTSTAMP:20260424T091227
CREATED:20250206T182606Z
LAST-MODIFIED:20250414T123223Z
UID:11907-1751731200-1751731200@carolinadragway.com
SUMMARY:Closed
DESCRIPTION:
URL:https://carolinadragway.com/event/coffee-cars-4/
END:VEVENT
BEGIN:VEVENT
DTSTART;TZID=America/New_York:20250703T183000
DTEND;TZID=America/New_York:20250703T233000
DTSTAMP:20260424T091227
CREATED:20250205T213116Z
LAST-MODIFIED:20250701T191842Z
UID:11834-1751567400-1751585400@carolinadragway.com
SUMMARY:TEST & TUNE ***FIREWORKS SHOW***
DESCRIPTION:***FIREWORKS SHOW*** \nGates Open 6:30 PM \nSpectators: $20 \nKids 12 & Under: Free \nTech Cards: $30 
URL:https://carolinadragway.com/event/test-tune-17/
CATEGORIES:Test-n-Tune
END:VEVENT
BEGIN:VEVENT
DTSTART;TZID=America/New_York:20250628T080000
DTEND;TZID=America/New_York:20250629T120000
DTSTAMP:20260424T091227
CREATED:20250206T182543Z
LAST-MODIFIED:20250528T190207Z
UID:11905-1751097600-1751198400@carolinadragway.com
SUMMARY:Summit Bracket Series Races 7 & 8
DESCRIPTION:GATES OPEN @8AM \nTIME TRIALS START @1OAM \nSPECTATORS $20
URL:https://carolinadragway.com/event/summit-bracket-series-races-7-8-2/
END:VEVENT
BEGIN:VEVENT
DTSTART;TZID=America/New_York:20250626T183000
DTEND;TZID=America/New_York:20250626T233000
DTSTAMP:20260424T091227
CREATED:20250205T195510Z
LAST-MODIFIED:20250205T195510Z
UID:11831-1750962600-1750980600@carolinadragway.com
SUMMARY:TEST & TUNE
DESCRIPTION:Gates Open 6:30 PM \nSpectators: $20 \nKids 12 & Under: Free \nTech Cards: $30 
URL:https://carolinadragway.com/event/test-tune-16/
CATEGORIES:Test-n-Tune
END:VEVENT
BEGIN:VEVENT
DTSTART;TZID=America/New_York:20250621T170000
DTEND;TZID=America/New_York:20250621T233000
DTSTAMP:20260424T091227
CREATED:20250206T182505Z
LAST-MODIFIED:20250611T165146Z
UID:11903-1750525200-1750548600@carolinadragway.com
SUMMARY:Keefa & Stephen Clay's King of the South
DESCRIPTION:  \n \nGATES OPEN @5 PM \nTRACK GOES HOT @6 PM \nADMISSION $25 \nTECH CARDS $30
URL:https://carolinadragway.com/event/q-stephen-clays-king-of-the-south/
END:VEVENT
BEGIN:VEVENT
DTSTART;TZID=America/New_York:20250619T183000
DTEND;TZID=America/New_York:20250619T233000
DTSTAMP:20260424T091227
CREATED:20250205T195444Z
LAST-MODIFIED:20250205T195444Z
UID:11829-1750357800-1750375800@carolinadragway.com
SUMMARY:TEST & TUNE
DESCRIPTION:Gates Open 6:30 PM \nSpectators: $20 \nKids 12 & Under: Free \nTech Cards: $30 
URL:https://carolinadragway.com/event/test-tune-15/
CATEGORIES:Test-n-Tune
END:VEVENT
BEGIN:VEVENT
DTSTART;TZID=America/New_York:20250614T150000
DTEND;TZID=America/New_York:20250614T233000
DTSTAMP:20260424T091227
CREATED:20250611T162302Z
LAST-MODIFIED:20250611T162505Z
UID:12425-1749913200-1749943800@carolinadragway.com
SUMMARY:TRIGGAMAN RACING NO MEDICATION IX
DESCRIPTION:GATES OPEN @3 PM \nTRACK GOES HOT @5 PM \nADMISSION $30 \nTECH CARD $40 \n 
URL:https://carolinadragway.com/event/triggaman-racing-no-medication-ix/
END:VEVENT
BEGIN:VEVENT
DTSTART;TZID=America/New_York:20250613T150000
DTEND;TZID=America/New_York:20250613T233000
DTSTAMP:20260424T091227
CREATED:20250423T131206Z
LAST-MODIFIED:20250611T162435Z
UID:12204-1749826800-1749857400@carolinadragway.com
SUMMARY:No Medication IX - Triggaman Productions
DESCRIPTION:GATES OPEN @3PM \nTRACK GOES HOT @6PM \nADMISSION $30 \nTECH CARD $40
URL:https://carolinadragway.com/event/no-medication-triggaman-productions/
END:VEVENT
BEGIN:VEVENT
DTSTART;TZID=America/New_York:20250612T183000
DTEND;TZID=America/New_York:20250612T233000
DTSTAMP:20260424T091227
CREATED:20250205T195416Z
LAST-MODIFIED:20250205T195416Z
UID:11827-1749753000-1749771000@carolinadragway.com
SUMMARY:TEST & TUNE
DESCRIPTION:Gates Open 6:30 PM \nSpectators: $20 \nKids 12 & Under: Free \nTech Cards: $30 
URL:https://carolinadragway.com/event/test-tune-14/
CATEGORIES:Test-n-Tune
END:VEVENT
BEGIN:VEVENT
DTSTART;TZID=America/New_York:20250607T160000
DTEND;TZID=America/New_York:20250607T220000
DTSTAMP:20260424T091227
CREATED:20250206T182425Z
LAST-MODIFIED:20250519T195510Z
UID:11901-1749312000-1749333600@carolinadragway.com
SUMMARY:Coffee & Cars
DESCRIPTION:
URL:https://carolinadragway.com/event/to-be-announced/
END:VEVENT
BEGIN:VEVENT
DTSTART;TZID=America/New_York:20250605T183000
DTEND;TZID=America/New_York:20250605T233000
DTSTAMP:20260424T091227
CREATED:20250205T195352Z
LAST-MODIFIED:20250414T130911Z
UID:11825-1749148200-1749166200@carolinadragway.com
SUMMARY:TEST & TUNE- (KING OF THE TRACK WEATHER PERMITTING)
DESCRIPTION:Gates Open 6:30 PM \nSpectators: $20 \nKids 12 & Under: Free \nTech Cards: $30 
URL:https://carolinadragway.com/event/test-tune-13/
CATEGORIES:Test-n-Tune
END:VEVENT
BEGIN:VEVENT
DTSTART;TZID=America/New_York:20250531T090000
DTEND;TZID=America/New_York:20250531T120000
DTSTAMP:20260424T091227
CREATED:20250206T182400Z
LAST-MODIFIED:20250528T173554Z
UID:11899-1748682000-1748692800@carolinadragway.com
SUMMARY:CANCELLED DUE TO WEATHER - No Mercy Grudge Fest Hosted By Grudge Bike Outlaws
DESCRIPTION:
URL:https://carolinadragway.com/event/no-mercy-grudge-fest-hosted-by-grudge-bike-outlaws/
END:VEVENT
BEGIN:VEVENT
DTSTART;TZID=America/New_York:20250530T183000
DTEND;TZID=America/New_York:20250530T183000
DTSTAMP:20260424T091227
CREATED:20250515T192844Z
LAST-MODIFIED:20250515T192923Z
UID:12295-1748629800-1748629800@carolinadragway.com
SUMMARY:Test & Tune
DESCRIPTION:
URL:https://carolinadragway.com/event/test-tune-38/
END:VEVENT
BEGIN:VEVENT
DTSTART;TZID=America/New_York:20250529T183000
DTEND;TZID=America/New_York:20250529T233000
DTSTAMP:20260424T091227
CREATED:20250205T195253Z
LAST-MODIFIED:20250205T195253Z
UID:11823-1748543400-1748561400@carolinadragway.com
SUMMARY:TEST & TUNE
DESCRIPTION:Gates Open 6:30 PM \nSpectators: $20 \nKids 12 & Under: Free \nTech Cards: $30 
URL:https://carolinadragway.com/event/test-tune-12/
CATEGORIES:Test-n-Tune
END:VEVENT
BEGIN:VEVENT
DTSTART;TZID=America/New_York:20250524T080000
DTEND;TZID=America/New_York:20250525T120000
DTSTAMP:20260424T091227
CREATED:20250206T182325Z
LAST-MODIFIED:20250519T195406Z
UID:11897-1748073600-1748174400@carolinadragway.com
SUMMARY:Summit Bracket Series Races 5 & 6
DESCRIPTION:
URL:https://carolinadragway.com/event/summit-bracket-series-races-5-6-2/
END:VEVENT
BEGIN:VEVENT
DTSTART;TZID=America/New_York:20250522T183000
DTEND;TZID=America/New_York:20250522T233000
DTSTAMP:20260424T091227
CREATED:20250205T195224Z
LAST-MODIFIED:20250205T195224Z
UID:11821-1747938600-1747956600@carolinadragway.com
SUMMARY:TEST & TUNE
DESCRIPTION:Gates Open 6:30 PM \nSpectators: $20 \nKids 12 & Under: Free \nTech Cards: $30 
URL:https://carolinadragway.com/event/test-tune-11/
CATEGORIES:Test-n-Tune
END:VEVENT
BEGIN:VEVENT
DTSTART;TZID=America/New_York:20250515T183000
DTEND;TZID=America/New_York:20250515T233000
DTSTAMP:20260424T091227
CREATED:20250205T195157Z
LAST-MODIFIED:20250205T195157Z
UID:11818-1747333800-1747351800@carolinadragway.com
SUMMARY:TEST & TUNE
DESCRIPTION:Gates Open 6:30 PM \nSpectators: $20 \nKids 12 & Under: Free \nTech Cards: $30 
URL:https://carolinadragway.com/event/test-tune-10/
CATEGORIES:Test-n-Tune
END:VEVENT
BEGIN:VEVENT
DTSTART;TZID=America/New_York:20250508T183000
DTEND;TZID=America/New_York:20250508T233000
DTSTAMP:20260424T091227
CREATED:20250205T195130Z
LAST-MODIFIED:20250205T195130Z
UID:11816-1746729000-1746747000@carolinadragway.com
SUMMARY:TEST & TUNE
DESCRIPTION:Gates Open 6:30 PM \nSpectators: $20 \nKids 12 & Under: Free \nTech Cards: $30 
URL:https://carolinadragway.com/event/test-tune-9/
CATEGORIES:Test-n-Tune
END:VEVENT
BEGIN:VEVENT
DTSTART;TZID=America/New_York:20250508T183000
DTEND;TZID=America/New_York:20250508T233000
DTSTAMP:20260424T091227
CREATED:20250205T194950Z
LAST-MODIFIED:20250428T130532Z
UID:11811-1746729000-1746747000@carolinadragway.com
SUMMARY:TEST & TUNE- (KING OF THE TRACK WEATHER PERMITTING)
DESCRIPTION:Gates Open 6:30 PM \nSpectators: $20 \nKids 12 & Under: Free \nTech Cards: $30 
URL:https://carolinadragway.com/event/test-tune-8/
CATEGORIES:Test-n-Tune
END:VEVENT
BEGIN:VEVENT
DTSTART;TZID=America/New_York:20250503T080000
DTEND;TZID=America/New_York:20250504T120000
DTSTAMP:20260424T091227
CREATED:20250206T182206Z
LAST-MODIFIED:20250423T130358Z
UID:11891-1746259200-1746360000@carolinadragway.com
SUMMARY:Night Of Fire / NHRA Division 2 National Open
DESCRIPTION:**NO CHECKS WILL BE ACCEPTED** \nTHIS EVENT WILL BE PAY AT THE GATE\, WITH ONLINE TECH CARD LINK AT NHRA SOUTHEAST DIVISION 2 WEBSITE. \nGOLF CARTS- $20.00 PER DAY \n 
URL:https://carolinadragway.com/event/night-of-fire/
END:VEVENT
BEGIN:VEVENT
DTSTART;TZID=America/New_York:20250502T100000
DTEND;TZID=America/New_York:20250502T233000
DTSTAMP:20260424T091227
CREATED:20250407T182158Z
LAST-MODIFIED:20250423T130329Z
UID:12113-1746180000-1746228600@carolinadragway.com
SUMMARY:Open Test-n-Tune (Alcohol Funny Cars & Nitro Fuel Altereds Will Be Testing)
DESCRIPTION:GATES OPEN AT 10AM  \nTEST & TUNE TRACK GOES HOT @5 \n**NO CHECKS WILL BE ACCEPTED** \nTHIS EVENT WILL BE PAY AT THE GATE\, WITH ONLINE TECH CARD LINK AT NHRA SOUTHEAST DIVISION 2 WEBSITE. \nGOLF CARTS- $20.00 PER DAY
URL:https://carolinadragway.com/event/test-n-tune/
END:VEVENT
BEGIN:VEVENT
DTSTART;TZID=America/New_York:20250426T080000
DTEND;TZID=America/New_York:20250427T220000
DTSTAMP:20260424T091227
CREATED:20250206T182139Z
LAST-MODIFIED:20250423T130228Z
UID:11889-1745654400-1745791200@carolinadragway.com
SUMMARY:Summit Bracket Series Races 3 & 4
DESCRIPTION:SPECTATORS – $20.00 PER DAY
URL:https://carolinadragway.com/event/summit-bracket-series-races-3-4-2/
END:VEVENT
BEGIN:VEVENT
DTSTART;TZID=America/New_York:20250424T183000
DTEND;TZID=America/New_York:20250424T233000
DTSTAMP:20260424T091227
CREATED:20250205T194907Z
LAST-MODIFIED:20250205T194923Z
UID:11808-1745519400-1745537400@carolinadragway.com
SUMMARY:TEST & TUNE
DESCRIPTION:Gates Open 6:30 PM \nSpectators: $20 \nKids 12 & Under: Free \nTech Cards: $30 
URL:https://carolinadragway.com/event/test-tune-duplicated-3/
CATEGORIES:Test-n-Tune
END:VEVENT
BEGIN:VEVENT
DTSTART;TZID=America/New_York:20250419T000000
DTEND;TZID=America/New_York:20250419T120000
DTSTAMP:20260424T091227
CREATED:20250206T162216Z
LAST-MODIFIED:20250217T203450Z
UID:11887-1745020800-1745064000@carolinadragway.com
SUMMARY:Last Man Standing Triggaman Productions
DESCRIPTION:
URL:https://carolinadragway.com/event/last-man-standing-triggaman-productions/
END:VEVENT
BEGIN:VEVENT
DTSTART;TZID=America/New_York:20250417T183000
DTEND;TZID=America/New_York:20250417T233000
DTSTAMP:20260424T091227
CREATED:20250205T194609Z
LAST-MODIFIED:20250205T194726Z
UID:11806-1744914600-1744932600@carolinadragway.com
SUMMARY:TEST & TUNE
DESCRIPTION:Gates Open 6:30 PM \nSpectators: $20 \nKids 12 & Under: Free \nTech Cards: $30 
URL:https://carolinadragway.com/event/test-tune-7/
CATEGORIES:Test-n-Tune
END:VEVENT
BEGIN:VEVENT
DTSTART;TZID=America/New_York:20250412T000000
DTEND;TZID=America/New_York:20250412T120000
DTSTAMP:20260424T091227
CREATED:20250204T202204Z
LAST-MODIFIED:20250402T153440Z
UID:11772-1744416000-1744459200@carolinadragway.com
SUMMARY:Die Hard Day
DESCRIPTION:
URL:https://carolinadragway.com/event/die-hard-day/
END:VEVENT
BEGIN:VEVENT
DTSTART;TZID=America/New_York:20250410T183000
DTEND;TZID=America/New_York:20250410T233000
DTSTAMP:20260424T091227
CREATED:20250205T194305Z
LAST-MODIFIED:20250205T194719Z
UID:11799-1744309800-1744327800@carolinadragway.com
SUMMARY:TEST & TUNE
DESCRIPTION:Gates Open 6:30 PM \nSpectators: $20 \nKids 12 & Under: Free \nTech Cards: $30 
URL:https://carolinadragway.com/event/test-tune-6/
CATEGORIES:Test-n-Tune
END:VEVENT
END:VCALENDAR