BEGIN:VCALENDAR
VERSION:2.0
PRODID:-//Carolina Dragway &quot;The House of Hook&quot; in Aiken, SC - ECPv6.15.20//NONSGML v1.0//EN
CALSCALE:GREGORIAN
METHOD:PUBLISH
X-WR-CALNAME:Carolina Dragway &quot;The House of Hook&quot; in Aiken, SC
X-ORIGINAL-URL:https://carolinadragway.com
X-WR-CALDESC:Events for Carolina Dragway &quot;The House of Hook&quot; in Aiken, SC
REFRESH-INTERVAL;VALUE=DURATION:PT1H
X-Robots-Tag:noindex
X-PUBLISHED-TTL:PT1H
BEGIN:VTIMEZONE
TZID:America/New_York
BEGIN:DAYLIGHT
TZOFFSETFROM:-0500
TZOFFSETTO:-0400
TZNAME:EDT
DTSTART:20240310T070000
END:DAYLIGHT
BEGIN:STANDARD
TZOFFSETFROM:-0400
TZOFFSETTO:-0500
TZNAME:EST
DTSTART:20241103T060000
END:STANDARD
BEGIN:DAYLIGHT
TZOFFSETFROM:-0500
TZOFFSETTO:-0400
TZNAME:EDT
DTSTART:20250309T070000
END:DAYLIGHT
BEGIN:STANDARD
TZOFFSETFROM:-0400
TZOFFSETTO:-0500
TZNAME:EST
DTSTART:20251102T060000
END:STANDARD
BEGIN:DAYLIGHT
TZOFFSETFROM:-0500
TZOFFSETTO:-0400
TZNAME:EDT
DTSTART:20260308T070000
END:DAYLIGHT
BEGIN:STANDARD
TZOFFSETFROM:-0400
TZOFFSETTO:-0500
TZNAME:EST
DTSTART:20261101T060000
END:STANDARD
END:VTIMEZONE
BEGIN:VEVENT
DTSTART;TZID=America/New_York:20251009T183000
DTEND;TZID=America/New_York:20251009T233000
DTSTAMP:20260423T184152
CREATED:20250206T160413Z
LAST-MODIFIED:20250206T160413Z
UID:11866-1760034600-1760052600@carolinadragway.com
SUMMARY:TEST & TUNE
DESCRIPTION:Gates Open 6:30 PM \nSpectators: $20 \nKids 12 & Under: Free \nTech Cards: $30 
URL:https://carolinadragway.com/event/test-tune-31/
CATEGORIES:Test-n-Tune
END:VEVENT
BEGIN:VEVENT
DTSTART;TZID=America/New_York:20251004T080000
DTEND;TZID=America/New_York:20251004T170000
DTSTAMP:20260423T184152
CREATED:20250717T151155Z
LAST-MODIFIED:20250717T151155Z
UID:12565-1759564800-1759597200@carolinadragway.com
SUMMARY:Incident Response Program Training Opportunity
DESCRIPTION:OCTOBER 4TH\, 2025 \n8AM TO 5PM \n$40 PER PERSON \nONE DAY TRAINING \nREGISTRATION LINK QR CODE IN PHOTO
URL:https://carolinadragway.com/event/incident-response-program-training-opportunity/
END:VEVENT
BEGIN:VEVENT
DTSTART;TZID=America/New_York:20251002T183000
DTEND;TZID=America/New_York:20251002T233000
DTSTAMP:20260423T184152
CREATED:20250206T160310Z
LAST-MODIFIED:20250206T160310Z
UID:11864-1759429800-1759447800@carolinadragway.com
SUMMARY:TEST & TUNE
DESCRIPTION:Gates Open 6:30 PM \nSpectators: $20 \nKids 12 & Under: Free \nTech Cards: $30 
URL:https://carolinadragway.com/event/test-tune-30/
CATEGORIES:Test-n-Tune
END:VEVENT
BEGIN:VEVENT
DTSTART;TZID=America/New_York:20250925T183000
DTEND;TZID=America/New_York:20250925T233000
DTSTAMP:20260423T184152
CREATED:20250206T160241Z
LAST-MODIFIED:20250206T160241Z
UID:11862-1758825000-1758843000@carolinadragway.com
SUMMARY:TEST & TUNE
DESCRIPTION:Gates Open 6:30 PM \nSpectators: $20 \nKids 12 & Under: Free \nTech Cards: $30 
URL:https://carolinadragway.com/event/test-tune-29/
CATEGORIES:Test-n-Tune
END:VEVENT
BEGIN:VEVENT
DTSTART;TZID=America/New_York:20250920T160000
DTEND;TZID=America/New_York:20250920T233000
DTSTAMP:20260423T184152
CREATED:20250206T182947Z
LAST-MODIFIED:20250828T131822Z
UID:11923-1758384000-1758411000@carolinadragway.com
SUMMARY:Mike Hill's Grudge Fest
DESCRIPTION:Gates open: 12noon for parking \nSpectator Fee: $30 \nTNT/Tech Cards: $40 \nTrack’s Hot: 4pm \nDrivers Meeting: 6pm \nShoot-out Start: 7-7:30pm
URL:https://carolinadragway.com/event/mike-hills-grudge-fest/
END:VEVENT
BEGIN:VEVENT
DTSTART;TZID=America/New_York:20250918T183000
DTEND;TZID=America/New_York:20250918T233000
DTSTAMP:20260423T184152
CREATED:20250206T160146Z
LAST-MODIFIED:20250206T160146Z
UID:11860-1758220200-1758238200@carolinadragway.com
SUMMARY:TEST & TUNE
DESCRIPTION:Gates Open 6:30 PM \nSpectators: $20 \nKids 12 & Under: Free \nTech Cards: $30 
URL:https://carolinadragway.com/event/test-tune-28/
CATEGORIES:Test-n-Tune
END:VEVENT
BEGIN:VEVENT
DTSTART;TZID=America/New_York:20250911T183000
DTEND;TZID=America/New_York:20250911T233000
DTSTAMP:20260423T184152
CREATED:20250206T160109Z
LAST-MODIFIED:20250206T160109Z
UID:11858-1757615400-1757633400@carolinadragway.com
SUMMARY:TEST & TUNE
DESCRIPTION:Gates Open 6:30 PM \nSpectators: $20 \nKids 12 & Under: Free \nTech Cards: $30 
URL:https://carolinadragway.com/event/test-tune-27/
CATEGORIES:Test-n-Tune
END:VEVENT
BEGIN:VEVENT
DTSTART;TZID=America/New_York:20250906T160000
DTEND;TZID=America/New_York:20250906T220000
DTSTAMP:20260423T184152
CREATED:20250206T182844Z
LAST-MODIFIED:20250904T174326Z
UID:11919-1757174400-1757196000@carolinadragway.com
SUMMARY:Coffee & Cars
DESCRIPTION:
URL:https://carolinadragway.com/event/coffee-cars-5/
END:VEVENT
BEGIN:VEVENT
DTSTART;TZID=America/New_York:20250904T183000
DTEND;TZID=America/New_York:20250904T233000
DTSTAMP:20260423T184152
CREATED:20250206T160029Z
LAST-MODIFIED:20250414T123950Z
UID:11856-1757010600-1757028600@carolinadragway.com
SUMMARY:TEST & TUNE - (KING OF THE TRACK WEATHER PERMITTING)
DESCRIPTION:Gates Open 6:30 PM \nSpectators: $20 \nKids 12 & Under: Free \nTech Cards: $30 
URL:https://carolinadragway.com/event/test-tune-26/
CATEGORIES:Test-n-Tune
END:VEVENT
BEGIN:VEVENT
DTSTART;TZID=America/New_York:20250830T170000
DTEND;TZID=America/New_York:20250830T233000
DTSTAMP:20260423T184152
CREATED:20250206T182824Z
LAST-MODIFIED:20250821T194640Z
UID:11917-1756573200-1756596600@carolinadragway.com
SUMMARY:Q's Labor Day Bash
DESCRIPTION:Event Information \nAdmission $25.00 \nTech Cards $30.00 \nKids 10/ Under Free \n 
URL:https://carolinadragway.com/event/qs-labor-day-bash/
END:VEVENT
BEGIN:VEVENT
DTSTART;TZID=America/New_York:20250828T183000
DTEND;TZID=America/New_York:20250828T233000
DTSTAMP:20260423T184152
CREATED:20250206T155941Z
LAST-MODIFIED:20250206T155941Z
UID:11854-1756405800-1756423800@carolinadragway.com
SUMMARY:TEST & TUNE
DESCRIPTION:Gates Open 6:30 PM \nSpectators: $20 \nKids 12 & Under: Free \nTech Cards: $30 
URL:https://carolinadragway.com/event/test-tune-25/
CATEGORIES:Test-n-Tune
END:VEVENT
BEGIN:VEVENT
DTSTART;TZID=America/New_York:20250824T080000
DTEND;TZID=America/New_York:20250824T180000
DTSTAMP:20260423T184152
CREATED:20250728T193136Z
LAST-MODIFIED:20250821T182100Z
UID:12604-1756022400-1756058400@carolinadragway.com
SUMMARY:Southeast Division 2 - 1/8 Mile Racing (CANCELED DUE TO WEATHER)
DESCRIPTION:Gates open @ 8am \nTime Runs/Qualifying @ 9am \nEliminations @11 am \nEvent Entry Fee…… Per Race…. $160 \nTest & Tune …… $75 \nCrew Weekend…… $50 \nSpectator: …… Sat $20\, Sun $20 \nJunior Entry Fee Per Race …… $100
URL:https://carolinadragway.com/event/southeast-division-2-1-8-mile-racing-2/
END:VEVENT
BEGIN:VEVENT
DTSTART;TZID=America/New_York:20250823T073000
DTEND;TZID=America/New_York:20250823T233000
DTSTAMP:20260423T184152
CREATED:20250728T192819Z
LAST-MODIFIED:20250821T182129Z
UID:12602-1755934200-1755991800@carolinadragway.com
SUMMARY:Southeast Division 2 - 1/8 Mile Racing (CANCELED DUE TO WEATHER)
DESCRIPTION:Gates open @7:30AM \nTime Runs/Qualifying @9Am \nEliminations @ 12pm \nEvent Entry Fee…… Per Race…. $160 \nTest & Tune …… $75 \nCrew Weekend…… $50 \nSpectator: …… Sat $20\, Sun $20 \nJunior Entry Fee Per Race …… $100
URL:https://carolinadragway.com/event/southeast-division-2-1-8-mile-racing/
END:VEVENT
BEGIN:VEVENT
DTSTART;TZID=America/New_York:20250822T100000
DTEND;TZID=America/New_York:20250822T170000
DTSTAMP:20260423T184152
CREATED:20250728T145928Z
LAST-MODIFIED:20250821T182144Z
UID:12600-1755856800-1755882000@carolinadragway.com
SUMMARY:Southeast Division 2- Test & Tune (CANCELED DUE TO WEATHER)
DESCRIPTION:Gates Open @ 10AM \nTest N Tune 5pm-10pm \nEvent Entry Fee…… Per Race…. $160 \nTest & Tune …… $75 \nCrew Weekend…… $50 \nSpectator: …… Sat $20\, Sun $20 \nJunior Entry Fee Per Race …… $100
URL:https://carolinadragway.com/event/southeast-division-2-test-tune/
END:VEVENT
BEGIN:VEVENT
DTSTART;TZID=America/New_York:20250821T183000
DTEND;TZID=America/New_York:20250821T233000
DTSTAMP:20260423T184152
CREATED:20250206T155844Z
LAST-MODIFIED:20250206T155844Z
UID:11852-1755801000-1755819000@carolinadragway.com
SUMMARY:TEST & TUNE
DESCRIPTION:Gates Open 6:30 PM \nSpectators: $20 \nKids 12 & Under: Free \nTech Cards: $30 
URL:https://carolinadragway.com/event/test-tune-24/
CATEGORIES:Test-n-Tune
END:VEVENT
BEGIN:VEVENT
DTSTART;TZID=America/New_York:20250814T183000
DTEND;TZID=America/New_York:20250814T233000
DTSTAMP:20260423T184152
CREATED:20250206T155739Z
LAST-MODIFIED:20250206T155739Z
UID:11850-1755196200-1755214200@carolinadragway.com
SUMMARY:TEST & TUNE
DESCRIPTION:Gates Open 6:30 PM \nSpectators: $20 \nKids 12 & Under: Free \nTech Cards: $30 
URL:https://carolinadragway.com/event/test-tune-23/
CATEGORIES:Test-n-Tune
END:VEVENT
BEGIN:VEVENT
DTSTART;TZID=America/New_York:20250808T183000
DTEND;TZID=America/New_York:20250808T233000
DTSTAMP:20260423T184152
CREATED:20250804T195529Z
LAST-MODIFIED:20250804T195535Z
UID:12637-1754677800-1754695800@carolinadragway.com
SUMMARY:BABY GANGSTAS NO PREP
DESCRIPTION:
URL:https://carolinadragway.com/event/baby-gangstas-no-prep-2/
END:VEVENT
BEGIN:VEVENT
DTSTART;TZID=America/New_York:20250807T183000
DTEND;TZID=America/New_York:20250807T233000
DTSTAMP:20260423T184152
CREATED:20250206T155656Z
LAST-MODIFIED:20250414T124019Z
UID:11848-1754591400-1754609400@carolinadragway.com
SUMMARY:TEST & TUNE- (KING OF THE TRACK WEATHER PERMITTING)
DESCRIPTION:Gates Open 6:30 PM \nSpectators: $20 \nKids 12 & Under: Free \nTech Cards: $30 
URL:https://carolinadragway.com/event/test-tune-22/
CATEGORIES:Test-n-Tune
END:VEVENT
BEGIN:VEVENT
DTSTART;TZID=America/New_York:20250802T150000
DTEND;TZID=America/New_York:20250802T233000
DTSTAMP:20260423T184152
CREATED:20250206T182734Z
LAST-MODIFIED:20250731T205120Z
UID:11913-1754146800-1754177400@carolinadragway.com
SUMMARY:All Gas No Brakes Triggaman Productions
DESCRIPTION:GATES OPEN @ 3PM \nTRACK HOT @4PM \nADMISSION $30 \nKIDS 10 AND UNDER: FREE \nTECH CARDS $40 \nDRIVER MEETING @6PM \nSHOOTOUT STARTS @8PM
URL:https://carolinadragway.com/event/chris-tyrones-radial-fest/
END:VEVENT
BEGIN:VEVENT
DTSTART;TZID=America/New_York:20250731T183000
DTEND;TZID=America/New_York:20250731T233000
DTSTAMP:20260423T184152
CREATED:20250206T155600Z
LAST-MODIFIED:20250206T155600Z
UID:11846-1753986600-1754004600@carolinadragway.com
SUMMARY:TEST & TUNE
DESCRIPTION:Gates Open 6:30 PM \nSpectators: $20 \nKids 12 & Under: Free \nTech Cards: $30 
URL:https://carolinadragway.com/event/test-tune-21/
CATEGORIES:Test-n-Tune
END:VEVENT
BEGIN:VEVENT
DTSTART;TZID=America/New_York:20250726T080000
DTEND;TZID=America/New_York:20250727T120000
DTSTAMP:20260423T184152
CREATED:20250206T182707Z
LAST-MODIFIED:20250528T190033Z
UID:11911-1753516800-1753617600@carolinadragway.com
SUMMARY:Summit Series Bracket Races 9 & 10
DESCRIPTION:GATES OPEN @8AM \nTIME TRIALS START @1OAM \nSPECTATORS $20
URL:https://carolinadragway.com/event/summit-series-bracket-races-9-10/
END:VEVENT
BEGIN:VEVENT
DTSTART;TZID=America/New_York:20250724T183000
DTEND;TZID=America/New_York:20250724T233000
DTSTAMP:20260423T184152
CREATED:20250206T155525Z
LAST-MODIFIED:20250206T155525Z
UID:11844-1753381800-1753399800@carolinadragway.com
SUMMARY:TEST & TUNE
DESCRIPTION:Gates Open 6:30 PM \nSpectators: $20 \nKids 12 & Under: Free \nTech Cards: $30 
URL:https://carolinadragway.com/event/test-tune-20/
CATEGORIES:Test-n-Tune
END:VEVENT
BEGIN:VEVENT
DTSTART;TZID=America/New_York:20250717T183000
DTEND;TZID=America/New_York:20250717T233000
DTSTAMP:20260423T184152
CREATED:20250206T155430Z
LAST-MODIFIED:20250206T155430Z
UID:11842-1752777000-1752795000@carolinadragway.com
SUMMARY:TEST & TUNE
DESCRIPTION:Gates Open 6:30 PM \nSpectators: $20 \nKids 12 & Under: Free \nTech Cards: $30 
URL:https://carolinadragway.com/event/test-tune-19/
CATEGORIES:Test-n-Tune
END:VEVENT
BEGIN:VEVENT
DTSTART;TZID=America/New_York:20250711T183000
DTEND;TZID=America/New_York:20250711T233000
DTSTAMP:20260423T184152
CREATED:20250708T150209Z
LAST-MODIFIED:20250708T150235Z
UID:12543-1752258600-1752276600@carolinadragway.com
SUMMARY:Baby Gangstas No Prep
DESCRIPTION:  \nGATES OPEN AT 6:30PM \nTRACK HOT AT 7PM \n$10 DOLLAR ADMISSION \n$20 TO RACE
URL:https://carolinadragway.com/event/baby-gangstas-no-prep/
END:VEVENT
BEGIN:VEVENT
DTSTART;TZID=America/New_York:20250710T183000
DTEND;TZID=America/New_York:20250710T233000
DTSTAMP:20260423T184152
CREATED:20250206T155333Z
LAST-MODIFIED:20250206T155333Z
UID:11840-1752172200-1752190200@carolinadragway.com
SUMMARY:TEST & TUNE
DESCRIPTION:Gates Open 6:30 PM \nSpectators: $20 \nKids 12 & Under: Free \nTech Cards: $30 
URL:https://carolinadragway.com/event/test-tune-18/
CATEGORIES:Test-n-Tune
END:VEVENT
BEGIN:VEVENT
DTSTART;TZID=America/New_York:20250705T160000
DTEND;TZID=America/New_York:20250705T160000
DTSTAMP:20260423T184152
CREATED:20250206T182606Z
LAST-MODIFIED:20250414T123223Z
UID:11907-1751731200-1751731200@carolinadragway.com
SUMMARY:Closed
DESCRIPTION:
URL:https://carolinadragway.com/event/coffee-cars-4/
END:VEVENT
BEGIN:VEVENT
DTSTART;TZID=America/New_York:20250703T183000
DTEND;TZID=America/New_York:20250703T233000
DTSTAMP:20260423T184152
CREATED:20250205T213116Z
LAST-MODIFIED:20250701T191842Z
UID:11834-1751567400-1751585400@carolinadragway.com
SUMMARY:TEST & TUNE ***FIREWORKS SHOW***
DESCRIPTION:***FIREWORKS SHOW*** \nGates Open 6:30 PM \nSpectators: $20 \nKids 12 & Under: Free \nTech Cards: $30 
URL:https://carolinadragway.com/event/test-tune-17/
CATEGORIES:Test-n-Tune
END:VEVENT
BEGIN:VEVENT
DTSTART;TZID=America/New_York:20250628T080000
DTEND;TZID=America/New_York:20250629T120000
DTSTAMP:20260423T184152
CREATED:20250206T182543Z
LAST-MODIFIED:20250528T190207Z
UID:11905-1751097600-1751198400@carolinadragway.com
SUMMARY:Summit Bracket Series Races 7 & 8
DESCRIPTION:GATES OPEN @8AM \nTIME TRIALS START @1OAM \nSPECTATORS $20
URL:https://carolinadragway.com/event/summit-bracket-series-races-7-8-2/
END:VEVENT
BEGIN:VEVENT
DTSTART;TZID=America/New_York:20250626T183000
DTEND;TZID=America/New_York:20250626T233000
DTSTAMP:20260423T184152
CREATED:20250205T195510Z
LAST-MODIFIED:20250205T195510Z
UID:11831-1750962600-1750980600@carolinadragway.com
SUMMARY:TEST & TUNE
DESCRIPTION:Gates Open 6:30 PM \nSpectators: $20 \nKids 12 & Under: Free \nTech Cards: $30 
URL:https://carolinadragway.com/event/test-tune-16/
CATEGORIES:Test-n-Tune
END:VEVENT
BEGIN:VEVENT
DTSTART;TZID=America/New_York:20250621T170000
DTEND;TZID=America/New_York:20250621T233000
DTSTAMP:20260423T184152
CREATED:20250206T182505Z
LAST-MODIFIED:20250611T165146Z
UID:11903-1750525200-1750548600@carolinadragway.com
SUMMARY:Keefa & Stephen Clay's King of the South
DESCRIPTION:  \n \nGATES OPEN @5 PM \nTRACK GOES HOT @6 PM \nADMISSION $25 \nTECH CARDS $30
URL:https://carolinadragway.com/event/q-stephen-clays-king-of-the-south/
END:VEVENT
END:VCALENDAR