BEGIN:VCALENDAR
VERSION:2.0
PRODID:-//Carolina Dragway &quot;The House of Hook&quot; in Aiken, SC - ECPv6.15.20//NONSGML v1.0//EN
CALSCALE:GREGORIAN
METHOD:PUBLISH
X-WR-CALNAME:Carolina Dragway &quot;The House of Hook&quot; in Aiken, SC
X-ORIGINAL-URL:https://carolinadragway.com
X-WR-CALDESC:Events for Carolina Dragway &quot;The House of Hook&quot; in Aiken, SC
REFRESH-INTERVAL;VALUE=DURATION:PT1H
X-Robots-Tag:noindex
X-PUBLISHED-TTL:PT1H
BEGIN:VTIMEZONE
TZID:America/New_York
BEGIN:DAYLIGHT
TZOFFSETFROM:-0500
TZOFFSETTO:-0400
TZNAME:EDT
DTSTART:20210314T070000
END:DAYLIGHT
BEGIN:STANDARD
TZOFFSETFROM:-0400
TZOFFSETTO:-0500
TZNAME:EST
DTSTART:20211107T060000
END:STANDARD
BEGIN:DAYLIGHT
TZOFFSETFROM:-0500
TZOFFSETTO:-0400
TZNAME:EDT
DTSTART:20220313T070000
END:DAYLIGHT
BEGIN:STANDARD
TZOFFSETFROM:-0400
TZOFFSETTO:-0500
TZNAME:EST
DTSTART:20221106T060000
END:STANDARD
BEGIN:DAYLIGHT
TZOFFSETFROM:-0500
TZOFFSETTO:-0400
TZNAME:EDT
DTSTART:20230312T070000
END:DAYLIGHT
BEGIN:STANDARD
TZOFFSETFROM:-0400
TZOFFSETTO:-0500
TZNAME:EST
DTSTART:20231105T060000
END:STANDARD
BEGIN:DAYLIGHT
TZOFFSETFROM:-0500
TZOFFSETTO:-0400
TZNAME:EDT
DTSTART:20240310T070000
END:DAYLIGHT
BEGIN:STANDARD
TZOFFSETFROM:-0400
TZOFFSETTO:-0500
TZNAME:EST
DTSTART:20241103T060000
END:STANDARD
END:VTIMEZONE
BEGIN:VEVENT
DTSTART;TZID=America/New_York:20230211T080000
DTEND;TZID=America/New_York:20230211T170000
DTSTAMP:20260425T123929
CREATED:20221204T154301Z
LAST-MODIFIED:20230210T001552Z
UID:9100-1676102400-1676134800@carolinadragway.com
SUMMARY:Chassis Cert Day + JOB FAIR
DESCRIPTION:Click HERE to register for your chassis cert \nTHE TEST-N-TUNE PORTION OF THIS EVENT HAS BEEN CANCELED DUE TO WEATHER. \nThe chassis certs and job fair WILL still be held!
URL:https://carolinadragway.com/event/chassis-cert-day-test-n-tune/
LOCATION:Carolina Dragway\, 302 Dragstrip Road\, Aiken\, SC\, 29803\, United States
CATEGORIES:Other Events
ORGANIZER;CN="Carolina Dragway":MAILTO:info@carolinadragway.com
END:VEVENT
BEGIN:VEVENT
DTSTART;TZID=America/New_York:20221203T100000
DTEND;TZID=America/New_York:20221203T160000
DTSTAMP:20260425T123929
CREATED:20211227T155809Z
LAST-MODIFIED:20211227T155809Z
UID:6819-1670061600-1670083200@carolinadragway.com
SUMMARY:Coffee & Cars - Test N Tune
DESCRIPTION:
URL:https://carolinadragway.com/event/coffee-cars-test-n-tune-4/
LOCATION:Carolina Dragway\, 302 Dragstrip Road\, Aiken\, SC\, 29803\, United States
CATEGORIES:Other Events,Test-n-Tune
ATTACH;FMTTYPE=image/jpeg:https://carolinadragway.com/wp-content/uploads/2018/02/coffee-and-cars.jpg
ORGANIZER;CN="Carolina Dragway":MAILTO:info@carolinadragway.com
END:VEVENT
BEGIN:VEVENT
DTSTART;TZID=America/New_York:20221119T140000
DTEND;TZID=America/New_York:20221119T220000
DTSTAMP:20260425T123929
CREATED:20211227T155746Z
LAST-MODIFIED:20221105T174337Z
UID:6820-1668866400-1668895200@carolinadragway.com
SUMMARY:Bring it Back Meets' Burnouts for Kids
DESCRIPTION:Presented by East Coast Lighting\, Momentum Racing and Signs of Augusta! Our 2nd annual BURNOUTS FOR KIDS will feature a burnout contest with a $5000 guaranteed payout to the winner! Contest will be judged by 5 celebrity judges\n-Lyle Barnett\n-Stevie ‘FAST’ Jackson\n-Mike ‘HITMAN’ Hill\n-Donald ‘DUCK’ Long\n-Stephanie ‘BOSS X’ Long\n-Bryan ‘DUB’ Axelson\nJudges will score participants after each run with scorecards ranging from 0-10. The contestant with the highest accumulative score at the end will be declared the winner. Like the previous year this event is held to raise money and toys for local charities. This year we will be splitting all proceeds and donations to The Children’s Hospital of Georgia & Doctors Hospital.\nGates open at 2PM\nTest-n-Tune from 3-7PM\nShow from 4-10PM\nBurnout Competition 7:30PM\nFireworks to follow\nThis is a family friendly event. 5k Burnout Contest\, Open Test-n-Tune\, Car/Truck/Motorcycle show\, Inflatables for kids and food trucks on site! Like all of our events we will end the night with a firework display! There will be a zero tolerance for anyone getting out of hand. No reckless driving in parking lots\, burnouts (spectators)\, excessive revving etc. Security will be on site and you will be removed. Please be respectful as well when leaving the meet.\nUnfortunately over the last few years\, the car/truck/bike scene has became extremely divided for many different reasons. A handful of us came together to try to bring it back to how the scene was years ago. We may not be able to change that every week\, but we can for a few Saturdays each year. Every year\, there will be a Spring\, Summer\, and Fall meet. In addition to the 3 meets we will also host Street Car Braggin Rights a large race and show at Carolina Dragway .\nWe highly encourage EVERYONE to attend no matter what car/truck/motorcycle you drive. We hope to see a lot of faces from the past along with the new.\nLimited VIP parking is available and will fill up fast
URL:https://carolinadragway.com/event/street-car-saturday-test-n-tune-6/
LOCATION:Carolina Dragway\, 302 Dragstrip Road\, Aiken\, SC\, 29803\, United States
CATEGORIES:Test-n-Tune
ATTACH;FMTTYPE=image/jpeg:https://carolinadragway.com/wp-content/uploads/2021/12/burnouts-for-kids.jpg
ORGANIZER;CN="Carolina Dragway":MAILTO:info@carolinadragway.com
END:VEVENT
BEGIN:VEVENT
DTSTART;TZID=America/New_York:20221117T183000
DTEND;TZID=America/New_York:20221117T230000
DTSTAMP:20260425T123929
CREATED:20210910T173807Z
LAST-MODIFIED:20221117T175653Z
UID:6326-1668709800-1668726000@carolinadragway.com
SUMMARY:CANCELED: Thursday Night Thunder: Test-n-Tune & Grudge Race + King of the Track Shootout
DESCRIPTION:Gates Open: 6:30 PM\nRacing Begins: 7:00 PM\nSpectators: $15\nLadies: $10\nKids 12 & Under: FREE\nTech Cards to Race: $20\nLimited to 120 Cars\n1/8 mile & 1/4 mile Drag Racing\n* ALL ARE WELCOME! *
URL:https://carolinadragway.com/event/thursday-night-thunder-test-n-tune-grudge-race-2-2022-11-17/
LOCATION:Carolina Dragway\, 302 Dragstrip Road\, Aiken\, SC\, 29803\, United States
CATEGORIES:Test-n-Tune
ATTACH;FMTTYPE=image/jpeg:https://carolinadragway.com/wp-content/uploads/2021/07/thursday-night-thunder-test-and-tune-grudge-racing.jpg
ORGANIZER;CN="Carolina Dragway":MAILTO:info@carolinadragway.com
END:VEVENT
BEGIN:VEVENT
DTSTART;VALUE=DATE:20221112
DTEND;VALUE=DATE:20221113
DTSTAMP:20260425T123930
CREATED:20220817T204251Z
LAST-MODIFIED:20221111T202620Z
UID:8270-1668211200-1668297599@carolinadragway.com
SUMMARY:CANCELED: Southeast Street-N-Yeet
DESCRIPTION:Please visit https://sestreetyeet.com/ for more information!
URL:https://carolinadragway.com/event/southeast-street-n-yeet/
LOCATION:Carolina Dragway\, 302 Dragstrip Road\, Aiken\, SC\, 29803\, United States
CATEGORIES:Heads-Up Races,Other Events
END:VEVENT
BEGIN:VEVENT
DTSTART;TZID=America/New_York:20220310T183000
DTEND;TZID=America/New_York:20220310T230000
DTSTAMP:20260425T123930
CREATED:20210910T173807Z
LAST-MODIFIED:20220714T144808Z
UID:6269-1646937000-1646953200@carolinadragway.com
SUMMARY:Thursday Night Thunder: Test-n-Tune & Grudge Race
DESCRIPTION:Gates Open: 6:30 PM\nRacing Begins: 7:00 PM\nSpectators: $15\nLadies: $10\nKids 12 & Under: FREE\nTech Cards to Race: $20\nLimited to 120 Cars\n1/8 mile & 1/4 mile Drag Racing\n* ALL ARE WELCOME! *
URL:https://carolinadragway.com/event/thursday-night-thunder-test-n-tune-grudge-race-2/
LOCATION:Carolina Dragway\, 302 Dragstrip Road\, Aiken\, SC\, 29803\, United States
CATEGORIES:Test-n-Tune
ATTACH;FMTTYPE=image/jpeg:https://carolinadragway.com/wp-content/uploads/2021/07/thursday-night-thunder-test-and-tune-grudge-racing.jpg
ORGANIZER;CN="Carolina Dragway":MAILTO:info@carolinadragway.com
END:VEVENT
BEGIN:VEVENT
DTSTART;VALUE=DATE:20221105
DTEND;VALUE=DATE:20221107
DTSTAMP:20260425T123930
CREATED:20211227T155846Z
LAST-MODIFIED:20221105T183831Z
UID:6818-1667606400-1667779199@carolinadragway.com
SUMMARY:CANCELED DUE TO RAIN: 18th Annual Big Bucks Bracket Race
DESCRIPTION:CANCELED DUE TO RAIN
URL:https://carolinadragway.com/event/18th-annual-big-bucks-bracket-race/
LOCATION:Carolina Dragway\, 302 Dragstrip Road\, Aiken\, SC\, 29803\, United States
CATEGORIES:Bracket Races,Heads-Up Races
ATTACH;FMTTYPE=image/jpeg:https://carolinadragway.com/wp-content/uploads/2020/11/big-bucks-race.jpg
ORGANIZER;CN="Carolina Dragway":MAILTO:info@carolinadragway.com
END:VEVENT
BEGIN:VEVENT
DTSTART;TZID=America/New_York:20220310T183000
DTEND;TZID=America/New_York:20220310T230000
DTSTAMP:20260425T123930
CREATED:20210910T173807Z
LAST-MODIFIED:20220714T144808Z
UID:6269-1646937000-1646953200@carolinadragway.com
SUMMARY:Thursday Night Thunder: Test-n-Tune & Grudge Race
DESCRIPTION:Gates Open: 6:30 PM\nRacing Begins: 7:00 PM\nSpectators: $15\nLadies: $10\nKids 12 & Under: FREE\nTech Cards to Race: $20\nLimited to 120 Cars\n1/8 mile & 1/4 mile Drag Racing\n* ALL ARE WELCOME! *
URL:https://carolinadragway.com/event/thursday-night-thunder-test-n-tune-grudge-race-2/
LOCATION:Carolina Dragway\, 302 Dragstrip Road\, Aiken\, SC\, 29803\, United States
CATEGORIES:Test-n-Tune
ATTACH;FMTTYPE=image/jpeg:https://carolinadragway.com/wp-content/uploads/2021/07/thursday-night-thunder-test-and-tune-grudge-racing.jpg
ORGANIZER;CN="Carolina Dragway":MAILTO:info@carolinadragway.com
END:VEVENT
BEGIN:VEVENT
DTSTART;VALUE=DATE:20221029
DTEND;VALUE=DATE:20221030
DTSTAMP:20260425T123930
CREATED:20211227T155443Z
LAST-MODIFIED:20220819T230613Z
UID:6816-1667001600-1667087999@carolinadragway.com
SUMMARY:Halloween Pro Mod Shootout & Bracket Race
DESCRIPTION:**PDRA PRO NITROUS & PRO BOOST RULES WILL BE USED FOR PRO MOD**\nAlso featuring the Super Gas Association Southeast!
URL:https://carolinadragway.com/event/halloween-pro-mod-shootout-bracket-race/
LOCATION:Carolina Dragway\, 302 Dragstrip Road\, Aiken\, SC\, 29803\, United States
CATEGORIES:Heads-Up Races
ORGANIZER;CN="Carolina Dragway":MAILTO:info@carolinadragway.com
END:VEVENT
BEGIN:VEVENT
DTSTART;TZID=America/New_York:20220310T183000
DTEND;TZID=America/New_York:20220310T230000
DTSTAMP:20260425T123930
CREATED:20210910T173807Z
LAST-MODIFIED:20220714T144808Z
UID:6269-1646937000-1646953200@carolinadragway.com
SUMMARY:Thursday Night Thunder: Test-n-Tune & Grudge Race
DESCRIPTION:Gates Open: 6:30 PM\nRacing Begins: 7:00 PM\nSpectators: $15\nLadies: $10\nKids 12 & Under: FREE\nTech Cards to Race: $20\nLimited to 120 Cars\n1/8 mile & 1/4 mile Drag Racing\n* ALL ARE WELCOME! *
URL:https://carolinadragway.com/event/thursday-night-thunder-test-n-tune-grudge-race-2/
LOCATION:Carolina Dragway\, 302 Dragstrip Road\, Aiken\, SC\, 29803\, United States
CATEGORIES:Test-n-Tune
ATTACH;FMTTYPE=image/jpeg:https://carolinadragway.com/wp-content/uploads/2021/07/thursday-night-thunder-test-and-tune-grudge-racing.jpg
ORGANIZER;CN="Carolina Dragway":MAILTO:info@carolinadragway.com
END:VEVENT
BEGIN:VEVENT
DTSTART;TZID=America/New_York:20221022T090000
DTEND;TZID=America/New_York:20221022T233000
DTSTAMP:20260425T123930
CREATED:20220714T142958Z
LAST-MODIFIED:20221021T231655Z
UID:7929-1666429200-1666481400@carolinadragway.com
SUMMARY:All Out Import vs Muscle
DESCRIPTION:October 22nd\, 2022 the very first import vs muscle event at Carolina Dragway! \nCLASSES:\n10.0 index\n11.0 index\n12.0 index\nStreet class\nModified class\nAll motor class\nAll Out import class \nPRICES:\nAdmission: $25 at the gate.\nChildren 12 and under free\nTest and tune: $40 at the gate. Includes admission (test and tune ran between classes when possible) \nSCHEDULE:\nVenders/sponsors gate open at 7:30am\nRacers gate open at 9:00am\nSpectator gate open at 10:00am\nTech opens at 9:00am\nMust be registered for your class by 10:30am!\nDrivers meeting at 11:00am\nTest-and-Tune until 1:30pm\nChip draw right after test-n-tune\nRound 1 starts at 2:00pm
URL:https://carolinadragway.com/event/all-out-import-vs-muscle/
LOCATION:Carolina Dragway\, 302 Dragstrip Road\, Aiken\, SC\, 29803\, United States
CATEGORIES:Heads-Up Races
ORGANIZER;CN="All Out Import vs Muscle":MAILTO:alloutimportvsmuscle@gmail.com
END:VEVENT
BEGIN:VEVENT
DTSTART;TZID=America/New_York:20220310T183000
DTEND;TZID=America/New_York:20220310T230000
DTSTAMP:20260425T123930
CREATED:20210910T173807Z
LAST-MODIFIED:20220714T144808Z
UID:6269-1646937000-1646953200@carolinadragway.com
SUMMARY:Thursday Night Thunder: Test-n-Tune & Grudge Race
DESCRIPTION:Gates Open: 6:30 PM\nRacing Begins: 7:00 PM\nSpectators: $15\nLadies: $10\nKids 12 & Under: FREE\nTech Cards to Race: $20\nLimited to 120 Cars\n1/8 mile & 1/4 mile Drag Racing\n* ALL ARE WELCOME! *
URL:https://carolinadragway.com/event/thursday-night-thunder-test-n-tune-grudge-race-2/
LOCATION:Carolina Dragway\, 302 Dragstrip Road\, Aiken\, SC\, 29803\, United States
CATEGORIES:Test-n-Tune
ATTACH;FMTTYPE=image/jpeg:https://carolinadragway.com/wp-content/uploads/2021/07/thursday-night-thunder-test-and-tune-grudge-racing.jpg
ORGANIZER;CN="Carolina Dragway":MAILTO:info@carolinadragway.com
END:VEVENT
BEGIN:VEVENT
DTSTART;TZID=America/New_York:20220310T183000
DTEND;TZID=America/New_York:20220310T230000
DTSTAMP:20260425T123930
CREATED:20210910T173807Z
LAST-MODIFIED:20220714T144808Z
UID:6269-1646937000-1646953200@carolinadragway.com
SUMMARY:Thursday Night Thunder: Test-n-Tune & Grudge Race
DESCRIPTION:Gates Open: 6:30 PM\nRacing Begins: 7:00 PM\nSpectators: $15\nLadies: $10\nKids 12 & Under: FREE\nTech Cards to Race: $20\nLimited to 120 Cars\n1/8 mile & 1/4 mile Drag Racing\n* ALL ARE WELCOME! *
URL:https://carolinadragway.com/event/thursday-night-thunder-test-n-tune-grudge-race-2/
LOCATION:Carolina Dragway\, 302 Dragstrip Road\, Aiken\, SC\, 29803\, United States
CATEGORIES:Test-n-Tune
ATTACH;FMTTYPE=image/jpeg:https://carolinadragway.com/wp-content/uploads/2021/07/thursday-night-thunder-test-and-tune-grudge-racing.jpg
ORGANIZER;CN="Carolina Dragway":MAILTO:info@carolinadragway.com
END:VEVENT
BEGIN:VEVENT
DTSTART;TZID=America/New_York:20221006T183000
DTEND;TZID=America/New_York:20221006T230000
DTSTAMP:20260425T123930
CREATED:20210910T173807Z
LAST-MODIFIED:20221004T123456Z
UID:6320-1665081000-1665097200@carolinadragway.com
SUMMARY:Thursday Night Thunder: Test-n-Tune & Grudge Race + Slick Tire Shootout
DESCRIPTION:ALSO FEATURING: 28/29/10.5 OG Slick Tire Shootout\n$3\,000 PURSE\n8 car minimum\n$150 entry fee \nRULES:\n28/29 slicks\, Ws ok (you can come on a radial 275 only)\nAny suspension\nAny power adder\nMinimum weight 2\,700-pounds (must hit the scales to make it to the next round once eliminations have started)\nAll safety equipment required (car and driver) \nChip draw 7:30pm\nFirst round 8:00pm \n \nGates Open: 6:30 PM\nRacing Begins: 7:00 PM\nSpectators: $15\nLadies: $10\nKids 12 & Under: FREE\nTech Cards to Race: $20\nLimited to 120 Cars\n1/8 mile & 1/4 mile Drag Racing\n* ALL ARE WELCOME! *
URL:https://carolinadragway.com/event/thursday-night-thunder-test-n-tune-grudge-race-2-2022-10-06/
LOCATION:Carolina Dragway\, 302 Dragstrip Road\, Aiken\, SC\, 29803\, United States
CATEGORIES:Test-n-Tune
ATTACH;FMTTYPE=image/jpeg:https://carolinadragway.com/wp-content/uploads/2021/07/thursday-night-thunder-test-and-tune-grudge-racing.jpg
ORGANIZER;CN="Carolina Dragway":MAILTO:info@carolinadragway.com
END:VEVENT
BEGIN:VEVENT
DTSTART;TZID=America/New_York:20221001T160000
DTEND;TZID=America/New_York:20221001T220000
DTSTAMP:20260425T123930
CREATED:20211227T155050Z
LAST-MODIFIED:20220910T164651Z
UID:6810-1664640000-1664661600@carolinadragway.com
SUMMARY:Coffee & Cars - Test N Tune
DESCRIPTION:
URL:https://carolinadragway.com/event/coffee-cars-test-n-tune-3/
LOCATION:Carolina Dragway\, 302 Dragstrip Road\, Aiken\, SC\, 29803\, United States
CATEGORIES:Other Events,Test-n-Tune
ATTACH;FMTTYPE=image/jpeg:https://carolinadragway.com/wp-content/uploads/2018/02/coffee-and-cars.jpg
ORGANIZER;CN="Carolina Dragway":MAILTO:info@carolinadragway.com
END:VEVENT
BEGIN:VEVENT
DTSTART;VALUE=DATE:20220930
DTEND;VALUE=DATE:20221003
DTSTAMP:20260425T123930
CREATED:20220729T125621Z
LAST-MODIFIED:20220906T133747Z
UID:8086-1664496000-1664755199@carolinadragway.com
SUMMARY:CANCELED: AGV $250K Fall Throwdown
DESCRIPTION:THIS EVENT HAS BEEN CANCELED BY THE PROMOTERS. PLEASE CONTACT AGV DIRECTLY FOR MORE INFORMATION.
URL:https://carolinadragway.com/event/canceled-agv-250k-fall-throwdown/
LOCATION:Carolina Dragway\, 302 Dragstrip Road\, Aiken\, SC\, 29803\, United States
CATEGORIES:Bracket Races,Heads-Up Races
ORGANIZER;CN="AGV Promotions":MAILTO:tony@tgmotorsports.net
END:VEVENT
BEGIN:VEVENT
DTSTART;TZID=America/New_York:20220929T183000
DTEND;TZID=America/New_York:20220929T230000
DTSTAMP:20260425T123930
CREATED:20210910T173807Z
LAST-MODIFIED:20220714T144912Z
UID:6319-1664476200-1664492400@carolinadragway.com
SUMMARY:Thursday Night Thunder: Test-n-Tune & Grudge Race + Slick Tire Shootout
DESCRIPTION:ALSO FEATURING: 28/29/10.5 OG Slick Tire Shootout\n$3\,000 PURSE\n8 car minimum\n$150 entry fee \nRULES:\n28/29 slicks\, Ws ok (you can come on a radial 275 only)\nAny suspension\nAny power adder\nMinimum weight 2\,700-pounds (must hit the scales to make it to the next round once eliminations have started)\nAll safety equipment required (car and driver) \nChip draw 7:30pm\nFirst round 8:00pm \n  \n \nGates Open: 6:30 PM\nRacing Begins: 7:00 PM\nSpectators: $15\nLadies: $10\nKids 12 & Under: FREE\nTech Cards to Race: $20\nLimited to 120 Cars\n1/8 mile & 1/4 mile Drag Racing\n* ALL ARE WELCOME! *
URL:https://carolinadragway.com/event/thursday-night-thunder-test-n-tune-grudge-race-2-2022-09-29/
LOCATION:Carolina Dragway\, 302 Dragstrip Road\, Aiken\, SC\, 29803\, United States
CATEGORIES:Test-n-Tune
ATTACH;FMTTYPE=image/jpeg:https://carolinadragway.com/wp-content/uploads/2021/07/thursday-night-thunder-test-and-tune-grudge-racing.jpg
ORGANIZER;CN="Carolina Dragway":MAILTO:info@carolinadragway.com
END:VEVENT
BEGIN:VEVENT
DTSTART;TZID=America/New_York:20220310T183000
DTEND;TZID=America/New_York:20220310T230000
DTSTAMP:20260425T123930
CREATED:20210910T173807Z
LAST-MODIFIED:20220714T144808Z
UID:6269-1646937000-1646953200@carolinadragway.com
SUMMARY:Thursday Night Thunder: Test-n-Tune & Grudge Race
DESCRIPTION:Gates Open: 6:30 PM\nRacing Begins: 7:00 PM\nSpectators: $15\nLadies: $10\nKids 12 & Under: FREE\nTech Cards to Race: $20\nLimited to 120 Cars\n1/8 mile & 1/4 mile Drag Racing\n* ALL ARE WELCOME! *
URL:https://carolinadragway.com/event/thursday-night-thunder-test-n-tune-grudge-race-2/
LOCATION:Carolina Dragway\, 302 Dragstrip Road\, Aiken\, SC\, 29803\, United States
CATEGORIES:Test-n-Tune
ATTACH;FMTTYPE=image/jpeg:https://carolinadragway.com/wp-content/uploads/2021/07/thursday-night-thunder-test-and-tune-grudge-racing.jpg
ORGANIZER;CN="Carolina Dragway":MAILTO:info@carolinadragway.com
END:VEVENT
BEGIN:VEVENT
DTSTART;VALUE=DATE:20220917
DTEND;VALUE=DATE:20220918
DTSTAMP:20260425T123930
CREATED:20211227T155148Z
LAST-MODIFIED:20220819T225628Z
UID:6812-1663372800-1663459199@carolinadragway.com
SUMMARY:Mike Hill’s GrudgeFest
DESCRIPTION:
URL:https://carolinadragway.com/event/mike-hills-grudgefest/
LOCATION:Carolina Dragway\, 302 Dragstrip Road\, Aiken\, SC\, 29803\, United States
CATEGORIES:Heads-Up Races
ORGANIZER;CN="Carolina Dragway":MAILTO:info@carolinadragway.com
END:VEVENT
BEGIN:VEVENT
DTSTART;TZID=America/New_York:20220310T183000
DTEND;TZID=America/New_York:20220310T230000
DTSTAMP:20260425T123930
CREATED:20210910T173807Z
LAST-MODIFIED:20220714T144808Z
UID:6269-1646937000-1646953200@carolinadragway.com
SUMMARY:Thursday Night Thunder: Test-n-Tune & Grudge Race
DESCRIPTION:Gates Open: 6:30 PM\nRacing Begins: 7:00 PM\nSpectators: $15\nLadies: $10\nKids 12 & Under: FREE\nTech Cards to Race: $20\nLimited to 120 Cars\n1/8 mile & 1/4 mile Drag Racing\n* ALL ARE WELCOME! *
URL:https://carolinadragway.com/event/thursday-night-thunder-test-n-tune-grudge-race-2/
LOCATION:Carolina Dragway\, 302 Dragstrip Road\, Aiken\, SC\, 29803\, United States
CATEGORIES:Test-n-Tune
ATTACH;FMTTYPE=image/jpeg:https://carolinadragway.com/wp-content/uploads/2021/07/thursday-night-thunder-test-and-tune-grudge-racing.jpg
ORGANIZER;CN="Carolina Dragway":MAILTO:info@carolinadragway.com
END:VEVENT
BEGIN:VEVENT
DTSTART;TZID=America/New_York:20220310T183000
DTEND;TZID=America/New_York:20220310T230000
DTSTAMP:20260425T123930
CREATED:20210910T173807Z
LAST-MODIFIED:20220714T144808Z
UID:6269-1646937000-1646953200@carolinadragway.com
SUMMARY:Thursday Night Thunder: Test-n-Tune & Grudge Race
DESCRIPTION:Gates Open: 6:30 PM\nRacing Begins: 7:00 PM\nSpectators: $15\nLadies: $10\nKids 12 & Under: FREE\nTech Cards to Race: $20\nLimited to 120 Cars\n1/8 mile & 1/4 mile Drag Racing\n* ALL ARE WELCOME! *
URL:https://carolinadragway.com/event/thursday-night-thunder-test-n-tune-grudge-race-2/
LOCATION:Carolina Dragway\, 302 Dragstrip Road\, Aiken\, SC\, 29803\, United States
CATEGORIES:Test-n-Tune
ATTACH;FMTTYPE=image/jpeg:https://carolinadragway.com/wp-content/uploads/2021/07/thursday-night-thunder-test-and-tune-grudge-racing.jpg
ORGANIZER;CN="Carolina Dragway":MAILTO:info@carolinadragway.com
END:VEVENT
BEGIN:VEVENT
DTSTART;VALUE=DATE:20220903
DTEND;VALUE=DATE:20220905
DTSTAMP:20260425T123930
CREATED:20211227T154619Z
LAST-MODIFIED:20220201T004457Z
UID:6807-1662163200-1662335999@carolinadragway.com
SUMMARY:Summit Bracket Series #9 & #10
DESCRIPTION:
URL:https://carolinadragway.com/event/summit-bracket-series-9-10/
LOCATION:Carolina Dragway\, 302 Dragstrip Road\, Aiken\, SC\, 29803\, United States
CATEGORIES:Heads-Up Races
ATTACH;FMTTYPE=image/jpeg:https://carolinadragway.com/wp-content/uploads/2021/01/summit-bracket-series.jpg
ORGANIZER;CN="Carolina Dragway":MAILTO:info@carolinadragway.com
END:VEVENT
BEGIN:VEVENT
DTSTART;TZID=America/New_York:20220310T183000
DTEND;TZID=America/New_York:20220310T230000
DTSTAMP:20260425T123930
CREATED:20210910T173807Z
LAST-MODIFIED:20220714T144808Z
UID:6269-1646937000-1646953200@carolinadragway.com
SUMMARY:Thursday Night Thunder: Test-n-Tune & Grudge Race
DESCRIPTION:Gates Open: 6:30 PM\nRacing Begins: 7:00 PM\nSpectators: $15\nLadies: $10\nKids 12 & Under: FREE\nTech Cards to Race: $20\nLimited to 120 Cars\n1/8 mile & 1/4 mile Drag Racing\n* ALL ARE WELCOME! *
URL:https://carolinadragway.com/event/thursday-night-thunder-test-n-tune-grudge-race-2/
LOCATION:Carolina Dragway\, 302 Dragstrip Road\, Aiken\, SC\, 29803\, United States
CATEGORIES:Test-n-Tune
ATTACH;FMTTYPE=image/jpeg:https://carolinadragway.com/wp-content/uploads/2021/07/thursday-night-thunder-test-and-tune-grudge-racing.jpg
ORGANIZER;CN="Carolina Dragway":MAILTO:info@carolinadragway.com
END:VEVENT
BEGIN:VEVENT
DTSTART;TZID=America/New_York:20220310T183000
DTEND;TZID=America/New_York:20220310T230000
DTSTAMP:20260425T123930
CREATED:20210910T173807Z
LAST-MODIFIED:20220714T144808Z
UID:6269-1646937000-1646953200@carolinadragway.com
SUMMARY:Thursday Night Thunder: Test-n-Tune & Grudge Race
DESCRIPTION:Gates Open: 6:30 PM\nRacing Begins: 7:00 PM\nSpectators: $15\nLadies: $10\nKids 12 & Under: FREE\nTech Cards to Race: $20\nLimited to 120 Cars\n1/8 mile & 1/4 mile Drag Racing\n* ALL ARE WELCOME! *
URL:https://carolinadragway.com/event/thursday-night-thunder-test-n-tune-grudge-race-2/
LOCATION:Carolina Dragway\, 302 Dragstrip Road\, Aiken\, SC\, 29803\, United States
CATEGORIES:Test-n-Tune
ATTACH;FMTTYPE=image/jpeg:https://carolinadragway.com/wp-content/uploads/2021/07/thursday-night-thunder-test-and-tune-grudge-racing.jpg
ORGANIZER;CN="Carolina Dragway":MAILTO:info@carolinadragway.com
END:VEVENT
BEGIN:VEVENT
DTSTART;TZID=America/New_York:20220820T180000
DTEND;TZID=America/New_York:20220820T230000
DTSTAMP:20260425T123930
CREATED:20211227T154416Z
LAST-MODIFIED:20220815T230447Z
UID:6805-1661018400-1661036400@carolinadragway.com
SUMMARY:Street Car Saturday: Test-N-Tune
DESCRIPTION:Primarily for street cars but ALL are welcome to attend! \nGates open at 6:00pm
URL:https://carolinadragway.com/event/street-car-saturday-test-n-tune-4/
LOCATION:Carolina Dragway\, 302 Dragstrip Road\, Aiken\, SC\, 29803\, United States
CATEGORIES:Test-n-Tune
ATTACH;FMTTYPE=image/jpeg:https://carolinadragway.com/wp-content/uploads/2018/02/test-n-tune.jpg
ORGANIZER;CN="Carolina Dragway":MAILTO:info@carolinadragway.com
END:VEVENT
BEGIN:VEVENT
DTSTART;TZID=America/New_York:20220310T183000
DTEND;TZID=America/New_York:20220310T230000
DTSTAMP:20260425T123930
CREATED:20210910T173807Z
LAST-MODIFIED:20220714T144808Z
UID:6269-1646937000-1646953200@carolinadragway.com
SUMMARY:Thursday Night Thunder: Test-n-Tune & Grudge Race
DESCRIPTION:Gates Open: 6:30 PM\nRacing Begins: 7:00 PM\nSpectators: $15\nLadies: $10\nKids 12 & Under: FREE\nTech Cards to Race: $20\nLimited to 120 Cars\n1/8 mile & 1/4 mile Drag Racing\n* ALL ARE WELCOME! *
URL:https://carolinadragway.com/event/thursday-night-thunder-test-n-tune-grudge-race-2/
LOCATION:Carolina Dragway\, 302 Dragstrip Road\, Aiken\, SC\, 29803\, United States
CATEGORIES:Test-n-Tune
ATTACH;FMTTYPE=image/jpeg:https://carolinadragway.com/wp-content/uploads/2021/07/thursday-night-thunder-test-and-tune-grudge-racing.jpg
ORGANIZER;CN="Carolina Dragway":MAILTO:info@carolinadragway.com
END:VEVENT
BEGIN:VEVENT
DTSTART;TZID=America/New_York:20220310T183000
DTEND;TZID=America/New_York:20220310T230000
DTSTAMP:20260425T123930
CREATED:20210910T173807Z
LAST-MODIFIED:20220714T144808Z
UID:6269-1646937000-1646953200@carolinadragway.com
SUMMARY:Thursday Night Thunder: Test-n-Tune & Grudge Race
DESCRIPTION:Gates Open: 6:30 PM\nRacing Begins: 7:00 PM\nSpectators: $15\nLadies: $10\nKids 12 & Under: FREE\nTech Cards to Race: $20\nLimited to 120 Cars\n1/8 mile & 1/4 mile Drag Racing\n* ALL ARE WELCOME! *
URL:https://carolinadragway.com/event/thursday-night-thunder-test-n-tune-grudge-race-2/
LOCATION:Carolina Dragway\, 302 Dragstrip Road\, Aiken\, SC\, 29803\, United States
CATEGORIES:Test-n-Tune
ATTACH;FMTTYPE=image/jpeg:https://carolinadragway.com/wp-content/uploads/2021/07/thursday-night-thunder-test-and-tune-grudge-racing.jpg
ORGANIZER;CN="Carolina Dragway":MAILTO:info@carolinadragway.com
END:VEVENT
BEGIN:VEVENT
DTSTART;TZID=America/New_York:20220806T190000
DTEND;TZID=America/New_York:20220806T230000
DTSTAMP:20260425T123930
CREATED:20220714T171349Z
LAST-MODIFIED:20220714T172943Z
UID:8023-1659812400-1659826800@carolinadragway.com
SUMMARY:2nd Annual Summer Meet
DESCRIPTION:
URL:https://carolinadragway.com/event/2nd-annual-summer-meet/
LOCATION:Carolina Dragway\, 302 Dragstrip Road\, Aiken\, SC\, 29803\, United States
CATEGORIES:Other Events,Test-n-Tune
ORGANIZER;CN="Bring It Back Meets":MAILTO:nateprater3@gmail.com
END:VEVENT
BEGIN:VEVENT
DTSTART;TZID=America/New_York:20220804T183000
DTEND;TZID=America/New_York:20220804T230000
DTSTAMP:20260425T123930
CREATED:20210910T173807Z
LAST-MODIFIED:20220714T144947Z
UID:6310-1659637800-1659654000@carolinadragway.com
SUMMARY:Thursday Night Thunder: Test-n-Tune & Grudge Race + Slick Tire Shootout
DESCRIPTION:ALSO FEATURING: 28/29/10.5 OG Slick Tire Shootout\n$3\,000 PURSE\n8 car minimum\n$150 entry fee \nRULES:\n28/29 slicks\, Ws ok (you can come on a radial 275 only)\nAny suspension\nAny power adder\nMinimum weight 2\,700-pounds (must hit the scales to make it to the next round once eliminations have started)\nAll safety equipment required (car and driver) \nChip draw 7:30pm\nFirst round 8:00pm \n  \n \nGates Open: 6:30 PM\nRacing Begins: 7:00 PM\nSpectators: $15\nLadies: $10\nKids 12 & Under: FREE\nTech Cards to Race: $20\nLimited to 120 Cars\n1/8 mile & 1/4 mile Drag Racing\n* ALL ARE WELCOME! *
URL:https://carolinadragway.com/event/thursday-night-thunder-test-n-tune-grudge-race-2-2022-08-04/
LOCATION:Carolina Dragway\, 302 Dragstrip Road\, Aiken\, SC\, 29803\, United States
CATEGORIES:Test-n-Tune
ATTACH;FMTTYPE=image/jpeg:https://carolinadragway.com/wp-content/uploads/2021/07/thursday-night-thunder-test-and-tune-grudge-racing.jpg
ORGANIZER;CN="Carolina Dragway":MAILTO:info@carolinadragway.com
END:VEVENT
BEGIN:VEVENT
DTSTART;TZID=America/New_York:20220310T183000
DTEND;TZID=America/New_York:20220310T230000
DTSTAMP:20260425T123930
CREATED:20210910T173807Z
LAST-MODIFIED:20220714T144808Z
UID:6269-1646937000-1646953200@carolinadragway.com
SUMMARY:Thursday Night Thunder: Test-n-Tune & Grudge Race
DESCRIPTION:Gates Open: 6:30 PM\nRacing Begins: 7:00 PM\nSpectators: $15\nLadies: $10\nKids 12 & Under: FREE\nTech Cards to Race: $20\nLimited to 120 Cars\n1/8 mile & 1/4 mile Drag Racing\n* ALL ARE WELCOME! *
URL:https://carolinadragway.com/event/thursday-night-thunder-test-n-tune-grudge-race-2/
LOCATION:Carolina Dragway\, 302 Dragstrip Road\, Aiken\, SC\, 29803\, United States
CATEGORIES:Test-n-Tune
ATTACH;FMTTYPE=image/jpeg:https://carolinadragway.com/wp-content/uploads/2021/07/thursday-night-thunder-test-and-tune-grudge-racing.jpg
ORGANIZER;CN="Carolina Dragway":MAILTO:info@carolinadragway.com
END:VEVENT
END:VCALENDAR