BEGIN:VCALENDAR
VERSION:2.0
PRODID:-//Carolina Dragway &quot;The House of Hook&quot; in Aiken, SC - ECPv6.15.20//NONSGML v1.0//EN
CALSCALE:GREGORIAN
METHOD:PUBLISH
X-ORIGINAL-URL:https://carolinadragway.com
X-WR-CALDESC:Events for Carolina Dragway &quot;The House of Hook&quot; in Aiken, SC
REFRESH-INTERVAL;VALUE=DURATION:PT1H
X-Robots-Tag:noindex
X-PUBLISHED-TTL:PT1H
BEGIN:VTIMEZONE
TZID:America/New_York
BEGIN:DAYLIGHT
TZOFFSETFROM:-0500
TZOFFSETTO:-0400
TZNAME:EDT
DTSTART:20230312T070000
END:DAYLIGHT
BEGIN:STANDARD
TZOFFSETFROM:-0400
TZOFFSETTO:-0500
TZNAME:EST
DTSTART:20231105T060000
END:STANDARD
BEGIN:DAYLIGHT
TZOFFSETFROM:-0500
TZOFFSETTO:-0400
TZNAME:EDT
DTSTART:20240310T070000
END:DAYLIGHT
BEGIN:STANDARD
TZOFFSETFROM:-0400
TZOFFSETTO:-0500
TZNAME:EST
DTSTART:20241103T060000
END:STANDARD
BEGIN:DAYLIGHT
TZOFFSETFROM:-0500
TZOFFSETTO:-0400
TZNAME:EDT
DTSTART:20250309T070000
END:DAYLIGHT
BEGIN:STANDARD
TZOFFSETFROM:-0400
TZOFFSETTO:-0500
TZNAME:EST
DTSTART:20251102T060000
END:STANDARD
END:VTIMEZONE
BEGIN:VEVENT
DTSTART;VALUE=DATE:20240203
DTEND;VALUE=DATE:20240204
DTSTAMP:20260425T083535
CREATED:20231205T195144Z
LAST-MODIFIED:20231205T203156Z
UID:10762-1706918400-1707004799@carolinadragway.com
SUMMARY:NHRA Chassis Certs & Inspections
DESCRIPTION:CLICK HERE TO REGISTER FOR YOUR SPOT!
URL:https://carolinadragway.com/event/nhra-chassis-certs-inspections/
LOCATION:Carolina Dragway\, 302 Dragstrip Road\, Aiken\, SC\, 29803\, United States
CATEGORIES:Other Events,Test-n-Tune
ORGANIZER;CN="Carolina Dragway":MAILTO:info@carolinadragway.com
END:VEVENT
BEGIN:VEVENT
DTSTART;VALUE=DATE:20240302
DTEND;VALUE=DATE:20240303
DTSTAMP:20260425T083535
CREATED:20231204T193540Z
LAST-MODIFIED:20231204T193541Z
UID:10712-1709337600-1709423999@carolinadragway.com
SUMMARY:Mike Hill’s 12th Annual March Madness
DESCRIPTION:
URL:https://carolinadragway.com/event/mike-hills-12th-annual-march-madness/
LOCATION:Carolina Dragway\, 302 Dragstrip Road\, Aiken\, SC\, 29803\, United States
CATEGORIES:No-Time/Grudge Races
END:VEVENT
BEGIN:VEVENT
DTSTART;TZID=America/New_York:20240307T183000
DTEND;TZID=America/New_York:20240307T233000
DTSTAMP:20260425T083535
CREATED:20231204T194834Z
LAST-MODIFIED:20231219T160539Z
UID:10755-1709836200-1709854200@carolinadragway.com
SUMMARY:Test-N-Tune/Grudge Racing
DESCRIPTION:
URL:https://carolinadragway.com/event/test-n-tune-grudge-racing/
LOCATION:Carolina Dragway\, 302 Dragstrip Road\, Aiken\, SC\, 29803\, United States
CATEGORIES:Test-n-Tune
ORGANIZER;CN="Carolina Dragway":MAILTO:info@carolinadragway.com
END:VEVENT
BEGIN:VEVENT
DTSTART;TZID=America/New_York:20240307T183000
DTEND;TZID=America/New_York:20240307T233000
DTSTAMP:20260425T083535
CREATED:20231204T194834Z
LAST-MODIFIED:20231219T160539Z
UID:10755-1709836200-1709854200@carolinadragway.com
SUMMARY:Test-N-Tune/Grudge Racing
DESCRIPTION:
URL:https://carolinadragway.com/event/test-n-tune-grudge-racing/
LOCATION:Carolina Dragway\, 302 Dragstrip Road\, Aiken\, SC\, 29803\, United States
CATEGORIES:Test-n-Tune
ORGANIZER;CN="Carolina Dragway":MAILTO:info@carolinadragway.com
END:VEVENT
BEGIN:VEVENT
DTSTART;VALUE=DATE:20240316
DTEND;VALUE=DATE:20240318
DTSTAMP:20260425T083535
CREATED:20231204T193741Z
LAST-MODIFIED:20231205T202238Z
UID:10714-1710547200-1710719999@carolinadragway.com
SUMMARY:March Madness Bracket Race
DESCRIPTION:
URL:https://carolinadragway.com/event/march-madness-bracket-race-2/
LOCATION:Carolina Dragway\, 302 Dragstrip Road\, Aiken\, SC\, 29803\, United States
CATEGORIES:Bracket Races
ORGANIZER;CN="Carolina Dragway":MAILTO:info@carolinadragway.com
END:VEVENT
BEGIN:VEVENT
DTSTART;TZID=America/New_York:20240307T183000
DTEND;TZID=America/New_York:20240307T233000
DTSTAMP:20260425T083535
CREATED:20231204T194834Z
LAST-MODIFIED:20231219T160539Z
UID:10755-1709836200-1709854200@carolinadragway.com
SUMMARY:Test-N-Tune/Grudge Racing
DESCRIPTION:
URL:https://carolinadragway.com/event/test-n-tune-grudge-racing/
LOCATION:Carolina Dragway\, 302 Dragstrip Road\, Aiken\, SC\, 29803\, United States
CATEGORIES:Test-n-Tune
ORGANIZER;CN="Carolina Dragway":MAILTO:info@carolinadragway.com
END:VEVENT
BEGIN:VEVENT
DTSTART;VALUE=DATE:20240323
DTEND;VALUE=DATE:20240325
DTSTAMP:20260425T083535
CREATED:20231204T193812Z
LAST-MODIFIED:20231205T195357Z
UID:10718-1711152000-1711324799@carolinadragway.com
SUMMARY:Summit Bracket Series Races #1 & #2
DESCRIPTION:
URL:https://carolinadragway.com/event/summit-bracket-series-races-1-2/
LOCATION:Carolina Dragway\, 302 Dragstrip Road\, Aiken\, SC\, 29803\, United States
CATEGORIES:Bracket Races
ORGANIZER;CN="Carolina Dragway":MAILTO:info@carolinadragway.com
END:VEVENT
BEGIN:VEVENT
DTSTART;TZID=America/New_York:20240307T183000
DTEND;TZID=America/New_York:20240307T233000
DTSTAMP:20260425T083535
CREATED:20231204T194834Z
LAST-MODIFIED:20231219T160539Z
UID:10755-1709836200-1709854200@carolinadragway.com
SUMMARY:Test-N-Tune/Grudge Racing
DESCRIPTION:
URL:https://carolinadragway.com/event/test-n-tune-grudge-racing/
LOCATION:Carolina Dragway\, 302 Dragstrip Road\, Aiken\, SC\, 29803\, United States
CATEGORIES:Test-n-Tune
ORGANIZER;CN="Carolina Dragway":MAILTO:info@carolinadragway.com
END:VEVENT
BEGIN:VEVENT
DTSTART;VALUE=DATE:20240329
DTEND;VALUE=DATE:20240401
DTSTAMP:20260425T083535
CREATED:20240320T221134Z
LAST-MODIFIED:20240320T221134Z
UID:11009-1711670400-1711929599@carolinadragway.com
SUMMARY:KILL ZONE VOL 1!!!!
DESCRIPTION:ONE OF THE BIGGEST SMALL BLOCK NITROUS GRUDGE EVENTS OF THE CENTURY!!!!!! ALSO HAVE INVITATIONAL SMALL FRY AND OVERDRIVE SHOOTOUT!!!!! MARCH 29-30TH!!!!
URL:https://carolinadragway.com/event/kill-zone-vol-1/
LOCATION:Carolina Dragway\, 302 Dragstrip Road\, Aiken\, SC\, 29803\, United States
ORGANIZER;CN="Carolina Dragway":MAILTO:info@carolinadragway.com
END:VEVENT
BEGIN:VEVENT
DTSTART;TZID=America/New_York:20240307T183000
DTEND;TZID=America/New_York:20240307T233000
DTSTAMP:20260425T083535
CREATED:20231204T194834Z
LAST-MODIFIED:20231219T160539Z
UID:10755-1709836200-1709854200@carolinadragway.com
SUMMARY:Test-N-Tune/Grudge Racing
DESCRIPTION:
URL:https://carolinadragway.com/event/test-n-tune-grudge-racing/
LOCATION:Carolina Dragway\, 302 Dragstrip Road\, Aiken\, SC\, 29803\, United States
CATEGORIES:Test-n-Tune
ORGANIZER;CN="Carolina Dragway":MAILTO:info@carolinadragway.com
END:VEVENT
BEGIN:VEVENT
DTSTART;TZID=America/New_York:20240406T110000
DTEND;TZID=America/New_York:20240406T170000
DTSTAMP:20260425T083535
CREATED:20231204T193625Z
LAST-MODIFIED:20240401T192845Z
UID:10713-1712401200-1712422800@carolinadragway.com
SUMMARY:Coffee & Cars + Test-N-Tune
DESCRIPTION:
URL:https://carolinadragway.com/event/coffee-cars-test-n-tune-9/
LOCATION:Carolina Dragway\, 302 Dragstrip Road\, Aiken\, SC\, 29803\, United States
CATEGORIES:Other Events,Test-n-Tune
ORGANIZER;CN="Coffee and Cars Augusta":MAILTO:coffeeandcarsaugusta@gmail.com
END:VEVENT
BEGIN:VEVENT
DTSTART;TZID=America/New_York:20240307T183000
DTEND;TZID=America/New_York:20240307T233000
DTSTAMP:20260425T083535
CREATED:20231204T194834Z
LAST-MODIFIED:20231219T160539Z
UID:10755-1709836200-1709854200@carolinadragway.com
SUMMARY:Test-N-Tune/Grudge Racing
DESCRIPTION:
URL:https://carolinadragway.com/event/test-n-tune-grudge-racing/
LOCATION:Carolina Dragway\, 302 Dragstrip Road\, Aiken\, SC\, 29803\, United States
CATEGORIES:Test-n-Tune
ORGANIZER;CN="Carolina Dragway":MAILTO:info@carolinadragway.com
END:VEVENT
BEGIN:VEVENT
DTSTART;VALUE=DATE:20240413
DTEND;VALUE=DATE:20240415
DTSTAMP:20260425T083535
CREATED:20231204T193832Z
LAST-MODIFIED:20231205T195402Z
UID:10719-1712966400-1713139199@carolinadragway.com
SUMMARY:Summit Bracket Series Races #3 & #4
DESCRIPTION:
URL:https://carolinadragway.com/event/summit-bracket-series-races-3-4/
LOCATION:Carolina Dragway\, 302 Dragstrip Road\, Aiken\, SC\, 29803\, United States
CATEGORIES:Bracket Races
ORGANIZER;CN="Carolina Dragway":MAILTO:info@carolinadragway.com
END:VEVENT
BEGIN:VEVENT
DTSTART;TZID=America/New_York:20240307T183000
DTEND;TZID=America/New_York:20240307T233000
DTSTAMP:20260425T083535
CREATED:20231204T194834Z
LAST-MODIFIED:20231219T160539Z
UID:10755-1709836200-1709854200@carolinadragway.com
SUMMARY:Test-N-Tune/Grudge Racing
DESCRIPTION:
URL:https://carolinadragway.com/event/test-n-tune-grudge-racing/
LOCATION:Carolina Dragway\, 302 Dragstrip Road\, Aiken\, SC\, 29803\, United States
CATEGORIES:Test-n-Tune
ORGANIZER;CN="Carolina Dragway":MAILTO:info@carolinadragway.com
END:VEVENT
BEGIN:VEVENT
DTSTART;VALUE=DATE:20240420
DTEND;VALUE=DATE:20240421
DTSTAMP:20260425T083535
CREATED:20240401T200233Z
LAST-MODIFIED:20240401T200650Z
UID:11050-1713571200-1713657599@carolinadragway.com
SUMMARY:TMR (Triggaman Racing)
DESCRIPTION:
URL:https://carolinadragway.com/event/tmr-triggaman-racing-1/
LOCATION:Carolina Dragway\, 302 Dragstrip Road\, Aiken\, SC\, 29803\, United States
CATEGORIES:No-Time/Grudge Races
END:VEVENT
BEGIN:VEVENT
DTSTART;TZID=America/New_York:20240307T183000
DTEND;TZID=America/New_York:20240307T233000
DTSTAMP:20260425T083535
CREATED:20231204T194834Z
LAST-MODIFIED:20231219T160539Z
UID:10755-1709836200-1709854200@carolinadragway.com
SUMMARY:Test-N-Tune/Grudge Racing
DESCRIPTION:
URL:https://carolinadragway.com/event/test-n-tune-grudge-racing/
LOCATION:Carolina Dragway\, 302 Dragstrip Road\, Aiken\, SC\, 29803\, United States
CATEGORIES:Test-n-Tune
ORGANIZER;CN="Carolina Dragway":MAILTO:info@carolinadragway.com
END:VEVENT
BEGIN:VEVENT
DTSTART;VALUE=DATE:20240504
DTEND;VALUE=DATE:20240505
DTSTAMP:20260425T083535
CREATED:20240401T195920Z
LAST-MODIFIED:20240401T195920Z
UID:11048-1714780800-1714867199@carolinadragway.com
SUMMARY:Carolina Night Of Fire
DESCRIPTION:
URL:https://carolinadragway.com/event/carolina-night-of-fire-1/
LOCATION:Carolina Dragway\, 302 Dragstrip Road\, Aiken\, SC\, 29803\, United States
CATEGORIES:No-Time/Grudge Races
ORGANIZER;CN="Carolina Dragway":MAILTO:info@carolinadragway.com
END:VEVENT
BEGIN:VEVENT
DTSTART;VALUE=DATE:20240509
DTEND;VALUE=DATE:20240512
DTSTAMP:20260425T083535
CREATED:20231204T194156Z
LAST-MODIFIED:20231204T194157Z
UID:10724-1715212800-1715471999@carolinadragway.com
SUMMARY:Street Car Braggin’ Rights
DESCRIPTION:
URL:https://carolinadragway.com/event/street-car-braggin-rights-3/
LOCATION:Carolina Dragway\, 302 Dragstrip Road\, Aiken\, SC\, 29803\, United States
CATEGORIES:Heads-Up Races
ORGANIZER;CN="Street Car Braggin' Rights":MAILTO:contact@streetcarbragginrights.com
END:VEVENT
BEGIN:VEVENT
DTSTART;TZID=America/New_York:20240307T183000
DTEND;TZID=America/New_York:20240307T233000
DTSTAMP:20260425T083535
CREATED:20231204T194834Z
LAST-MODIFIED:20231219T160539Z
UID:10755-1709836200-1709854200@carolinadragway.com
SUMMARY:Test-N-Tune/Grudge Racing
DESCRIPTION:
URL:https://carolinadragway.com/event/test-n-tune-grudge-racing/
LOCATION:Carolina Dragway\, 302 Dragstrip Road\, Aiken\, SC\, 29803\, United States
CATEGORIES:Test-n-Tune
ORGANIZER;CN="Carolina Dragway":MAILTO:info@carolinadragway.com
END:VEVENT
BEGIN:VEVENT
DTSTART;TZID=America/New_York:20240307T183000
DTEND;TZID=America/New_York:20240307T233000
DTSTAMP:20260425T083535
CREATED:20231204T194834Z
LAST-MODIFIED:20231219T160539Z
UID:10755-1709836200-1709854200@carolinadragway.com
SUMMARY:Test-N-Tune/Grudge Racing
DESCRIPTION:
URL:https://carolinadragway.com/event/test-n-tune-grudge-racing/
LOCATION:Carolina Dragway\, 302 Dragstrip Road\, Aiken\, SC\, 29803\, United States
CATEGORIES:Test-n-Tune
ORGANIZER;CN="Carolina Dragway":MAILTO:info@carolinadragway.com
END:VEVENT
BEGIN:VEVENT
DTSTART;VALUE=DATE:20240525
DTEND;VALUE=DATE:20240527
DTSTAMP:20260425T083535
CREATED:20231204T193850Z
LAST-MODIFIED:20240425T145113Z
UID:10720-1716595200-1716767999@carolinadragway.com
SUMMARY:Summit Bracket Series Races #5 & #6
DESCRIPTION:
URL:https://carolinadragway.com/event/summit-bracket-series-races-5-6/
LOCATION:Carolina Dragway\, 302 Dragstrip Road\, Aiken\, SC\, 29803\, United States
CATEGORIES:Bracket Races
ORGANIZER;CN="Carolina Dragway":MAILTO:info@carolinadragway.com
END:VEVENT
BEGIN:VEVENT
DTSTART;TZID=America/New_York:20240307T183000
DTEND;TZID=America/New_York:20240307T233000
DTSTAMP:20260425T083535
CREATED:20231204T194834Z
LAST-MODIFIED:20231219T160539Z
UID:10755-1709836200-1709854200@carolinadragway.com
SUMMARY:Test-N-Tune/Grudge Racing
DESCRIPTION:
URL:https://carolinadragway.com/event/test-n-tune-grudge-racing/
LOCATION:Carolina Dragway\, 302 Dragstrip Road\, Aiken\, SC\, 29803\, United States
CATEGORIES:Test-n-Tune
ORGANIZER;CN="Carolina Dragway":MAILTO:info@carolinadragway.com
END:VEVENT
BEGIN:VEVENT
DTSTART;TZID=America/New_York:20240601T160000
DTEND;TZID=America/New_York:20240601T220000
DTSTAMP:20260425T083535
CREATED:20231204T194024Z
LAST-MODIFIED:20240423T181257Z
UID:10725-1717257600-1717279200@carolinadragway.com
SUMMARY:Coffee & Cars + Test-N-Tune
DESCRIPTION:
URL:https://carolinadragway.com/event/coffee-cars-test-n-tune-10/
LOCATION:Carolina Dragway\, 302 Dragstrip Road\, Aiken\, SC\, 29803\, United States
CATEGORIES:Other Events,Test-n-Tune
ORGANIZER;CN="Coffee and Cars Augusta":MAILTO:coffeeandcarsaugusta@gmail.com
END:VEVENT
BEGIN:VEVENT
DTSTART;TZID=America/New_York:20240307T183000
DTEND;TZID=America/New_York:20240307T233000
DTSTAMP:20260425T083535
CREATED:20231204T194834Z
LAST-MODIFIED:20231219T160539Z
UID:10755-1709836200-1709854200@carolinadragway.com
SUMMARY:Test-N-Tune/Grudge Racing
DESCRIPTION:
URL:https://carolinadragway.com/event/test-n-tune-grudge-racing/
LOCATION:Carolina Dragway\, 302 Dragstrip Road\, Aiken\, SC\, 29803\, United States
CATEGORIES:Test-n-Tune
ORGANIZER;CN="Carolina Dragway":MAILTO:info@carolinadragway.com
END:VEVENT
BEGIN:VEVENT
DTSTART;VALUE=DATE:20240608
DTEND;VALUE=DATE:20240609
DTSTAMP:20260425T083535
CREATED:20240401T200619Z
LAST-MODIFIED:20240401T200619Z
UID:11053-1717804800-1717891199@carolinadragway.com
SUMMARY:All Out "No Prep"
DESCRIPTION:
URL:https://carolinadragway.com/event/all-out-no-prep-1/
LOCATION:Carolina Dragway\, 302 Dragstrip Road\, Aiken\, SC\, 29803\, United States
CATEGORIES:Heads-Up Races
END:VEVENT
BEGIN:VEVENT
DTSTART;TZID=America/New_York:20240307T183000
DTEND;TZID=America/New_York:20240307T233000
DTSTAMP:20260425T083535
CREATED:20231204T194834Z
LAST-MODIFIED:20231219T160539Z
UID:10755-1709836200-1709854200@carolinadragway.com
SUMMARY:Test-N-Tune/Grudge Racing
DESCRIPTION:
URL:https://carolinadragway.com/event/test-n-tune-grudge-racing/
LOCATION:Carolina Dragway\, 302 Dragstrip Road\, Aiken\, SC\, 29803\, United States
CATEGORIES:Test-n-Tune
ORGANIZER;CN="Carolina Dragway":MAILTO:info@carolinadragway.com
END:VEVENT
BEGIN:VEVENT
DTSTART;VALUE=DATE:20240615
DTEND;VALUE=DATE:20240616
DTSTAMP:20260425T083535
CREATED:20240401T200901Z
LAST-MODIFIED:20240401T200901Z
UID:11056-1718409600-1718495999@carolinadragway.com
SUMMARY:Shelby Club
DESCRIPTION:Gates open at 7:00 am\, Track goes hot 10:00 am – 5:00 pm
URL:https://carolinadragway.com/event/shelby-club-1/
LOCATION:Carolina Dragway\, 302 Dragstrip Road\, Aiken\, SC\, 29803\, United States
CATEGORIES:Other Events,Test-n-Tune
END:VEVENT
BEGIN:VEVENT
DTSTART;TZID=America/New_York:20240307T183000
DTEND;TZID=America/New_York:20240307T233000
DTSTAMP:20260425T083535
CREATED:20231204T194834Z
LAST-MODIFIED:20231219T160539Z
UID:10755-1709836200-1709854200@carolinadragway.com
SUMMARY:Test-N-Tune/Grudge Racing
DESCRIPTION:
URL:https://carolinadragway.com/event/test-n-tune-grudge-racing/
LOCATION:Carolina Dragway\, 302 Dragstrip Road\, Aiken\, SC\, 29803\, United States
CATEGORIES:Test-n-Tune
ORGANIZER;CN="Carolina Dragway":MAILTO:info@carolinadragway.com
END:VEVENT
BEGIN:VEVENT
DTSTART;VALUE=DATE:20240622
DTEND;VALUE=DATE:20240624
DTSTAMP:20260425T083535
CREATED:20231204T193914Z
LAST-MODIFIED:20240425T145146Z
UID:10721-1719014400-1719187199@carolinadragway.com
SUMMARY:Summit Bracket Series Races #7 & #8
DESCRIPTION:
URL:https://carolinadragway.com/event/summit-bracket-series-races-7-8/
LOCATION:Carolina Dragway\, 302 Dragstrip Road\, Aiken\, SC\, 29803\, United States
CATEGORIES:Bracket Races
ORGANIZER;CN="Carolina Dragway":MAILTO:info@carolinadragway.com
END:VEVENT
BEGIN:VEVENT
DTSTART;TZID=America/New_York:20240307T183000
DTEND;TZID=America/New_York:20240307T233000
DTSTAMP:20260425T083535
CREATED:20231204T194834Z
LAST-MODIFIED:20231219T160539Z
UID:10755-1709836200-1709854200@carolinadragway.com
SUMMARY:Test-N-Tune/Grudge Racing
DESCRIPTION:
URL:https://carolinadragway.com/event/test-n-tune-grudge-racing/
LOCATION:Carolina Dragway\, 302 Dragstrip Road\, Aiken\, SC\, 29803\, United States
CATEGORIES:Test-n-Tune
ORGANIZER;CN="Carolina Dragway":MAILTO:info@carolinadragway.com
END:VEVENT
END:VCALENDAR