BEGIN:VCALENDAR
VERSION:2.0
PRODID:-//Carolina Dragway &quot;The House of Hook&quot; in Aiken, SC - ECPv6.15.20//NONSGML v1.0//EN
CALSCALE:GREGORIAN
METHOD:PUBLISH
X-WR-CALNAME:Carolina Dragway &quot;The House of Hook&quot; in Aiken, SC
X-ORIGINAL-URL:https://carolinadragway.com
X-WR-CALDESC:Events for Carolina Dragway &quot;The House of Hook&quot; in Aiken, SC
REFRESH-INTERVAL;VALUE=DURATION:PT1H
X-Robots-Tag:noindex
X-PUBLISHED-TTL:PT1H
BEGIN:VTIMEZONE
TZID:America/New_York
BEGIN:DAYLIGHT
TZOFFSETFROM:-0500
TZOFFSETTO:-0400
TZNAME:EDT
DTSTART:20250309T070000
END:DAYLIGHT
BEGIN:STANDARD
TZOFFSETFROM:-0400
TZOFFSETTO:-0500
TZNAME:EST
DTSTART:20251102T060000
END:STANDARD
BEGIN:DAYLIGHT
TZOFFSETFROM:-0500
TZOFFSETTO:-0400
TZNAME:EDT
DTSTART:20260308T070000
END:DAYLIGHT
BEGIN:STANDARD
TZOFFSETFROM:-0400
TZOFFSETTO:-0500
TZNAME:EST
DTSTART:20261101T060000
END:STANDARD
BEGIN:DAYLIGHT
TZOFFSETFROM:-0500
TZOFFSETTO:-0400
TZNAME:EDT
DTSTART:20270314T070000
END:DAYLIGHT
BEGIN:STANDARD
TZOFFSETFROM:-0400
TZOFFSETTO:-0500
TZNAME:EST
DTSTART:20271107T060000
END:STANDARD
END:VTIMEZONE
BEGIN:VEVENT
DTSTART;TZID=America/New_York:20260813T183000
DTEND;TZID=America/New_York:20260813T233000
DTSTAMP:20260423T195243
CREATED:20260210T143225Z
LAST-MODIFIED:20260210T143225Z
UID:13305-1786645800-1786663800@carolinadragway.com
SUMMARY:TEST & TUNE
DESCRIPTION:TEST & TUNE – 6:30PM TO 11:30PM
URL:https://carolinadragway.com/event/test-tune-61/
END:VEVENT
BEGIN:VEVENT
DTSTART;TZID=America/New_York:20260815T080000
DTEND;TZID=America/New_York:20260815T170000
DTSTAMP:20260423T195243
CREATED:20260210T143244Z
LAST-MODIFIED:20260210T143244Z
UID:13307-1786780800-1786813200@carolinadragway.com
SUMMARY:TO BE ANNOUNCED
DESCRIPTION:
URL:https://carolinadragway.com/event/to-be-announced-4/
END:VEVENT
BEGIN:VEVENT
DTSTART;TZID=America/New_York:20260820T183000
DTEND;TZID=America/New_York:20260820T233000
DTSTAMP:20260423T195243
CREATED:20260210T143308Z
LAST-MODIFIED:20260210T143308Z
UID:13309-1787250600-1787268600@carolinadragway.com
SUMMARY:TEST & TUNE
DESCRIPTION:TEST & TUNE – 6:30PM TO 11:30PM
URL:https://carolinadragway.com/event/test-tune-62/
END:VEVENT
BEGIN:VEVENT
DTSTART;TZID=America/New_York:20260827T183000
DTEND;TZID=America/New_York:20260827T233000
DTSTAMP:20260423T195243
CREATED:20260210T143341Z
LAST-MODIFIED:20260210T143341Z
UID:13311-1787855400-1787873400@carolinadragway.com
SUMMARY:TEST & TUNE
DESCRIPTION:TEST & TUNE – 6:30PM TO 11:30PM
URL:https://carolinadragway.com/event/test-tune-63/
END:VEVENT
BEGIN:VEVENT
DTSTART;TZID=America/New_York:20260829T080000
DTEND;TZID=America/New_York:20260830T220000
DTSTAMP:20260423T195243
CREATED:20260210T143500Z
LAST-MODIFIED:20260210T143500Z
UID:13313-1787990400-1788127200@carolinadragway.com
SUMMARY:SUMMIT SERIES BRACKET POINTS RACES 9 & 10
DESCRIPTION:AUGUST 29TH – 8AM TO 10PM \nAUGUST 30TH – 8AM TO 8PM
URL:https://carolinadragway.com/event/summit-series-bracket-points-races-9-10/
END:VEVENT
BEGIN:VEVENT
DTSTART;TZID=America/New_York:20260903T183000
DTEND;TZID=America/New_York:20260903T233000
DTSTAMP:20260423T195243
CREATED:20260210T143524Z
LAST-MODIFIED:20260210T143524Z
UID:13315-1788460200-1788478200@carolinadragway.com
SUMMARY:TEST & TUNE
DESCRIPTION:TEST & TUNE – 6:30PM TO 11:30PM
URL:https://carolinadragway.com/event/test-tune-64/
END:VEVENT
BEGIN:VEVENT
DTSTART;TZID=America/New_York:20260905T120000
DTEND;TZID=America/New_York:20260905T233000
DTSTAMP:20260423T195243
CREATED:20260210T143605Z
LAST-MODIFIED:20260210T143605Z
UID:13317-1788609600-1788651000@carolinadragway.com
SUMMARY:Q'S LABOR DAY BASH
DESCRIPTION:12PM TO 11:30PM 
URL:https://carolinadragway.com/event/qs-labor-day-bash-2/
END:VEVENT
BEGIN:VEVENT
DTSTART;TZID=America/New_York:20260910T183000
DTEND;TZID=America/New_York:20260910T233000
DTSTAMP:20260423T195243
CREATED:20260210T143628Z
LAST-MODIFIED:20260210T143628Z
UID:13319-1789065000-1789083000@carolinadragway.com
SUMMARY:TEST & TUNE
DESCRIPTION:TEST & TUNE – 6:30PM TO 11:30PM
URL:https://carolinadragway.com/event/test-tune-65/
END:VEVENT
BEGIN:VEVENT
DTSTART;TZID=America/New_York:20260912T160000
DTEND;TZID=America/New_York:20260912T220000
DTSTAMP:20260423T195243
CREATED:20260210T143705Z
LAST-MODIFIED:20260210T143705Z
UID:13321-1789228800-1789250400@carolinadragway.com
SUMMARY:COFFEE & CARS
DESCRIPTION:4PM TO 10PM
URL:https://carolinadragway.com/event/coffee-cars-7/
END:VEVENT
BEGIN:VEVENT
DTSTART;TZID=America/New_York:20260917T183000
DTEND;TZID=America/New_York:20260917T233000
DTSTAMP:20260423T195243
CREATED:20260210T143735Z
LAST-MODIFIED:20260210T143735Z
UID:13323-1789669800-1789687800@carolinadragway.com
SUMMARY:TEST & TUNE
DESCRIPTION:TEST & TUNE – 6:30PM TO 11:30PM
URL:https://carolinadragway.com/event/test-tune-66/
END:VEVENT
BEGIN:VEVENT
DTSTART;TZID=America/New_York:20260918T160000
DTEND;TZID=America/New_York:20260918T220000
DTSTAMP:20260423T195243
CREATED:20260210T143812Z
LAST-MODIFIED:20260210T143812Z
UID:13325-1789747200-1789768800@carolinadragway.com
SUMMARY:OPEN PRIVATE TESTING
DESCRIPTION:4PM TO 10PM
URL:https://carolinadragway.com/event/open-private-testing-5/
END:VEVENT
BEGIN:VEVENT
DTSTART;TZID=America/New_York:20260919T100000
DTEND;TZID=America/New_York:20260919T233000
DTSTAMP:20260423T195243
CREATED:20260210T143849Z
LAST-MODIFIED:20260210T143849Z
UID:13327-1789812000-1789860600@carolinadragway.com
SUMMARY:MIKE HILL'S GRUDGEFEST
DESCRIPTION:10AM TO 11:30PM
URL:https://carolinadragway.com/event/mike-hills-grudgefest-4/
END:VEVENT
BEGIN:VEVENT
DTSTART;TZID=America/New_York:20261001T080000
DTEND;TZID=America/New_York:20261004T170000
DTSTAMP:20260423T195243
CREATED:20260210T143949Z
LAST-MODIFIED:20260223T134723Z
UID:13329-1790841600-1791133200@carolinadragway.com
SUMMARY:NHRA DIVISION 2 BRACKET FINALS
DESCRIPTION:
URL:https://carolinadragway.com/event/nhra-division-2-bracket-finals/
END:VEVENT
BEGIN:VEVENT
DTSTART;TZID=America/New_York:20261008T183000
DTEND;TZID=America/New_York:20261008T233000
DTSTAMP:20260423T195243
CREATED:20260210T144020Z
LAST-MODIFIED:20260210T144020Z
UID:13331-1791484200-1791502200@carolinadragway.com
SUMMARY:TEST & TUNE
DESCRIPTION:TEST & TUNE – 6:30PM TO 11:30PM
URL:https://carolinadragway.com/event/test-tune-67/
END:VEVENT
BEGIN:VEVENT
DTSTART;TZID=America/New_York:20261015T183000
DTEND;TZID=America/New_York:20261015T233000
DTSTAMP:20260423T195243
CREATED:20260210T144044Z
LAST-MODIFIED:20260210T144044Z
UID:13333-1792089000-1792107000@carolinadragway.com
SUMMARY:TEST & TUNE
DESCRIPTION:TEST & TUNE – 6:30PM TO 11:30PM
URL:https://carolinadragway.com/event/test-tune-68/
END:VEVENT
BEGIN:VEVENT
DTSTART;TZID=America/New_York:20261017T100000
DTEND;TZID=America/New_York:20261017T233000
DTSTAMP:20260423T195243
CREATED:20260210T144121Z
LAST-MODIFIED:20260210T144121Z
UID:13335-1792231200-1792279800@carolinadragway.com
SUMMARY:TONY BYNE'S PRIME TIME RACE
DESCRIPTION:10AM TO 11:30PM
URL:https://carolinadragway.com/event/tony-bynes-prime-time-race/
END:VEVENT
BEGIN:VEVENT
DTSTART;TZID=America/New_York:20261022T183000
DTEND;TZID=America/New_York:20261022T233000
DTSTAMP:20260423T195243
CREATED:20260210T144149Z
LAST-MODIFIED:20260210T144149Z
UID:13337-1792693800-1792711800@carolinadragway.com
SUMMARY:TEST & TUNE
DESCRIPTION:TEST & TUNE – 6:30PM TO 11:30PM
URL:https://carolinadragway.com/event/test-tune-69/
END:VEVENT
BEGIN:VEVENT
DTSTART;TZID=America/New_York:20261024T123000
DTEND;TZID=America/New_York:20261024T233000
DTSTAMP:20260423T195243
CREATED:20260210T144230Z
LAST-MODIFIED:20260210T144230Z
UID:13339-1792845000-1792884600@carolinadragway.com
SUMMARY:ALL OUT 5 IMPORT & DOMESTIC
DESCRIPTION:12PM TO 11:30PM 
URL:https://carolinadragway.com/event/all-out-5-import-domestic/
END:VEVENT
BEGIN:VEVENT
DTSTART;TZID=America/New_York:20261029T183000
DTEND;TZID=America/New_York:20261029T233000
DTSTAMP:20260423T195243
CREATED:20260210T144252Z
LAST-MODIFIED:20260210T144252Z
UID:13341-1793298600-1793316600@carolinadragway.com
SUMMARY:TEST & TUNE
DESCRIPTION:TEST & TUNE – 6:30PM TO 11:30PM
URL:https://carolinadragway.com/event/test-tune-70/
END:VEVENT
BEGIN:VEVENT
DTSTART;TZID=America/New_York:20261105T183000
DTEND;TZID=America/New_York:20261105T233000
DTSTAMP:20260423T195243
CREATED:20260210T144321Z
LAST-MODIFIED:20260210T144321Z
UID:13343-1793903400-1793921400@carolinadragway.com
SUMMARY:TEST & TUNE
DESCRIPTION:TEST & TUNE – 6:30PM TO 11:30PM
URL:https://carolinadragway.com/event/test-tune-71/
END:VEVENT
BEGIN:VEVENT
DTSTART;TZID=America/New_York:20261107T080000
DTEND;TZID=America/New_York:20261108T220000
DTSTAMP:20260423T195243
CREATED:20260210T144354Z
LAST-MODIFIED:20260210T144354Z
UID:13345-1794038400-1794175200@carolinadragway.com
SUMMARY:BIG BUCKS BRACKET RACE
DESCRIPTION:
URL:https://carolinadragway.com/event/big-bucks-bracket-race/
END:VEVENT
BEGIN:VEVENT
DTSTART;TZID=America/New_York:20261112T183000
DTEND;TZID=America/New_York:20261112T233000
DTSTAMP:20260423T195243
CREATED:20260210T144416Z
LAST-MODIFIED:20260210T144416Z
UID:13347-1794508200-1794526200@carolinadragway.com
SUMMARY:TEST & TUNE
DESCRIPTION:TEST & TUNE – 6:30PM TO 11:30PM
URL:https://carolinadragway.com/event/test-tune-72/
END:VEVENT
BEGIN:VEVENT
DTSTART;TZID=America/New_York:20261127T120000
DTEND;TZID=America/New_York:20261127T180000
DTSTAMP:20260423T195243
CREATED:20260210T144454Z
LAST-MODIFIED:20260210T144454Z
UID:13349-1795780800-1795802400@carolinadragway.com
SUMMARY:OPEN PRIVATE TESTING
DESCRIPTION:12PM TO 6PM
URL:https://carolinadragway.com/event/open-private-testing-6/
END:VEVENT
BEGIN:VEVENT
DTSTART;TZID=America/New_York:20261128T090000
DTEND;TZID=America/New_York:20261128T190000
DTSTAMP:20260423T195243
CREATED:20260210T144532Z
LAST-MODIFIED:20260210T144532Z
UID:13351-1795856400-1795892400@carolinadragway.com
SUMMARY:TRIGGAMAN'S BIRTHDAY BASH
DESCRIPTION:9AM TO 7PM
URL:https://carolinadragway.com/event/triggamans-birthday-bash/
END:VEVENT
BEGIN:VEVENT
DTSTART;TZID=America/New_York:20261205T100000
DTEND;TZID=America/New_York:20261205T160000
DTSTAMP:20260423T195243
CREATED:20260210T144620Z
LAST-MODIFIED:20260210T144620Z
UID:13353-1796464800-1796486400@carolinadragway.com
SUMMARY:COFFEE & CARS (TOYS FOR TOTS)
DESCRIPTION:10AM TO 4PM
URL:https://carolinadragway.com/event/coffee-cars-toys-for-tots-2/
END:VEVENT
BEGIN:VEVENT
DTSTART;TZID=America/New_York:20261212T080000
DTEND;TZID=America/New_York:20261212T233000
DTSTAMP:20260423T195243
CREATED:20260210T144651Z
LAST-MODIFIED:20260210T144651Z
UID:13355-1797062400-1797118200@carolinadragway.com
SUMMARY:SUPER CARS
DESCRIPTION:
URL:https://carolinadragway.com/event/super-cars/
END:VEVENT
END:VCALENDAR