BEGIN:VCALENDAR
VERSION:2.0
PRODID:-//Carolina Dragway &quot;The House of Hook&quot; in Aiken, SC - ECPv6.15.20//NONSGML v1.0//EN
CALSCALE:GREGORIAN
METHOD:PUBLISH
X-ORIGINAL-URL:https://carolinadragway.com
X-WR-CALDESC:Events for Carolina Dragway &quot;The House of Hook&quot; in Aiken, SC
REFRESH-INTERVAL;VALUE=DURATION:PT1H
X-Robots-Tag:noindex
X-PUBLISHED-TTL:PT1H
BEGIN:VTIMEZONE
TZID:America/New_York
BEGIN:DAYLIGHT
TZOFFSETFROM:-0500
TZOFFSETTO:-0400
TZNAME:EDT
DTSTART:20180311T070000
END:DAYLIGHT
BEGIN:STANDARD
TZOFFSETFROM:-0400
TZOFFSETTO:-0500
TZNAME:EST
DTSTART:20181104T060000
END:STANDARD
BEGIN:DAYLIGHT
TZOFFSETFROM:-0500
TZOFFSETTO:-0400
TZNAME:EDT
DTSTART:20190310T070000
END:DAYLIGHT
BEGIN:STANDARD
TZOFFSETFROM:-0400
TZOFFSETTO:-0500
TZNAME:EST
DTSTART:20191103T060000
END:STANDARD
BEGIN:DAYLIGHT
TZOFFSETFROM:-0500
TZOFFSETTO:-0400
TZNAME:EDT
DTSTART:20200308T070000
END:DAYLIGHT
BEGIN:STANDARD
TZOFFSETFROM:-0400
TZOFFSETTO:-0500
TZNAME:EST
DTSTART:20201101T060000
END:STANDARD
BEGIN:DAYLIGHT
TZOFFSETFROM:-0500
TZOFFSETTO:-0400
TZNAME:EDT
DTSTART:20210314T070000
END:DAYLIGHT
BEGIN:STANDARD
TZOFFSETFROM:-0400
TZOFFSETTO:-0500
TZNAME:EST
DTSTART:20211107T060000
END:STANDARD
BEGIN:DAYLIGHT
TZOFFSETFROM:-0500
TZOFFSETTO:-0400
TZNAME:EDT
DTSTART:20220313T070000
END:DAYLIGHT
BEGIN:STANDARD
TZOFFSETFROM:-0400
TZOFFSETTO:-0500
TZNAME:EST
DTSTART:20221106T060000
END:STANDARD
END:VTIMEZONE
BEGIN:VEVENT
DTSTART;TZID=America/New_York:20210715T183000
DTEND;TZID=America/New_York:20210715T230000
DTSTAMP:20260425T070606
CREATED:20210714T125843Z
LAST-MODIFIED:20211007T125930Z
UID:5562-1626373800-1626390000@carolinadragway.com
SUMMARY:Thursday Night Thunder: Test-n-Tune & Grudge Race
DESCRIPTION:Gates Open: 6:30 PM\nRacing Begins: 7:00 PM\nSpectators: $15\nLadies: $10\nKids 12 & Under: FREE\nTech Cards to Race: $20\nLimited to 120 Cars\n1/8 mile & 1/4 mile Drag Racing\n* ALL ARE WELCOME! *
URL:https://carolinadragway.com/event/thursday-night-thunder-test-n-tune-grudge-race/
LOCATION:Carolina Dragway\, 302 Dragstrip Road\, Aiken\, SC\, 29803\, United States
CATEGORIES:Test-n-Tune
ATTACH;FMTTYPE=image/jpeg:https://carolinadragway.com/wp-content/uploads/2021/07/thursday-night-thunder-test-and-tune-grudge-racing.jpg
ORGANIZER;CN="Carolina Dragway":MAILTO:info@carolinadragway.com
END:VEVENT
BEGIN:VEVENT
DTSTART;TZID=America/New_York:20210715T183000
DTEND;TZID=America/New_York:20210715T230000
DTSTAMP:20260425T070606
CREATED:20210714T125843Z
LAST-MODIFIED:20211007T125930Z
UID:5562-1626373800-1626390000@carolinadragway.com
SUMMARY:Thursday Night Thunder: Test-n-Tune & Grudge Race
DESCRIPTION:Gates Open: 6:30 PM\nRacing Begins: 7:00 PM\nSpectators: $15\nLadies: $10\nKids 12 & Under: FREE\nTech Cards to Race: $20\nLimited to 120 Cars\n1/8 mile & 1/4 mile Drag Racing\n* ALL ARE WELCOME! *
URL:https://carolinadragway.com/event/thursday-night-thunder-test-n-tune-grudge-race/
LOCATION:Carolina Dragway\, 302 Dragstrip Road\, Aiken\, SC\, 29803\, United States
CATEGORIES:Test-n-Tune
ATTACH;FMTTYPE=image/jpeg:https://carolinadragway.com/wp-content/uploads/2021/07/thursday-night-thunder-test-and-tune-grudge-racing.jpg
ORGANIZER;CN="Carolina Dragway":MAILTO:info@carolinadragway.com
END:VEVENT
BEGIN:VEVENT
DTSTART;TZID=America/New_York:20210715T183000
DTEND;TZID=America/New_York:20210715T230000
DTSTAMP:20260425T070606
CREATED:20210714T125843Z
LAST-MODIFIED:20211007T125930Z
UID:5562-1626373800-1626390000@carolinadragway.com
SUMMARY:Thursday Night Thunder: Test-n-Tune & Grudge Race
DESCRIPTION:Gates Open: 6:30 PM\nRacing Begins: 7:00 PM\nSpectators: $15\nLadies: $10\nKids 12 & Under: FREE\nTech Cards to Race: $20\nLimited to 120 Cars\n1/8 mile & 1/4 mile Drag Racing\n* ALL ARE WELCOME! *
URL:https://carolinadragway.com/event/thursday-night-thunder-test-n-tune-grudge-race/
LOCATION:Carolina Dragway\, 302 Dragstrip Road\, Aiken\, SC\, 29803\, United States
CATEGORIES:Test-n-Tune
ATTACH;FMTTYPE=image/jpeg:https://carolinadragway.com/wp-content/uploads/2021/07/thursday-night-thunder-test-and-tune-grudge-racing.jpg
ORGANIZER;CN="Carolina Dragway":MAILTO:info@carolinadragway.com
END:VEVENT
BEGIN:VEVENT
DTSTART;TZID=America/New_York:20210715T183000
DTEND;TZID=America/New_York:20210715T230000
DTSTAMP:20260425T070606
CREATED:20210714T125843Z
LAST-MODIFIED:20211007T125930Z
UID:5562-1626373800-1626390000@carolinadragway.com
SUMMARY:Thursday Night Thunder: Test-n-Tune & Grudge Race
DESCRIPTION:Gates Open: 6:30 PM\nRacing Begins: 7:00 PM\nSpectators: $15\nLadies: $10\nKids 12 & Under: FREE\nTech Cards to Race: $20\nLimited to 120 Cars\n1/8 mile & 1/4 mile Drag Racing\n* ALL ARE WELCOME! *
URL:https://carolinadragway.com/event/thursday-night-thunder-test-n-tune-grudge-race/
LOCATION:Carolina Dragway\, 302 Dragstrip Road\, Aiken\, SC\, 29803\, United States
CATEGORIES:Test-n-Tune
ATTACH;FMTTYPE=image/jpeg:https://carolinadragway.com/wp-content/uploads/2021/07/thursday-night-thunder-test-and-tune-grudge-racing.jpg
ORGANIZER;CN="Carolina Dragway":MAILTO:info@carolinadragway.com
END:VEVENT
BEGIN:VEVENT
DTSTART;TZID=America/New_York:20210715T183000
DTEND;TZID=America/New_York:20210715T230000
DTSTAMP:20260425T070606
CREATED:20210714T125843Z
LAST-MODIFIED:20211007T125930Z
UID:5562-1626373800-1626390000@carolinadragway.com
SUMMARY:Thursday Night Thunder: Test-n-Tune & Grudge Race
DESCRIPTION:Gates Open: 6:30 PM\nRacing Begins: 7:00 PM\nSpectators: $15\nLadies: $10\nKids 12 & Under: FREE\nTech Cards to Race: $20\nLimited to 120 Cars\n1/8 mile & 1/4 mile Drag Racing\n* ALL ARE WELCOME! *
URL:https://carolinadragway.com/event/thursday-night-thunder-test-n-tune-grudge-race/
LOCATION:Carolina Dragway\, 302 Dragstrip Road\, Aiken\, SC\, 29803\, United States
CATEGORIES:Test-n-Tune
ATTACH;FMTTYPE=image/jpeg:https://carolinadragway.com/wp-content/uploads/2021/07/thursday-night-thunder-test-and-tune-grudge-racing.jpg
ORGANIZER;CN="Carolina Dragway":MAILTO:info@carolinadragway.com
END:VEVENT
BEGIN:VEVENT
DTSTART;TZID=America/New_York:20210715T183000
DTEND;TZID=America/New_York:20210715T230000
DTSTAMP:20260425T070606
CREATED:20210714T125843Z
LAST-MODIFIED:20211007T125930Z
UID:5562-1626373800-1626390000@carolinadragway.com
SUMMARY:Thursday Night Thunder: Test-n-Tune & Grudge Race
DESCRIPTION:Gates Open: 6:30 PM\nRacing Begins: 7:00 PM\nSpectators: $15\nLadies: $10\nKids 12 & Under: FREE\nTech Cards to Race: $20\nLimited to 120 Cars\n1/8 mile & 1/4 mile Drag Racing\n* ALL ARE WELCOME! *
URL:https://carolinadragway.com/event/thursday-night-thunder-test-n-tune-grudge-race/
LOCATION:Carolina Dragway\, 302 Dragstrip Road\, Aiken\, SC\, 29803\, United States
CATEGORIES:Test-n-Tune
ATTACH;FMTTYPE=image/jpeg:https://carolinadragway.com/wp-content/uploads/2021/07/thursday-night-thunder-test-and-tune-grudge-racing.jpg
ORGANIZER;CN="Carolina Dragway":MAILTO:info@carolinadragway.com
END:VEVENT
BEGIN:VEVENT
DTSTART;TZID=America/New_York:20210715T183000
DTEND;TZID=America/New_York:20210715T230000
DTSTAMP:20260425T070606
CREATED:20210714T125843Z
LAST-MODIFIED:20211007T125930Z
UID:5562-1626373800-1626390000@carolinadragway.com
SUMMARY:Thursday Night Thunder: Test-n-Tune & Grudge Race
DESCRIPTION:Gates Open: 6:30 PM\nRacing Begins: 7:00 PM\nSpectators: $15\nLadies: $10\nKids 12 & Under: FREE\nTech Cards to Race: $20\nLimited to 120 Cars\n1/8 mile & 1/4 mile Drag Racing\n* ALL ARE WELCOME! *
URL:https://carolinadragway.com/event/thursday-night-thunder-test-n-tune-grudge-race/
LOCATION:Carolina Dragway\, 302 Dragstrip Road\, Aiken\, SC\, 29803\, United States
CATEGORIES:Test-n-Tune
ATTACH;FMTTYPE=image/jpeg:https://carolinadragway.com/wp-content/uploads/2021/07/thursday-night-thunder-test-and-tune-grudge-racing.jpg
ORGANIZER;CN="Carolina Dragway":MAILTO:info@carolinadragway.com
END:VEVENT
BEGIN:VEVENT
DTSTART;VALUE=DATE:20190403
DTEND;VALUE=DATE:20190404
DTSTAMP:20260425T070606
CREATED:20190410T144707Z
LAST-MODIFIED:20190410T145041Z
UID:2903-1554249600-1554335999@carolinadragway.com
SUMMARY:Test-n-Tune: April 3\, 2019 (Thursday)
DESCRIPTION:Test-n-Tune on Thursday\, April 3\, 2019.
URL:https://carolinadragway.com/event/test-n-tune-april-3-2019-thursday/
LOCATION:Carolina Dragway\, 302 Dragstrip Road\, Aiken\, SC\, 29803\, United States
CATEGORIES:Test-n-Tune
ATTACH;FMTTYPE=image/jpeg:https://carolinadragway.com/wp-content/uploads/2018/02/test-n-tune.jpg
ORGANIZER;CN="Carolina Dragway":MAILTO:info@carolinadragway.com
END:VEVENT
END:VCALENDAR