BEGIN:VCALENDAR
VERSION:2.0
PRODID:-//Carolina Dragway &quot;The House of Hook&quot; in Aiken, SC - ECPv6.15.20//NONSGML v1.0//EN
CALSCALE:GREGORIAN
METHOD:PUBLISH
X-WR-CALNAME:Carolina Dragway &quot;The House of Hook&quot; in Aiken, SC
X-ORIGINAL-URL:https://carolinadragway.com
X-WR-CALDESC:Events for Carolina Dragway &quot;The House of Hook&quot; in Aiken, SC
REFRESH-INTERVAL;VALUE=DURATION:PT1H
X-Robots-Tag:noindex
X-PUBLISHED-TTL:PT1H
BEGIN:VTIMEZONE
TZID:America/New_York
BEGIN:DAYLIGHT
TZOFFSETFROM:-0500
TZOFFSETTO:-0400
TZNAME:EDT
DTSTART:20200308T070000
END:DAYLIGHT
BEGIN:STANDARD
TZOFFSETFROM:-0400
TZOFFSETTO:-0500
TZNAME:EST
DTSTART:20201101T060000
END:STANDARD
BEGIN:DAYLIGHT
TZOFFSETFROM:-0500
TZOFFSETTO:-0400
TZNAME:EDT
DTSTART:20210314T070000
END:DAYLIGHT
BEGIN:STANDARD
TZOFFSETFROM:-0400
TZOFFSETTO:-0500
TZNAME:EST
DTSTART:20211107T060000
END:STANDARD
BEGIN:DAYLIGHT
TZOFFSETFROM:-0500
TZOFFSETTO:-0400
TZNAME:EDT
DTSTART:20220313T070000
END:DAYLIGHT
BEGIN:STANDARD
TZOFFSETFROM:-0400
TZOFFSETTO:-0500
TZNAME:EST
DTSTART:20221106T060000
END:STANDARD
BEGIN:DAYLIGHT
TZOFFSETFROM:-0500
TZOFFSETTO:-0400
TZNAME:EDT
DTSTART:20230312T070000
END:DAYLIGHT
BEGIN:STANDARD
TZOFFSETFROM:-0400
TZOFFSETTO:-0500
TZNAME:EST
DTSTART:20231105T060000
END:STANDARD
END:VTIMEZONE
BEGIN:VEVENT
DTSTART;TZID=America/New_York:20220310T183000
DTEND;TZID=America/New_York:20220310T230000
DTSTAMP:20260424T211758
CREATED:20210910T173807Z
LAST-MODIFIED:20220714T144808Z
UID:6269-1646937000-1646953200@carolinadragway.com
SUMMARY:Thursday Night Thunder: Test-n-Tune & Grudge Race
DESCRIPTION:Gates Open: 6:30 PM\nRacing Begins: 7:00 PM\nSpectators: $15\nLadies: $10\nKids 12 & Under: FREE\nTech Cards to Race: $20\nLimited to 120 Cars\n1/8 mile & 1/4 mile Drag Racing\n* ALL ARE WELCOME! *
URL:https://carolinadragway.com/event/thursday-night-thunder-test-n-tune-grudge-race-2/
LOCATION:Carolina Dragway\, 302 Dragstrip Road\, Aiken\, SC\, 29803\, United States
CATEGORIES:Test-n-Tune
ATTACH;FMTTYPE=image/jpeg:https://carolinadragway.com/wp-content/uploads/2021/07/thursday-night-thunder-test-and-tune-grudge-racing.jpg
ORGANIZER;CN="Carolina Dragway":MAILTO:info@carolinadragway.com
END:VEVENT
BEGIN:VEVENT
DTSTART;TZID=America/New_York:20220806T190000
DTEND;TZID=America/New_York:20220806T230000
DTSTAMP:20260424T211759
CREATED:20220714T171349Z
LAST-MODIFIED:20220714T172943Z
UID:8023-1659812400-1659826800@carolinadragway.com
SUMMARY:2nd Annual Summer Meet
DESCRIPTION:
URL:https://carolinadragway.com/event/2nd-annual-summer-meet/
LOCATION:Carolina Dragway\, 302 Dragstrip Road\, Aiken\, SC\, 29803\, United States
CATEGORIES:Other Events,Test-n-Tune
ORGANIZER;CN="Bring It Back Meets":MAILTO:nateprater3@gmail.com
END:VEVENT
BEGIN:VEVENT
DTSTART;TZID=America/New_York:20220804T183000
DTEND;TZID=America/New_York:20220804T230000
DTSTAMP:20260424T211759
CREATED:20210910T173807Z
LAST-MODIFIED:20220714T144947Z
UID:6310-1659637800-1659654000@carolinadragway.com
SUMMARY:Thursday Night Thunder: Test-n-Tune & Grudge Race + Slick Tire Shootout
DESCRIPTION:ALSO FEATURING: 28/29/10.5 OG Slick Tire Shootout\n$3\,000 PURSE\n8 car minimum\n$150 entry fee \nRULES:\n28/29 slicks\, Ws ok (you can come on a radial 275 only)\nAny suspension\nAny power adder\nMinimum weight 2\,700-pounds (must hit the scales to make it to the next round once eliminations have started)\nAll safety equipment required (car and driver) \nChip draw 7:30pm\nFirst round 8:00pm \n  \n \nGates Open: 6:30 PM\nRacing Begins: 7:00 PM\nSpectators: $15\nLadies: $10\nKids 12 & Under: FREE\nTech Cards to Race: $20\nLimited to 120 Cars\n1/8 mile & 1/4 mile Drag Racing\n* ALL ARE WELCOME! *
URL:https://carolinadragway.com/event/thursday-night-thunder-test-n-tune-grudge-race-2-2022-08-04/
LOCATION:Carolina Dragway\, 302 Dragstrip Road\, Aiken\, SC\, 29803\, United States
CATEGORIES:Test-n-Tune
ATTACH;FMTTYPE=image/jpeg:https://carolinadragway.com/wp-content/uploads/2021/07/thursday-night-thunder-test-and-tune-grudge-racing.jpg
ORGANIZER;CN="Carolina Dragway":MAILTO:info@carolinadragway.com
END:VEVENT
BEGIN:VEVENT
DTSTART;TZID=America/New_York:20220310T183000
DTEND;TZID=America/New_York:20220310T230000
DTSTAMP:20260424T211759
CREATED:20210910T173807Z
LAST-MODIFIED:20220714T144808Z
UID:6269-1646937000-1646953200@carolinadragway.com
SUMMARY:Thursday Night Thunder: Test-n-Tune & Grudge Race
DESCRIPTION:Gates Open: 6:30 PM\nRacing Begins: 7:00 PM\nSpectators: $15\nLadies: $10\nKids 12 & Under: FREE\nTech Cards to Race: $20\nLimited to 120 Cars\n1/8 mile & 1/4 mile Drag Racing\n* ALL ARE WELCOME! *
URL:https://carolinadragway.com/event/thursday-night-thunder-test-n-tune-grudge-race-2/
LOCATION:Carolina Dragway\, 302 Dragstrip Road\, Aiken\, SC\, 29803\, United States
CATEGORIES:Test-n-Tune
ATTACH;FMTTYPE=image/jpeg:https://carolinadragway.com/wp-content/uploads/2021/07/thursday-night-thunder-test-and-tune-grudge-racing.jpg
ORGANIZER;CN="Carolina Dragway":MAILTO:info@carolinadragway.com
END:VEVENT
BEGIN:VEVENT
DTSTART;TZID=America/New_York:20220723T180000
DTEND;TZID=America/New_York:20220723T230000
DTSTAMP:20260424T211759
CREATED:20211227T154100Z
LAST-MODIFIED:20220713T002811Z
UID:6801-1658599200-1658617200@carolinadragway.com
SUMMARY:Street Car Saturday: Test-N-Tune
DESCRIPTION:Primarily for street cars but ALL are welcome to attend! \nGates open at 6:00pm\, racing until 11:00pm
URL:https://carolinadragway.com/event/street-car-saturday-test-n-tune-3/
LOCATION:Carolina Dragway\, 302 Dragstrip Road\, Aiken\, SC\, 29803\, United States
CATEGORIES:Test-n-Tune
ATTACH;FMTTYPE=image/jpeg:https://carolinadragway.com/wp-content/uploads/2018/02/test-n-tune.jpg
ORGANIZER;CN="Carolina Dragway":MAILTO:info@carolinadragway.com
END:VEVENT
BEGIN:VEVENT
DTSTART;TZID=America/New_York:20220310T183000
DTEND;TZID=America/New_York:20220310T230000
DTSTAMP:20260424T211759
CREATED:20210910T173807Z
LAST-MODIFIED:20220714T144808Z
UID:6269-1646937000-1646953200@carolinadragway.com
SUMMARY:Thursday Night Thunder: Test-n-Tune & Grudge Race
DESCRIPTION:Gates Open: 6:30 PM\nRacing Begins: 7:00 PM\nSpectators: $15\nLadies: $10\nKids 12 & Under: FREE\nTech Cards to Race: $20\nLimited to 120 Cars\n1/8 mile & 1/4 mile Drag Racing\n* ALL ARE WELCOME! *
URL:https://carolinadragway.com/event/thursday-night-thunder-test-n-tune-grudge-race-2/
LOCATION:Carolina Dragway\, 302 Dragstrip Road\, Aiken\, SC\, 29803\, United States
CATEGORIES:Test-n-Tune
ATTACH;FMTTYPE=image/jpeg:https://carolinadragway.com/wp-content/uploads/2021/07/thursday-night-thunder-test-and-tune-grudge-racing.jpg
ORGANIZER;CN="Carolina Dragway":MAILTO:info@carolinadragway.com
END:VEVENT
BEGIN:VEVENT
DTSTART;TZID=America/New_York:20220310T183000
DTEND;TZID=America/New_York:20220310T230000
DTSTAMP:20260424T211759
CREATED:20210910T173807Z
LAST-MODIFIED:20220714T144808Z
UID:6269-1646937000-1646953200@carolinadragway.com
SUMMARY:Thursday Night Thunder: Test-n-Tune & Grudge Race
DESCRIPTION:Gates Open: 6:30 PM\nRacing Begins: 7:00 PM\nSpectators: $15\nLadies: $10\nKids 12 & Under: FREE\nTech Cards to Race: $20\nLimited to 120 Cars\n1/8 mile & 1/4 mile Drag Racing\n* ALL ARE WELCOME! *
URL:https://carolinadragway.com/event/thursday-night-thunder-test-n-tune-grudge-race-2/
LOCATION:Carolina Dragway\, 302 Dragstrip Road\, Aiken\, SC\, 29803\, United States
CATEGORIES:Test-n-Tune
ATTACH;FMTTYPE=image/jpeg:https://carolinadragway.com/wp-content/uploads/2021/07/thursday-night-thunder-test-and-tune-grudge-racing.jpg
ORGANIZER;CN="Carolina Dragway":MAILTO:info@carolinadragway.com
END:VEVENT
BEGIN:VEVENT
DTSTART;TZID=America/New_York:20220310T183000
DTEND;TZID=America/New_York:20220310T230000
DTSTAMP:20260424T211759
CREATED:20210910T173807Z
LAST-MODIFIED:20220714T144808Z
UID:6269-1646937000-1646953200@carolinadragway.com
SUMMARY:Thursday Night Thunder: Test-n-Tune & Grudge Race
DESCRIPTION:Gates Open: 6:30 PM\nRacing Begins: 7:00 PM\nSpectators: $15\nLadies: $10\nKids 12 & Under: FREE\nTech Cards to Race: $20\nLimited to 120 Cars\n1/8 mile & 1/4 mile Drag Racing\n* ALL ARE WELCOME! *
URL:https://carolinadragway.com/event/thursday-night-thunder-test-n-tune-grudge-race-2/
LOCATION:Carolina Dragway\, 302 Dragstrip Road\, Aiken\, SC\, 29803\, United States
CATEGORIES:Test-n-Tune
ATTACH;FMTTYPE=image/jpeg:https://carolinadragway.com/wp-content/uploads/2021/07/thursday-night-thunder-test-and-tune-grudge-racing.jpg
ORGANIZER;CN="Carolina Dragway":MAILTO:info@carolinadragway.com
END:VEVENT
BEGIN:VEVENT
DTSTART;TZID=America/New_York:20220310T183000
DTEND;TZID=America/New_York:20220310T230000
DTSTAMP:20260424T211759
CREATED:20210910T173807Z
LAST-MODIFIED:20220714T144808Z
UID:6269-1646937000-1646953200@carolinadragway.com
SUMMARY:Thursday Night Thunder: Test-n-Tune & Grudge Race
DESCRIPTION:Gates Open: 6:30 PM\nRacing Begins: 7:00 PM\nSpectators: $15\nLadies: $10\nKids 12 & Under: FREE\nTech Cards to Race: $20\nLimited to 120 Cars\n1/8 mile & 1/4 mile Drag Racing\n* ALL ARE WELCOME! *
URL:https://carolinadragway.com/event/thursday-night-thunder-test-n-tune-grudge-race-2/
LOCATION:Carolina Dragway\, 302 Dragstrip Road\, Aiken\, SC\, 29803\, United States
CATEGORIES:Test-n-Tune
ATTACH;FMTTYPE=image/jpeg:https://carolinadragway.com/wp-content/uploads/2021/07/thursday-night-thunder-test-and-tune-grudge-racing.jpg
ORGANIZER;CN="Carolina Dragway":MAILTO:info@carolinadragway.com
END:VEVENT
BEGIN:VEVENT
DTSTART;TZID=America/New_York:20220310T183000
DTEND;TZID=America/New_York:20220310T230000
DTSTAMP:20260424T211759
CREATED:20210910T173807Z
LAST-MODIFIED:20220714T144808Z
UID:6269-1646937000-1646953200@carolinadragway.com
SUMMARY:Thursday Night Thunder: Test-n-Tune & Grudge Race
DESCRIPTION:Gates Open: 6:30 PM\nRacing Begins: 7:00 PM\nSpectators: $15\nLadies: $10\nKids 12 & Under: FREE\nTech Cards to Race: $20\nLimited to 120 Cars\n1/8 mile & 1/4 mile Drag Racing\n* ALL ARE WELCOME! *
URL:https://carolinadragway.com/event/thursday-night-thunder-test-n-tune-grudge-race-2/
LOCATION:Carolina Dragway\, 302 Dragstrip Road\, Aiken\, SC\, 29803\, United States
CATEGORIES:Test-n-Tune
ATTACH;FMTTYPE=image/jpeg:https://carolinadragway.com/wp-content/uploads/2021/07/thursday-night-thunder-test-and-tune-grudge-racing.jpg
ORGANIZER;CN="Carolina Dragway":MAILTO:info@carolinadragway.com
END:VEVENT
BEGIN:VEVENT
DTSTART;TZID=America/New_York:20220310T183000
DTEND;TZID=America/New_York:20220310T230000
DTSTAMP:20260424T211759
CREATED:20210910T173807Z
LAST-MODIFIED:20220714T144808Z
UID:6269-1646937000-1646953200@carolinadragway.com
SUMMARY:Thursday Night Thunder: Test-n-Tune & Grudge Race
DESCRIPTION:Gates Open: 6:30 PM\nRacing Begins: 7:00 PM\nSpectators: $15\nLadies: $10\nKids 12 & Under: FREE\nTech Cards to Race: $20\nLimited to 120 Cars\n1/8 mile & 1/4 mile Drag Racing\n* ALL ARE WELCOME! *
URL:https://carolinadragway.com/event/thursday-night-thunder-test-n-tune-grudge-race-2/
LOCATION:Carolina Dragway\, 302 Dragstrip Road\, Aiken\, SC\, 29803\, United States
CATEGORIES:Test-n-Tune
ATTACH;FMTTYPE=image/jpeg:https://carolinadragway.com/wp-content/uploads/2021/07/thursday-night-thunder-test-and-tune-grudge-racing.jpg
ORGANIZER;CN="Carolina Dragway":MAILTO:info@carolinadragway.com
END:VEVENT
BEGIN:VEVENT
DTSTART;TZID=America/New_York:20220310T183000
DTEND;TZID=America/New_York:20220310T230000
DTSTAMP:20260424T211759
CREATED:20210910T173807Z
LAST-MODIFIED:20220714T144808Z
UID:6269-1646937000-1646953200@carolinadragway.com
SUMMARY:Thursday Night Thunder: Test-n-Tune & Grudge Race
DESCRIPTION:Gates Open: 6:30 PM\nRacing Begins: 7:00 PM\nSpectators: $15\nLadies: $10\nKids 12 & Under: FREE\nTech Cards to Race: $20\nLimited to 120 Cars\n1/8 mile & 1/4 mile Drag Racing\n* ALL ARE WELCOME! *
URL:https://carolinadragway.com/event/thursday-night-thunder-test-n-tune-grudge-race-2/
LOCATION:Carolina Dragway\, 302 Dragstrip Road\, Aiken\, SC\, 29803\, United States
CATEGORIES:Test-n-Tune
ATTACH;FMTTYPE=image/jpeg:https://carolinadragway.com/wp-content/uploads/2021/07/thursday-night-thunder-test-and-tune-grudge-racing.jpg
ORGANIZER;CN="Carolina Dragway":MAILTO:info@carolinadragway.com
END:VEVENT
BEGIN:VEVENT
DTSTART;TZID=America/New_York:20220604T160000
DTEND;TZID=America/New_York:20220604T220000
DTSTAMP:20260424T211759
CREATED:20211227T153436Z
LAST-MODIFIED:20220519T182300Z
UID:6795-1654358400-1654380000@carolinadragway.com
SUMMARY:Coffee & Cars - Test N Tune
DESCRIPTION:
URL:https://carolinadragway.com/event/coffee-cars-test-n-tune-2/
LOCATION:Carolina Dragway\, 302 Dragstrip Road\, Aiken\, SC\, 29803\, United States
CATEGORIES:Other Events,Test-n-Tune
ATTACH;FMTTYPE=image/jpeg:https://carolinadragway.com/wp-content/uploads/2018/02/coffee-and-cars.jpg
ORGANIZER;CN="Carolina Dragway":MAILTO:info@carolinadragway.com
END:VEVENT
BEGIN:VEVENT
DTSTART;TZID=America/New_York:20220310T183000
DTEND;TZID=America/New_York:20220310T230000
DTSTAMP:20260424T211759
CREATED:20210910T173807Z
LAST-MODIFIED:20220714T144808Z
UID:6269-1646937000-1646953200@carolinadragway.com
SUMMARY:Thursday Night Thunder: Test-n-Tune & Grudge Race
DESCRIPTION:Gates Open: 6:30 PM\nRacing Begins: 7:00 PM\nSpectators: $15\nLadies: $10\nKids 12 & Under: FREE\nTech Cards to Race: $20\nLimited to 120 Cars\n1/8 mile & 1/4 mile Drag Racing\n* ALL ARE WELCOME! *
URL:https://carolinadragway.com/event/thursday-night-thunder-test-n-tune-grudge-race-2/
LOCATION:Carolina Dragway\, 302 Dragstrip Road\, Aiken\, SC\, 29803\, United States
CATEGORIES:Test-n-Tune
ATTACH;FMTTYPE=image/jpeg:https://carolinadragway.com/wp-content/uploads/2021/07/thursday-night-thunder-test-and-tune-grudge-racing.jpg
ORGANIZER;CN="Carolina Dragway":MAILTO:info@carolinadragway.com
END:VEVENT
BEGIN:VEVENT
DTSTART;TZID=America/New_York:20220310T183000
DTEND;TZID=America/New_York:20220310T230000
DTSTAMP:20260424T211759
CREATED:20210910T173807Z
LAST-MODIFIED:20220714T144808Z
UID:6269-1646937000-1646953200@carolinadragway.com
SUMMARY:Thursday Night Thunder: Test-n-Tune & Grudge Race
DESCRIPTION:Gates Open: 6:30 PM\nRacing Begins: 7:00 PM\nSpectators: $15\nLadies: $10\nKids 12 & Under: FREE\nTech Cards to Race: $20\nLimited to 120 Cars\n1/8 mile & 1/4 mile Drag Racing\n* ALL ARE WELCOME! *
URL:https://carolinadragway.com/event/thursday-night-thunder-test-n-tune-grudge-race-2/
LOCATION:Carolina Dragway\, 302 Dragstrip Road\, Aiken\, SC\, 29803\, United States
CATEGORIES:Test-n-Tune
ATTACH;FMTTYPE=image/jpeg:https://carolinadragway.com/wp-content/uploads/2021/07/thursday-night-thunder-test-and-tune-grudge-racing.jpg
ORGANIZER;CN="Carolina Dragway":MAILTO:info@carolinadragway.com
END:VEVENT
BEGIN:VEVENT
DTSTART;VALUE=DATE:20220514
DTEND;VALUE=DATE:20220515
DTSTAMP:20260424T211759
CREATED:20220405T192901Z
LAST-MODIFIED:20220509T182215Z
UID:7344-1652486400-1652572799@carolinadragway.com
SUMMARY:Carolina N/T Invades Carolina Dragway
DESCRIPTION:Carolina N/T Invades Carolina Dragway + Car/Truck/Bike show & swap meet!\n28/275 shootout – FREE entry with TNT tech card: $3\,000\, 8-car min\nASAG Nos or Boost – FREE entry with TNT tech card: $2\,500\, 8-car min\nCar/Truck/Bike show & swap meet – over 20 categories\nGrudge Racing & Open Testing for ALL cars & motorcycles \nSCHEDULE:\nGates open at 11:00am for racers & Car/Truck/Bike show parking\nTrack goes hot at 3:00pm\nShakedowns & open testing\nDrivers meeting 5:30pm\nFirst round 6:30/7:00pm  \nPRICES:\n$25 admission\n$25 TNT\n$25 Car/Truck/Bike show\n$25 to sell parts
URL:https://carolinadragway.com/event/carolina-n-t-invades-carolina-dragway/
LOCATION:Carolina Dragway\, 302 Dragstrip Road\, Aiken\, SC\, 29803\, United States
CATEGORIES:Heads-Up Races,Test-n-Tune
END:VEVENT
BEGIN:VEVENT
DTSTART;TZID=America/New_York:20220310T183000
DTEND;TZID=America/New_York:20220310T230000
DTSTAMP:20260424T211759
CREATED:20210910T173807Z
LAST-MODIFIED:20220714T144808Z
UID:6269-1646937000-1646953200@carolinadragway.com
SUMMARY:Thursday Night Thunder: Test-n-Tune & Grudge Race
DESCRIPTION:Gates Open: 6:30 PM\nRacing Begins: 7:00 PM\nSpectators: $15\nLadies: $10\nKids 12 & Under: FREE\nTech Cards to Race: $20\nLimited to 120 Cars\n1/8 mile & 1/4 mile Drag Racing\n* ALL ARE WELCOME! *
URL:https://carolinadragway.com/event/thursday-night-thunder-test-n-tune-grudge-race-2/
LOCATION:Carolina Dragway\, 302 Dragstrip Road\, Aiken\, SC\, 29803\, United States
CATEGORIES:Test-n-Tune
ATTACH;FMTTYPE=image/jpeg:https://carolinadragway.com/wp-content/uploads/2021/07/thursday-night-thunder-test-and-tune-grudge-racing.jpg
ORGANIZER;CN="Carolina Dragway":MAILTO:info@carolinadragway.com
END:VEVENT
BEGIN:VEVENT
DTSTART;TZID=America/New_York:20220310T183000
DTEND;TZID=America/New_York:20220310T230000
DTSTAMP:20260424T211759
CREATED:20210910T173807Z
LAST-MODIFIED:20220714T144808Z
UID:6269-1646937000-1646953200@carolinadragway.com
SUMMARY:Thursday Night Thunder: Test-n-Tune & Grudge Race
DESCRIPTION:Gates Open: 6:30 PM\nRacing Begins: 7:00 PM\nSpectators: $15\nLadies: $10\nKids 12 & Under: FREE\nTech Cards to Race: $20\nLimited to 120 Cars\n1/8 mile & 1/4 mile Drag Racing\n* ALL ARE WELCOME! *
URL:https://carolinadragway.com/event/thursday-night-thunder-test-n-tune-grudge-race-2/
LOCATION:Carolina Dragway\, 302 Dragstrip Road\, Aiken\, SC\, 29803\, United States
CATEGORIES:Test-n-Tune
ATTACH;FMTTYPE=image/jpeg:https://carolinadragway.com/wp-content/uploads/2021/07/thursday-night-thunder-test-and-tune-grudge-racing.jpg
ORGANIZER;CN="Carolina Dragway":MAILTO:info@carolinadragway.com
END:VEVENT
BEGIN:VEVENT
DTSTART;TZID=America/New_York:20220430T120000
DTEND;TZID=America/New_York:20220430T170000
DTSTAMP:20260424T211759
CREATED:20211227T151142Z
LAST-MODIFIED:20211227T153854Z
UID:6782-1651320000-1651338000@carolinadragway.com
SUMMARY:Street Car Saturday: Test-N-Tune
DESCRIPTION:Primarily for street cars but ALL are welcome to attend! \nGates open at 12:00pm noon\nRacing begins at 1:00pm
URL:https://carolinadragway.com/event/street-car-saturday-test-n-tune/
LOCATION:Carolina Dragway\, 302 Dragstrip Road\, Aiken\, SC\, 29803\, United States
CATEGORIES:Test-n-Tune
ATTACH;FMTTYPE=image/jpeg:https://carolinadragway.com/wp-content/uploads/2018/02/test-n-tune.jpg
ORGANIZER;CN="Carolina Dragway":MAILTO:info@carolinadragway.com
END:VEVENT
BEGIN:VEVENT
DTSTART;TZID=America/New_York:20220310T183000
DTEND;TZID=America/New_York:20220310T230000
DTSTAMP:20260424T211759
CREATED:20210910T173807Z
LAST-MODIFIED:20220714T144808Z
UID:6269-1646937000-1646953200@carolinadragway.com
SUMMARY:Thursday Night Thunder: Test-n-Tune & Grudge Race
DESCRIPTION:Gates Open: 6:30 PM\nRacing Begins: 7:00 PM\nSpectators: $15\nLadies: $10\nKids 12 & Under: FREE\nTech Cards to Race: $20\nLimited to 120 Cars\n1/8 mile & 1/4 mile Drag Racing\n* ALL ARE WELCOME! *
URL:https://carolinadragway.com/event/thursday-night-thunder-test-n-tune-grudge-race-2/
LOCATION:Carolina Dragway\, 302 Dragstrip Road\, Aiken\, SC\, 29803\, United States
CATEGORIES:Test-n-Tune
ATTACH;FMTTYPE=image/jpeg:https://carolinadragway.com/wp-content/uploads/2021/07/thursday-night-thunder-test-and-tune-grudge-racing.jpg
ORGANIZER;CN="Carolina Dragway":MAILTO:info@carolinadragway.com
END:VEVENT
BEGIN:VEVENT
DTSTART;TZID=America/New_York:20220310T183000
DTEND;TZID=America/New_York:20220310T230000
DTSTAMP:20260424T211759
CREATED:20210910T173807Z
LAST-MODIFIED:20220714T144808Z
UID:6269-1646937000-1646953200@carolinadragway.com
SUMMARY:Thursday Night Thunder: Test-n-Tune & Grudge Race
DESCRIPTION:Gates Open: 6:30 PM\nRacing Begins: 7:00 PM\nSpectators: $15\nLadies: $10\nKids 12 & Under: FREE\nTech Cards to Race: $20\nLimited to 120 Cars\n1/8 mile & 1/4 mile Drag Racing\n* ALL ARE WELCOME! *
URL:https://carolinadragway.com/event/thursday-night-thunder-test-n-tune-grudge-race-2/
LOCATION:Carolina Dragway\, 302 Dragstrip Road\, Aiken\, SC\, 29803\, United States
CATEGORIES:Test-n-Tune
ATTACH;FMTTYPE=image/jpeg:https://carolinadragway.com/wp-content/uploads/2021/07/thursday-night-thunder-test-and-tune-grudge-racing.jpg
ORGANIZER;CN="Carolina Dragway":MAILTO:info@carolinadragway.com
END:VEVENT
BEGIN:VEVENT
DTSTART;TZID=America/New_York:20220310T183000
DTEND;TZID=America/New_York:20220310T230000
DTSTAMP:20260424T211759
CREATED:20210910T173807Z
LAST-MODIFIED:20220714T144808Z
UID:6269-1646937000-1646953200@carolinadragway.com
SUMMARY:Thursday Night Thunder: Test-n-Tune & Grudge Race
DESCRIPTION:Gates Open: 6:30 PM\nRacing Begins: 7:00 PM\nSpectators: $15\nLadies: $10\nKids 12 & Under: FREE\nTech Cards to Race: $20\nLimited to 120 Cars\n1/8 mile & 1/4 mile Drag Racing\n* ALL ARE WELCOME! *
URL:https://carolinadragway.com/event/thursday-night-thunder-test-n-tune-grudge-race-2/
LOCATION:Carolina Dragway\, 302 Dragstrip Road\, Aiken\, SC\, 29803\, United States
CATEGORIES:Test-n-Tune
ATTACH;FMTTYPE=image/jpeg:https://carolinadragway.com/wp-content/uploads/2021/07/thursday-night-thunder-test-and-tune-grudge-racing.jpg
ORGANIZER;CN="Carolina Dragway":MAILTO:info@carolinadragway.com
END:VEVENT
BEGIN:VEVENT
DTSTART;TZID=America/New_York:20220310T183000
DTEND;TZID=America/New_York:20220310T230000
DTSTAMP:20260424T211759
CREATED:20210910T173807Z
LAST-MODIFIED:20220714T144808Z
UID:6269-1646937000-1646953200@carolinadragway.com
SUMMARY:Thursday Night Thunder: Test-n-Tune & Grudge Race
DESCRIPTION:Gates Open: 6:30 PM\nRacing Begins: 7:00 PM\nSpectators: $15\nLadies: $10\nKids 12 & Under: FREE\nTech Cards to Race: $20\nLimited to 120 Cars\n1/8 mile & 1/4 mile Drag Racing\n* ALL ARE WELCOME! *
URL:https://carolinadragway.com/event/thursday-night-thunder-test-n-tune-grudge-race-2/
LOCATION:Carolina Dragway\, 302 Dragstrip Road\, Aiken\, SC\, 29803\, United States
CATEGORIES:Test-n-Tune
ATTACH;FMTTYPE=image/jpeg:https://carolinadragway.com/wp-content/uploads/2021/07/thursday-night-thunder-test-and-tune-grudge-racing.jpg
ORGANIZER;CN="Carolina Dragway":MAILTO:info@carolinadragway.com
END:VEVENT
BEGIN:VEVENT
DTSTART;TZID=America/New_York:20220310T183000
DTEND;TZID=America/New_York:20220310T230000
DTSTAMP:20260424T211759
CREATED:20210910T173807Z
LAST-MODIFIED:20220714T144808Z
UID:6269-1646937000-1646953200@carolinadragway.com
SUMMARY:Thursday Night Thunder: Test-n-Tune & Grudge Race
DESCRIPTION:Gates Open: 6:30 PM\nRacing Begins: 7:00 PM\nSpectators: $15\nLadies: $10\nKids 12 & Under: FREE\nTech Cards to Race: $20\nLimited to 120 Cars\n1/8 mile & 1/4 mile Drag Racing\n* ALL ARE WELCOME! *
URL:https://carolinadragway.com/event/thursday-night-thunder-test-n-tune-grudge-race-2/
LOCATION:Carolina Dragway\, 302 Dragstrip Road\, Aiken\, SC\, 29803\, United States
CATEGORIES:Test-n-Tune
ATTACH;FMTTYPE=image/jpeg:https://carolinadragway.com/wp-content/uploads/2021/07/thursday-night-thunder-test-and-tune-grudge-racing.jpg
ORGANIZER;CN="Carolina Dragway":MAILTO:info@carolinadragway.com
END:VEVENT
BEGIN:VEVENT
DTSTART;TZID=America/New_York:20220326T100000
DTEND;TZID=America/New_York:20220326T160000
DTSTAMP:20260424T211759
CREATED:20211227T150028Z
LAST-MODIFIED:20220311T174423Z
UID:6776-1648288800-1648310400@carolinadragway.com
SUMMARY:Coffee & Cars - Test N Tune
DESCRIPTION:
URL:https://carolinadragway.com/event/coffee-cars-test-n-tune/
LOCATION:Carolina Dragway\, 302 Dragstrip Road\, Aiken\, SC\, 29803\, United States
CATEGORIES:Other Events,Test-n-Tune
ATTACH;FMTTYPE=image/jpeg:https://carolinadragway.com/wp-content/uploads/2018/02/coffee-and-cars.jpg
ORGANIZER;CN="Coffee and Cars Augusta":MAILTO:coffeeandcarsaugusta@gmail.com
END:VEVENT
BEGIN:VEVENT
DTSTART;TZID=America/New_York:20220310T183000
DTEND;TZID=America/New_York:20220310T230000
DTSTAMP:20260424T211759
CREATED:20210910T173807Z
LAST-MODIFIED:20220714T144808Z
UID:6269-1646937000-1646953200@carolinadragway.com
SUMMARY:Thursday Night Thunder: Test-n-Tune & Grudge Race
DESCRIPTION:Gates Open: 6:30 PM\nRacing Begins: 7:00 PM\nSpectators: $15\nLadies: $10\nKids 12 & Under: FREE\nTech Cards to Race: $20\nLimited to 120 Cars\n1/8 mile & 1/4 mile Drag Racing\n* ALL ARE WELCOME! *
URL:https://carolinadragway.com/event/thursday-night-thunder-test-n-tune-grudge-race-2/
LOCATION:Carolina Dragway\, 302 Dragstrip Road\, Aiken\, SC\, 29803\, United States
CATEGORIES:Test-n-Tune
ATTACH;FMTTYPE=image/jpeg:https://carolinadragway.com/wp-content/uploads/2021/07/thursday-night-thunder-test-and-tune-grudge-racing.jpg
ORGANIZER;CN="Carolina Dragway":MAILTO:info@carolinadragway.com
END:VEVENT
BEGIN:VEVENT
DTSTART;TZID=America/New_York:20220310T183000
DTEND;TZID=America/New_York:20220310T230000
DTSTAMP:20260424T211759
CREATED:20210910T173807Z
LAST-MODIFIED:20220714T144808Z
UID:6269-1646937000-1646953200@carolinadragway.com
SUMMARY:Thursday Night Thunder: Test-n-Tune & Grudge Race
DESCRIPTION:Gates Open: 6:30 PM\nRacing Begins: 7:00 PM\nSpectators: $15\nLadies: $10\nKids 12 & Under: FREE\nTech Cards to Race: $20\nLimited to 120 Cars\n1/8 mile & 1/4 mile Drag Racing\n* ALL ARE WELCOME! *
URL:https://carolinadragway.com/event/thursday-night-thunder-test-n-tune-grudge-race-2/
LOCATION:Carolina Dragway\, 302 Dragstrip Road\, Aiken\, SC\, 29803\, United States
CATEGORIES:Test-n-Tune
ATTACH;FMTTYPE=image/jpeg:https://carolinadragway.com/wp-content/uploads/2021/07/thursday-night-thunder-test-and-tune-grudge-racing.jpg
ORGANIZER;CN="Carolina Dragway":MAILTO:info@carolinadragway.com
END:VEVENT
BEGIN:VEVENT
DTSTART;TZID=America/New_York:20220310T183000
DTEND;TZID=America/New_York:20220310T230000
DTSTAMP:20260424T211759
CREATED:20210910T173807Z
LAST-MODIFIED:20220714T144808Z
UID:6269-1646937000-1646953200@carolinadragway.com
SUMMARY:Thursday Night Thunder: Test-n-Tune & Grudge Race
DESCRIPTION:Gates Open: 6:30 PM\nRacing Begins: 7:00 PM\nSpectators: $15\nLadies: $10\nKids 12 & Under: FREE\nTech Cards to Race: $20\nLimited to 120 Cars\n1/8 mile & 1/4 mile Drag Racing\n* ALL ARE WELCOME! *
URL:https://carolinadragway.com/event/thursday-night-thunder-test-n-tune-grudge-race-2/
LOCATION:Carolina Dragway\, 302 Dragstrip Road\, Aiken\, SC\, 29803\, United States
CATEGORIES:Test-n-Tune
ATTACH;FMTTYPE=image/jpeg:https://carolinadragway.com/wp-content/uploads/2021/07/thursday-night-thunder-test-and-tune-grudge-racing.jpg
ORGANIZER;CN="Carolina Dragway":MAILTO:info@carolinadragway.com
END:VEVENT
BEGIN:VEVENT
DTSTART;TZID=America/New_York:20210715T183000
DTEND;TZID=America/New_York:20210715T230000
DTSTAMP:20260424T211759
CREATED:20210714T125843Z
LAST-MODIFIED:20211007T125930Z
UID:5562-1626373800-1626390000@carolinadragway.com
SUMMARY:Thursday Night Thunder: Test-n-Tune & Grudge Race
DESCRIPTION:Gates Open: 6:30 PM\nRacing Begins: 7:00 PM\nSpectators: $15\nLadies: $10\nKids 12 & Under: FREE\nTech Cards to Race: $20\nLimited to 120 Cars\n1/8 mile & 1/4 mile Drag Racing\n* ALL ARE WELCOME! *
URL:https://carolinadragway.com/event/thursday-night-thunder-test-n-tune-grudge-race/
LOCATION:Carolina Dragway\, 302 Dragstrip Road\, Aiken\, SC\, 29803\, United States
CATEGORIES:Test-n-Tune
ATTACH;FMTTYPE=image/jpeg:https://carolinadragway.com/wp-content/uploads/2021/07/thursday-night-thunder-test-and-tune-grudge-racing.jpg
ORGANIZER;CN="Carolina Dragway":MAILTO:info@carolinadragway.com
END:VEVENT
BEGIN:VEVENT
DTSTART;TZID=America/New_York:20210715T183000
DTEND;TZID=America/New_York:20210715T230000
DTSTAMP:20260424T211759
CREATED:20210714T125843Z
LAST-MODIFIED:20211007T125930Z
UID:5562-1626373800-1626390000@carolinadragway.com
SUMMARY:Thursday Night Thunder: Test-n-Tune & Grudge Race
DESCRIPTION:Gates Open: 6:30 PM\nRacing Begins: 7:00 PM\nSpectators: $15\nLadies: $10\nKids 12 & Under: FREE\nTech Cards to Race: $20\nLimited to 120 Cars\n1/8 mile & 1/4 mile Drag Racing\n* ALL ARE WELCOME! *
URL:https://carolinadragway.com/event/thursday-night-thunder-test-n-tune-grudge-race/
LOCATION:Carolina Dragway\, 302 Dragstrip Road\, Aiken\, SC\, 29803\, United States
CATEGORIES:Test-n-Tune
ATTACH;FMTTYPE=image/jpeg:https://carolinadragway.com/wp-content/uploads/2021/07/thursday-night-thunder-test-and-tune-grudge-racing.jpg
ORGANIZER;CN="Carolina Dragway":MAILTO:info@carolinadragway.com
END:VEVENT
END:VCALENDAR