BEGIN:VCALENDAR
VERSION:2.0
PRODID:-//Carolina Dragway &quot;The House of Hook&quot; in Aiken, SC - ECPv6.15.20//NONSGML v1.0//EN
CALSCALE:GREGORIAN
METHOD:PUBLISH
X-ORIGINAL-URL:https://carolinadragway.com
X-WR-CALDESC:Events for Carolina Dragway &quot;The House of Hook&quot; in Aiken, SC
REFRESH-INTERVAL;VALUE=DURATION:PT1H
X-Robots-Tag:noindex
X-PUBLISHED-TTL:PT1H
BEGIN:VTIMEZONE
TZID:America/New_York
BEGIN:DAYLIGHT
TZOFFSETFROM:-0500
TZOFFSETTO:-0400
TZNAME:EDT
DTSTART:20210314T070000
END:DAYLIGHT
BEGIN:STANDARD
TZOFFSETFROM:-0400
TZOFFSETTO:-0500
TZNAME:EST
DTSTART:20211107T060000
END:STANDARD
BEGIN:DAYLIGHT
TZOFFSETFROM:-0500
TZOFFSETTO:-0400
TZNAME:EDT
DTSTART:20220313T070000
END:DAYLIGHT
BEGIN:STANDARD
TZOFFSETFROM:-0400
TZOFFSETTO:-0500
TZNAME:EST
DTSTART:20221106T060000
END:STANDARD
BEGIN:DAYLIGHT
TZOFFSETFROM:-0500
TZOFFSETTO:-0400
TZNAME:EDT
DTSTART:20230312T070000
END:DAYLIGHT
BEGIN:STANDARD
TZOFFSETFROM:-0400
TZOFFSETTO:-0500
TZNAME:EST
DTSTART:20231105T060000
END:STANDARD
BEGIN:DAYLIGHT
TZOFFSETFROM:-0500
TZOFFSETTO:-0400
TZNAME:EDT
DTSTART:20240310T070000
END:DAYLIGHT
BEGIN:STANDARD
TZOFFSETFROM:-0400
TZOFFSETTO:-0500
TZNAME:EST
DTSTART:20241103T060000
END:STANDARD
END:VTIMEZONE
BEGIN:VEVENT
DTSTART;TZID=America/New_York:20230706T183000
DTEND;TZID=America/New_York:20230706T233000
DTSTAMP:20260424T151858
CREATED:20230618T193018Z
LAST-MODIFIED:20230618T193018Z
UID:10421-1688668200-1688686200@carolinadragway.com
SUMMARY:Test-n-Tune + King of the Track (2022 Make-Up)
DESCRIPTION:
URL:https://carolinadragway.com/event/test-n-tune-king-of-the-track-2022-make-up/
LOCATION:Carolina Dragway\, 302 Dragstrip Road\, Aiken\, SC\, 29803\, United States
CATEGORIES:Bracket Races,Heads-Up Races,Test-n-Tune
ATTACH;FMTTYPE=image/jpeg:https://carolinadragway.com/wp-content/uploads/2021/07/thursday-night-thunder-test-and-tune-grudge-racing.jpg
ORGANIZER;CN="Carolina Dragway":MAILTO:info@carolinadragway.com
END:VEVENT
BEGIN:VEVENT
DTSTART;TZID=America/New_York:20230629T183000
DTEND;TZID=America/New_York:20230629T233000
DTSTAMP:20260424T151858
CREATED:20230407T204522Z
LAST-MODIFIED:20230407T224312Z
UID:10141-1688063400-1688081400@carolinadragway.com
SUMMARY:Test-n-Tune + Shootout: Overdrive
DESCRIPTION:CLASS RULES for Overdrive Shootout:\nmust have tag\, insurance\, overdrive transmission\, full exhaust\, no hard tires
URL:https://carolinadragway.com/event/thursday-night-thunder-test-n-tune-grudge-race-3-13/
LOCATION:Carolina Dragway\, 302 Dragstrip Road\, Aiken\, SC\, 29803\, United States
CATEGORIES:Heads-Up Races,No-Time/Grudge Races,Test-n-Tune
ATTACH;FMTTYPE=image/jpeg:https://carolinadragway.com/wp-content/uploads/2021/07/thursday-night-thunder-test-and-tune-grudge-racing.jpg
ORGANIZER;CN="Carolina Dragway":MAILTO:info@carolinadragway.com
END:VEVENT
BEGIN:VEVENT
DTSTART;TZID=America/New_York:20230309T183000
DTEND;TZID=America/New_York:20230309T233000
DTSTAMP:20260424T151858
CREATED:20221209T143103Z
LAST-MODIFIED:20230618T192830Z
UID:9147-1678386600-1678404600@carolinadragway.com
SUMMARY:Test-n-Tune
DESCRIPTION:
URL:https://carolinadragway.com/event/thursday-night-thunder-test-n-tune-grudge-race-3/
LOCATION:Carolina Dragway\, 302 Dragstrip Road\, Aiken\, SC\, 29803\, United States
CATEGORIES:Test-n-Tune
ATTACH;FMTTYPE=image/jpeg:https://carolinadragway.com/wp-content/uploads/2021/07/thursday-night-thunder-test-and-tune-grudge-racing.jpg
ORGANIZER;CN="Carolina Dragway":MAILTO:info@carolinadragway.com
END:VEVENT
BEGIN:VEVENT
DTSTART;TZID=America/New_York:20230615T183000
DTEND;TZID=America/New_York:20230615T233000
DTSTAMP:20260424T151858
CREATED:20230407T204309Z
LAST-MODIFIED:20230407T224428Z
UID:10133-1686853800-1686871800@carolinadragway.com
SUMMARY:Test-n-Tune + Shootout: 5” Bore Space
DESCRIPTION:CLASS RULES for 5″ Bore Space or Less Shootout:\n5” bore space or smaller\, nitrous only\, small block single turbo allowed\, no Pro Mod or Pro Stock entries\, +/- 2” wheelbase\, 45” of overhang\, 28” or 275 tire\, no more than 3 forward gears\, no wheelie bars
URL:https://carolinadragway.com/event/thursday-night-thunder-test-n-tune-grudge-race-3-11/
LOCATION:Carolina Dragway\, 302 Dragstrip Road\, Aiken\, SC\, 29803\, United States
CATEGORIES:Heads-Up Races,No-Time/Grudge Races,Test-n-Tune
ATTACH;FMTTYPE=image/jpeg:https://carolinadragway.com/wp-content/uploads/2021/07/thursday-night-thunder-test-and-tune-grudge-racing.jpg
ORGANIZER;CN="Carolina Dragway":MAILTO:info@carolinadragway.com
END:VEVENT
BEGIN:VEVENT
DTSTART;TZID=America/New_York:20230610T170000
DTEND;TZID=America/New_York:20230610T230000
DTSTAMP:20260424T151858
CREATED:20230110T220218Z
LAST-MODIFIED:20230604T180046Z
UID:9429-1686416400-1686438000@carolinadragway.com
SUMMARY:Street Car Saturday: Test-N-Tune
DESCRIPTION:
URL:https://carolinadragway.com/event/street-car-saturday-test-n-tune-5/
LOCATION:Carolina Dragway\, 302 Dragstrip Road\, Aiken\, SC\, 29803\, United States
CATEGORIES:Test-n-Tune
ORGANIZER;CN="Carolina Dragway":MAILTO:info@carolinadragway.com
END:VEVENT
BEGIN:VEVENT
DTSTART;TZID=America/New_York:20230309T183000
DTEND;TZID=America/New_York:20230309T233000
DTSTAMP:20260424T151858
CREATED:20221209T143103Z
LAST-MODIFIED:20230618T192830Z
UID:9147-1678386600-1678404600@carolinadragway.com
SUMMARY:Test-n-Tune
DESCRIPTION:
URL:https://carolinadragway.com/event/thursday-night-thunder-test-n-tune-grudge-race-3/
LOCATION:Carolina Dragway\, 302 Dragstrip Road\, Aiken\, SC\, 29803\, United States
CATEGORIES:Test-n-Tune
ATTACH;FMTTYPE=image/jpeg:https://carolinadragway.com/wp-content/uploads/2021/07/thursday-night-thunder-test-and-tune-grudge-racing.jpg
ORGANIZER;CN="Carolina Dragway":MAILTO:info@carolinadragway.com
END:VEVENT
BEGIN:VEVENT
DTSTART;VALUE=DATE:20230603
DTEND;VALUE=DATE:20230604
DTSTAMP:20260424T151859
CREATED:20230110T220617Z
LAST-MODIFIED:20230110T220617Z
UID:9447-1685750400-1685836799@carolinadragway.com
SUMMARY:Coffee & Cars / Test-N-Tune
DESCRIPTION:For more information\, PLEASE VISIT CoffeeAndCarsAugusta.com/ or facebook.com/CoffeeandCarsAugusta/.
URL:https://carolinadragway.com/event/coffee-cars-test-n-tune-6/
LOCATION:Carolina Dragway\, 302 Dragstrip Road\, Aiken\, SC\, 29803\, United States
CATEGORIES:Other Events,Test-n-Tune
ORGANIZER;CN="Coffee and Cars Augusta":MAILTO:coffeeandcarsaugusta@gmail.com
END:VEVENT
BEGIN:VEVENT
DTSTART;TZID=America/New_York:20230601T183000
DTEND;TZID=America/New_York:20230601T233000
DTSTAMP:20260424T151859
CREATED:20230407T204031Z
LAST-MODIFIED:20230407T224528Z
UID:10122-1685644200-1685662200@carolinadragway.com
SUMMARY:Test-n-Tune + Shootout: Small Block Nitrous
DESCRIPTION:CLASS RULES for Small Block Nitrous B-League Shootout:\nmust have steel roof and quarter panels\, single throttle body/carb\, billet heads/cast block OR billet block/cast heads (but not both billet)\, 275 tire max
URL:https://carolinadragway.com/event/thursday-night-thunder-test-n-tune-grudge-race-3-8/
LOCATION:Carolina Dragway\, 302 Dragstrip Road\, Aiken\, SC\, 29803\, United States
CATEGORIES:Heads-Up Races,No-Time/Grudge Races,Test-n-Tune
ATTACH;FMTTYPE=image/jpeg:https://carolinadragway.com/wp-content/uploads/2021/07/thursday-night-thunder-test-and-tune-grudge-racing.jpg
ORGANIZER;CN="Carolina Dragway":MAILTO:info@carolinadragway.com
END:VEVENT
BEGIN:VEVENT
DTSTART;TZID=America/New_York:20230309T183000
DTEND;TZID=America/New_York:20230309T233000
DTSTAMP:20260424T151859
CREATED:20221209T143103Z
LAST-MODIFIED:20230618T192830Z
UID:9147-1678386600-1678404600@carolinadragway.com
SUMMARY:Test-n-Tune
DESCRIPTION:
URL:https://carolinadragway.com/event/thursday-night-thunder-test-n-tune-grudge-race-3/
LOCATION:Carolina Dragway\, 302 Dragstrip Road\, Aiken\, SC\, 29803\, United States
CATEGORIES:Test-n-Tune
ATTACH;FMTTYPE=image/jpeg:https://carolinadragway.com/wp-content/uploads/2021/07/thursday-night-thunder-test-and-tune-grudge-racing.jpg
ORGANIZER;CN="Carolina Dragway":MAILTO:info@carolinadragway.com
END:VEVENT
BEGIN:VEVENT
DTSTART;TZID=America/New_York:20230518T183000
DTEND;TZID=America/New_York:20230518T233000
DTSTAMP:20260424T151859
CREATED:20230407T200400Z
LAST-MODIFIED:20230407T201033Z
UID:10096-1684434600-1684452600@carolinadragway.com
SUMMARY:Test-n-Tune + King of the Track
DESCRIPTION:
URL:https://carolinadragway.com/event/thursday-night-thunder-test-n-tune-grudge-race-3-2/
LOCATION:Carolina Dragway\, 302 Dragstrip Road\, Aiken\, SC\, 29803\, United States
CATEGORIES:Heads-Up Races,No-Time/Grudge Races,Test-n-Tune
ATTACH;FMTTYPE=image/jpeg:https://carolinadragway.com/wp-content/uploads/2021/07/thursday-night-thunder-test-and-tune-grudge-racing.jpg
ORGANIZER;CN="Carolina Dragway":MAILTO:info@carolinadragway.com
END:VEVENT
BEGIN:VEVENT
DTSTART;TZID=America/New_York:20230309T183000
DTEND;TZID=America/New_York:20230309T233000
DTSTAMP:20260424T151859
CREATED:20221209T143103Z
LAST-MODIFIED:20230618T192830Z
UID:9147-1678386600-1678404600@carolinadragway.com
SUMMARY:Test-n-Tune
DESCRIPTION:
URL:https://carolinadragway.com/event/thursday-night-thunder-test-n-tune-grudge-race-3/
LOCATION:Carolina Dragway\, 302 Dragstrip Road\, Aiken\, SC\, 29803\, United States
CATEGORIES:Test-n-Tune
ATTACH;FMTTYPE=image/jpeg:https://carolinadragway.com/wp-content/uploads/2021/07/thursday-night-thunder-test-and-tune-grudge-racing.jpg
ORGANIZER;CN="Carolina Dragway":MAILTO:info@carolinadragway.com
END:VEVENT
BEGIN:VEVENT
DTSTART;TZID=America/New_York:20230309T183000
DTEND;TZID=America/New_York:20230309T233000
DTSTAMP:20260424T151859
CREATED:20221209T143103Z
LAST-MODIFIED:20230618T192830Z
UID:9147-1678386600-1678404600@carolinadragway.com
SUMMARY:Test-n-Tune
DESCRIPTION:
URL:https://carolinadragway.com/event/thursday-night-thunder-test-n-tune-grudge-race-3/
LOCATION:Carolina Dragway\, 302 Dragstrip Road\, Aiken\, SC\, 29803\, United States
CATEGORIES:Test-n-Tune
ATTACH;FMTTYPE=image/jpeg:https://carolinadragway.com/wp-content/uploads/2021/07/thursday-night-thunder-test-and-tune-grudge-racing.jpg
ORGANIZER;CN="Carolina Dragway":MAILTO:info@carolinadragway.com
END:VEVENT
BEGIN:VEVENT
DTSTART;TZID=America/New_York:20230309T183000
DTEND;TZID=America/New_York:20230309T233000
DTSTAMP:20260424T151859
CREATED:20221209T143103Z
LAST-MODIFIED:20230618T192830Z
UID:9147-1678386600-1678404600@carolinadragway.com
SUMMARY:Test-n-Tune
DESCRIPTION:
URL:https://carolinadragway.com/event/thursday-night-thunder-test-n-tune-grudge-race-3/
LOCATION:Carolina Dragway\, 302 Dragstrip Road\, Aiken\, SC\, 29803\, United States
CATEGORIES:Test-n-Tune
ATTACH;FMTTYPE=image/jpeg:https://carolinadragway.com/wp-content/uploads/2021/07/thursday-night-thunder-test-and-tune-grudge-racing.jpg
ORGANIZER;CN="Carolina Dragway":MAILTO:info@carolinadragway.com
END:VEVENT
BEGIN:VEVENT
DTSTART;TZID=America/New_York:20230420T183000
DTEND;TZID=America/New_York:20230420T233000
DTSTAMP:20260424T151859
CREATED:20230407T203700Z
LAST-MODIFIED:20230407T224609Z
UID:10110-1682015400-1682033400@carolinadragway.com
SUMMARY:Test-n-Tune + Shootout: Small Block Boost
DESCRIPTION:CLASS RULES for Small Block Boost Shootout:\n98mm or smaller single turbo\, 28” or 275 tire
URL:https://carolinadragway.com/event/thursday-night-thunder-test-n-tune-grudge-race-3-4/
LOCATION:Carolina Dragway\, 302 Dragstrip Road\, Aiken\, SC\, 29803\, United States
CATEGORIES:Heads-Up Races,No-Time/Grudge Races,Test-n-Tune
ATTACH;FMTTYPE=image/jpeg:https://carolinadragway.com/wp-content/uploads/2021/07/thursday-night-thunder-test-and-tune-grudge-racing.jpg
ORGANIZER;CN="Carolina Dragway":MAILTO:info@carolinadragway.com
END:VEVENT
BEGIN:VEVENT
DTSTART;TZID=America/New_York:20230415T120000
DTEND;TZID=America/New_York:20230415T190000
DTSTAMP:20260424T151859
CREATED:20230110T220009Z
LAST-MODIFIED:20230211T194652Z
UID:9431-1681560000-1681585200@carolinadragway.com
SUMMARY:Street Car Saturday: Test-N-Tune
DESCRIPTION:
URL:https://carolinadragway.com/event/street-car-saturday-test-n-tune-2/
LOCATION:Carolina Dragway\, 302 Dragstrip Road\, Aiken\, SC\, 29803\, United States
CATEGORIES:Test-n-Tune
ORGANIZER;CN="Carolina Dragway":MAILTO:info@carolinadragway.com
END:VEVENT
BEGIN:VEVENT
DTSTART;TZID=America/New_York:20230309T183000
DTEND;TZID=America/New_York:20230309T233000
DTSTAMP:20260424T151859
CREATED:20221209T143103Z
LAST-MODIFIED:20230618T192830Z
UID:9147-1678386600-1678404600@carolinadragway.com
SUMMARY:Test-n-Tune
DESCRIPTION:
URL:https://carolinadragway.com/event/thursday-night-thunder-test-n-tune-grudge-race-3/
LOCATION:Carolina Dragway\, 302 Dragstrip Road\, Aiken\, SC\, 29803\, United States
CATEGORIES:Test-n-Tune
ATTACH;FMTTYPE=image/jpeg:https://carolinadragway.com/wp-content/uploads/2021/07/thursday-night-thunder-test-and-tune-grudge-racing.jpg
ORGANIZER;CN="Carolina Dragway":MAILTO:info@carolinadragway.com
END:VEVENT
BEGIN:VEVENT
DTSTART;TZID=America/New_York:20230309T183000
DTEND;TZID=America/New_York:20230309T233000
DTSTAMP:20260424T151859
CREATED:20221209T143103Z
LAST-MODIFIED:20230618T192830Z
UID:9147-1678386600-1678404600@carolinadragway.com
SUMMARY:Test-n-Tune
DESCRIPTION:
URL:https://carolinadragway.com/event/thursday-night-thunder-test-n-tune-grudge-race-3/
LOCATION:Carolina Dragway\, 302 Dragstrip Road\, Aiken\, SC\, 29803\, United States
CATEGORIES:Test-n-Tune
ATTACH;FMTTYPE=image/jpeg:https://carolinadragway.com/wp-content/uploads/2021/07/thursday-night-thunder-test-and-tune-grudge-racing.jpg
ORGANIZER;CN="Carolina Dragway":MAILTO:info@carolinadragway.com
END:VEVENT
BEGIN:VEVENT
DTSTART;TZID=America/New_York:20230309T183000
DTEND;TZID=America/New_York:20230309T233000
DTSTAMP:20260424T151859
CREATED:20221209T143103Z
LAST-MODIFIED:20230618T192830Z
UID:9147-1678386600-1678404600@carolinadragway.com
SUMMARY:Test-n-Tune
DESCRIPTION:
URL:https://carolinadragway.com/event/thursday-night-thunder-test-n-tune-grudge-race-3/
LOCATION:Carolina Dragway\, 302 Dragstrip Road\, Aiken\, SC\, 29803\, United States
CATEGORIES:Test-n-Tune
ATTACH;FMTTYPE=image/jpeg:https://carolinadragway.com/wp-content/uploads/2021/07/thursday-night-thunder-test-and-tune-grudge-racing.jpg
ORGANIZER;CN="Carolina Dragway":MAILTO:info@carolinadragway.com
END:VEVENT
BEGIN:VEVENT
DTSTART;TZID=America/New_York:20230309T183000
DTEND;TZID=America/New_York:20230309T233000
DTSTAMP:20260424T151859
CREATED:20221209T143103Z
LAST-MODIFIED:20230618T192830Z
UID:9147-1678386600-1678404600@carolinadragway.com
SUMMARY:Test-n-Tune
DESCRIPTION:
URL:https://carolinadragway.com/event/thursday-night-thunder-test-n-tune-grudge-race-3/
LOCATION:Carolina Dragway\, 302 Dragstrip Road\, Aiken\, SC\, 29803\, United States
CATEGORIES:Test-n-Tune
ATTACH;FMTTYPE=image/jpeg:https://carolinadragway.com/wp-content/uploads/2021/07/thursday-night-thunder-test-and-tune-grudge-racing.jpg
ORGANIZER;CN="Carolina Dragway":MAILTO:info@carolinadragway.com
END:VEVENT
BEGIN:VEVENT
DTSTART;TZID=America/New_York:20230309T183000
DTEND;TZID=America/New_York:20230309T233000
DTSTAMP:20260424T151859
CREATED:20221209T143103Z
LAST-MODIFIED:20230618T192830Z
UID:9147-1678386600-1678404600@carolinadragway.com
SUMMARY:Test-n-Tune
DESCRIPTION:
URL:https://carolinadragway.com/event/thursday-night-thunder-test-n-tune-grudge-race-3/
LOCATION:Carolina Dragway\, 302 Dragstrip Road\, Aiken\, SC\, 29803\, United States
CATEGORIES:Test-n-Tune
ATTACH;FMTTYPE=image/jpeg:https://carolinadragway.com/wp-content/uploads/2021/07/thursday-night-thunder-test-and-tune-grudge-racing.jpg
ORGANIZER;CN="Carolina Dragway":MAILTO:info@carolinadragway.com
END:VEVENT
BEGIN:VEVENT
DTSTART;VALUE=DATE:20230311
DTEND;VALUE=DATE:20230312
DTSTAMP:20260424T151859
CREATED:20230110T220600Z
LAST-MODIFIED:20230212T141303Z
UID:9448-1678492800-1678579199@carolinadragway.com
SUMMARY:Coffee & Cars / Test-N-Tune
DESCRIPTION:For more information\, PLEASE VISIT CoffeeAndCarsAugusta.com/ or facebook.com/CoffeeandCarsAugusta/.
URL:https://carolinadragway.com/event/coffee-cars-test-n-tune-5/
LOCATION:Carolina Dragway\, 302 Dragstrip Road\, Aiken\, SC\, 29803\, United States
CATEGORIES:Other Events,Test-n-Tune
ATTACH;FMTTYPE=image/jpeg:https://carolinadragway.com/wp-content/uploads/2023/01/IMG_5527.jpg
ORGANIZER;CN="Coffee and Cars Augusta":MAILTO:coffeeandcarsaugusta@gmail.com
END:VEVENT
BEGIN:VEVENT
DTSTART;TZID=America/New_York:20230309T183000
DTEND;TZID=America/New_York:20230309T233000
DTSTAMP:20260424T151859
CREATED:20221209T143103Z
LAST-MODIFIED:20230618T192830Z
UID:9147-1678386600-1678404600@carolinadragway.com
SUMMARY:Test-n-Tune
DESCRIPTION:
URL:https://carolinadragway.com/event/thursday-night-thunder-test-n-tune-grudge-race-3/
LOCATION:Carolina Dragway\, 302 Dragstrip Road\, Aiken\, SC\, 29803\, United States
CATEGORIES:Test-n-Tune
ATTACH;FMTTYPE=image/jpeg:https://carolinadragway.com/wp-content/uploads/2021/07/thursday-night-thunder-test-and-tune-grudge-racing.jpg
ORGANIZER;CN="Carolina Dragway":MAILTO:info@carolinadragway.com
END:VEVENT
BEGIN:VEVENT
DTSTART;TZID=America/New_York:20221203T100000
DTEND;TZID=America/New_York:20221203T160000
DTSTAMP:20260424T151859
CREATED:20211227T155809Z
LAST-MODIFIED:20211227T155809Z
UID:6819-1670061600-1670083200@carolinadragway.com
SUMMARY:Coffee & Cars - Test N Tune
DESCRIPTION:
URL:https://carolinadragway.com/event/coffee-cars-test-n-tune-4/
LOCATION:Carolina Dragway\, 302 Dragstrip Road\, Aiken\, SC\, 29803\, United States
CATEGORIES:Other Events,Test-n-Tune
ATTACH;FMTTYPE=image/jpeg:https://carolinadragway.com/wp-content/uploads/2018/02/coffee-and-cars.jpg
ORGANIZER;CN="Carolina Dragway":MAILTO:info@carolinadragway.com
END:VEVENT
BEGIN:VEVENT
DTSTART;TZID=America/New_York:20221119T140000
DTEND;TZID=America/New_York:20221119T220000
DTSTAMP:20260424T151859
CREATED:20211227T155746Z
LAST-MODIFIED:20221105T174337Z
UID:6820-1668866400-1668895200@carolinadragway.com
SUMMARY:Bring it Back Meets' Burnouts for Kids
DESCRIPTION:Presented by East Coast Lighting\, Momentum Racing and Signs of Augusta! Our 2nd annual BURNOUTS FOR KIDS will feature a burnout contest with a $5000 guaranteed payout to the winner! Contest will be judged by 5 celebrity judges\n-Lyle Barnett\n-Stevie ‘FAST’ Jackson\n-Mike ‘HITMAN’ Hill\n-Donald ‘DUCK’ Long\n-Stephanie ‘BOSS X’ Long\n-Bryan ‘DUB’ Axelson\nJudges will score participants after each run with scorecards ranging from 0-10. The contestant with the highest accumulative score at the end will be declared the winner. Like the previous year this event is held to raise money and toys for local charities. This year we will be splitting all proceeds and donations to The Children’s Hospital of Georgia & Doctors Hospital.\nGates open at 2PM\nTest-n-Tune from 3-7PM\nShow from 4-10PM\nBurnout Competition 7:30PM\nFireworks to follow\nThis is a family friendly event. 5k Burnout Contest\, Open Test-n-Tune\, Car/Truck/Motorcycle show\, Inflatables for kids and food trucks on site! Like all of our events we will end the night with a firework display! There will be a zero tolerance for anyone getting out of hand. No reckless driving in parking lots\, burnouts (spectators)\, excessive revving etc. Security will be on site and you will be removed. Please be respectful as well when leaving the meet.\nUnfortunately over the last few years\, the car/truck/bike scene has became extremely divided for many different reasons. A handful of us came together to try to bring it back to how the scene was years ago. We may not be able to change that every week\, but we can for a few Saturdays each year. Every year\, there will be a Spring\, Summer\, and Fall meet. In addition to the 3 meets we will also host Street Car Braggin Rights a large race and show at Carolina Dragway .\nWe highly encourage EVERYONE to attend no matter what car/truck/motorcycle you drive. We hope to see a lot of faces from the past along with the new.\nLimited VIP parking is available and will fill up fast
URL:https://carolinadragway.com/event/street-car-saturday-test-n-tune-6/
LOCATION:Carolina Dragway\, 302 Dragstrip Road\, Aiken\, SC\, 29803\, United States
CATEGORIES:Test-n-Tune
ATTACH;FMTTYPE=image/jpeg:https://carolinadragway.com/wp-content/uploads/2021/12/burnouts-for-kids.jpg
ORGANIZER;CN="Carolina Dragway":MAILTO:info@carolinadragway.com
END:VEVENT
BEGIN:VEVENT
DTSTART;TZID=America/New_York:20221117T183000
DTEND;TZID=America/New_York:20221117T230000
DTSTAMP:20260424T151859
CREATED:20210910T173807Z
LAST-MODIFIED:20221117T175653Z
UID:6326-1668709800-1668726000@carolinadragway.com
SUMMARY:CANCELED: Thursday Night Thunder: Test-n-Tune & Grudge Race + King of the Track Shootout
DESCRIPTION:Gates Open: 6:30 PM\nRacing Begins: 7:00 PM\nSpectators: $15\nLadies: $10\nKids 12 & Under: FREE\nTech Cards to Race: $20\nLimited to 120 Cars\n1/8 mile & 1/4 mile Drag Racing\n* ALL ARE WELCOME! *
URL:https://carolinadragway.com/event/thursday-night-thunder-test-n-tune-grudge-race-2-2022-11-17/
LOCATION:Carolina Dragway\, 302 Dragstrip Road\, Aiken\, SC\, 29803\, United States
CATEGORIES:Test-n-Tune
ATTACH;FMTTYPE=image/jpeg:https://carolinadragway.com/wp-content/uploads/2021/07/thursday-night-thunder-test-and-tune-grudge-racing.jpg
ORGANIZER;CN="Carolina Dragway":MAILTO:info@carolinadragway.com
END:VEVENT
BEGIN:VEVENT
DTSTART;TZID=America/New_York:20220310T183000
DTEND;TZID=America/New_York:20220310T230000
DTSTAMP:20260424T151859
CREATED:20210910T173807Z
LAST-MODIFIED:20220714T144808Z
UID:6269-1646937000-1646953200@carolinadragway.com
SUMMARY:Thursday Night Thunder: Test-n-Tune & Grudge Race
DESCRIPTION:Gates Open: 6:30 PM\nRacing Begins: 7:00 PM\nSpectators: $15\nLadies: $10\nKids 12 & Under: FREE\nTech Cards to Race: $20\nLimited to 120 Cars\n1/8 mile & 1/4 mile Drag Racing\n* ALL ARE WELCOME! *
URL:https://carolinadragway.com/event/thursday-night-thunder-test-n-tune-grudge-race-2/
LOCATION:Carolina Dragway\, 302 Dragstrip Road\, Aiken\, SC\, 29803\, United States
CATEGORIES:Test-n-Tune
ATTACH;FMTTYPE=image/jpeg:https://carolinadragway.com/wp-content/uploads/2021/07/thursday-night-thunder-test-and-tune-grudge-racing.jpg
ORGANIZER;CN="Carolina Dragway":MAILTO:info@carolinadragway.com
END:VEVENT
BEGIN:VEVENT
DTSTART;TZID=America/New_York:20220310T183000
DTEND;TZID=America/New_York:20220310T230000
DTSTAMP:20260424T151859
CREATED:20210910T173807Z
LAST-MODIFIED:20220714T144808Z
UID:6269-1646937000-1646953200@carolinadragway.com
SUMMARY:Thursday Night Thunder: Test-n-Tune & Grudge Race
DESCRIPTION:Gates Open: 6:30 PM\nRacing Begins: 7:00 PM\nSpectators: $15\nLadies: $10\nKids 12 & Under: FREE\nTech Cards to Race: $20\nLimited to 120 Cars\n1/8 mile & 1/4 mile Drag Racing\n* ALL ARE WELCOME! *
URL:https://carolinadragway.com/event/thursday-night-thunder-test-n-tune-grudge-race-2/
LOCATION:Carolina Dragway\, 302 Dragstrip Road\, Aiken\, SC\, 29803\, United States
CATEGORIES:Test-n-Tune
ATTACH;FMTTYPE=image/jpeg:https://carolinadragway.com/wp-content/uploads/2021/07/thursday-night-thunder-test-and-tune-grudge-racing.jpg
ORGANIZER;CN="Carolina Dragway":MAILTO:info@carolinadragway.com
END:VEVENT
BEGIN:VEVENT
DTSTART;TZID=America/New_York:20220310T183000
DTEND;TZID=America/New_York:20220310T230000
DTSTAMP:20260424T151859
CREATED:20210910T173807Z
LAST-MODIFIED:20220714T144808Z
UID:6269-1646937000-1646953200@carolinadragway.com
SUMMARY:Thursday Night Thunder: Test-n-Tune & Grudge Race
DESCRIPTION:Gates Open: 6:30 PM\nRacing Begins: 7:00 PM\nSpectators: $15\nLadies: $10\nKids 12 & Under: FREE\nTech Cards to Race: $20\nLimited to 120 Cars\n1/8 mile & 1/4 mile Drag Racing\n* ALL ARE WELCOME! *
URL:https://carolinadragway.com/event/thursday-night-thunder-test-n-tune-grudge-race-2/
LOCATION:Carolina Dragway\, 302 Dragstrip Road\, Aiken\, SC\, 29803\, United States
CATEGORIES:Test-n-Tune
ATTACH;FMTTYPE=image/jpeg:https://carolinadragway.com/wp-content/uploads/2021/07/thursday-night-thunder-test-and-tune-grudge-racing.jpg
ORGANIZER;CN="Carolina Dragway":MAILTO:info@carolinadragway.com
END:VEVENT
BEGIN:VEVENT
DTSTART;TZID=America/New_York:20220310T183000
DTEND;TZID=America/New_York:20220310T230000
DTSTAMP:20260424T151859
CREATED:20210910T173807Z
LAST-MODIFIED:20220714T144808Z
UID:6269-1646937000-1646953200@carolinadragway.com
SUMMARY:Thursday Night Thunder: Test-n-Tune & Grudge Race
DESCRIPTION:Gates Open: 6:30 PM\nRacing Begins: 7:00 PM\nSpectators: $15\nLadies: $10\nKids 12 & Under: FREE\nTech Cards to Race: $20\nLimited to 120 Cars\n1/8 mile & 1/4 mile Drag Racing\n* ALL ARE WELCOME! *
URL:https://carolinadragway.com/event/thursday-night-thunder-test-n-tune-grudge-race-2/
LOCATION:Carolina Dragway\, 302 Dragstrip Road\, Aiken\, SC\, 29803\, United States
CATEGORIES:Test-n-Tune
ATTACH;FMTTYPE=image/jpeg:https://carolinadragway.com/wp-content/uploads/2021/07/thursday-night-thunder-test-and-tune-grudge-racing.jpg
ORGANIZER;CN="Carolina Dragway":MAILTO:info@carolinadragway.com
END:VEVENT
BEGIN:VEVENT
DTSTART;TZID=America/New_York:20220310T183000
DTEND;TZID=America/New_York:20220310T230000
DTSTAMP:20260424T151859
CREATED:20210910T173807Z
LAST-MODIFIED:20220714T144808Z
UID:6269-1646937000-1646953200@carolinadragway.com
SUMMARY:Thursday Night Thunder: Test-n-Tune & Grudge Race
DESCRIPTION:Gates Open: 6:30 PM\nRacing Begins: 7:00 PM\nSpectators: $15\nLadies: $10\nKids 12 & Under: FREE\nTech Cards to Race: $20\nLimited to 120 Cars\n1/8 mile & 1/4 mile Drag Racing\n* ALL ARE WELCOME! *
URL:https://carolinadragway.com/event/thursday-night-thunder-test-n-tune-grudge-race-2/
LOCATION:Carolina Dragway\, 302 Dragstrip Road\, Aiken\, SC\, 29803\, United States
CATEGORIES:Test-n-Tune
ATTACH;FMTTYPE=image/jpeg:https://carolinadragway.com/wp-content/uploads/2021/07/thursday-night-thunder-test-and-tune-grudge-racing.jpg
ORGANIZER;CN="Carolina Dragway":MAILTO:info@carolinadragway.com
END:VEVENT
END:VCALENDAR