BEGIN:VCALENDAR
VERSION:2.0
PRODID:-//Carolina Dragway &quot;The House of Hook&quot; in Aiken, SC - ECPv6.15.20//NONSGML v1.0//EN
CALSCALE:GREGORIAN
METHOD:PUBLISH
X-ORIGINAL-URL:https://carolinadragway.com
X-WR-CALDESC:Events for Carolina Dragway &quot;The House of Hook&quot; in Aiken, SC
REFRESH-INTERVAL;VALUE=DURATION:PT1H
X-Robots-Tag:noindex
X-PUBLISHED-TTL:PT1H
BEGIN:VTIMEZONE
TZID:America/New_York
BEGIN:DAYLIGHT
TZOFFSETFROM:-0500
TZOFFSETTO:-0400
TZNAME:EDT
DTSTART:20240310T070000
END:DAYLIGHT
BEGIN:STANDARD
TZOFFSETFROM:-0400
TZOFFSETTO:-0500
TZNAME:EST
DTSTART:20241103T060000
END:STANDARD
BEGIN:DAYLIGHT
TZOFFSETFROM:-0500
TZOFFSETTO:-0400
TZNAME:EDT
DTSTART:20250309T070000
END:DAYLIGHT
BEGIN:STANDARD
TZOFFSETFROM:-0400
TZOFFSETTO:-0500
TZNAME:EST
DTSTART:20251102T060000
END:STANDARD
BEGIN:DAYLIGHT
TZOFFSETFROM:-0500
TZOFFSETTO:-0400
TZNAME:EDT
DTSTART:20260308T070000
END:DAYLIGHT
BEGIN:STANDARD
TZOFFSETFROM:-0400
TZOFFSETTO:-0500
TZNAME:EST
DTSTART:20261101T060000
END:STANDARD
END:VTIMEZONE
BEGIN:VEVENT
DTSTART;TZID=America/New_York:20250306T183000
DTEND;TZID=America/New_York:20250306T233000
DTSTAMP:20260424T151731
CREATED:20250205T193856Z
LAST-MODIFIED:20250205T194810Z
UID:11790-1741285800-1741303800@carolinadragway.com
SUMMARY:TEST & TUNE
DESCRIPTION:Gates Open 6:30 PM \nSpectators: $20 \nKids 12 & Under: Free \nTech Cards: $30 
URL:https://carolinadragway.com/event/test-tune-2/
CATEGORIES:Test-n-Tune
END:VEVENT
BEGIN:VEVENT
DTSTART;TZID=America/New_York:20250313T183000
DTEND;TZID=America/New_York:20250313T233000
DTSTAMP:20260424T151731
CREATED:20250205T194017Z
LAST-MODIFIED:20250205T194803Z
UID:11792-1741890600-1741908600@carolinadragway.com
SUMMARY:TEST & TUNE
DESCRIPTION:Gates Open 6:30 PM \nSpectators: $20 \nKids 12 & Under: Free \nTech Cards: $30 
URL:https://carolinadragway.com/event/test-tune-3/
CATEGORIES:Test-n-Tune
END:VEVENT
BEGIN:VEVENT
DTSTART;TZID=America/New_York:20250320T183000
DTEND;TZID=America/New_York:20250320T233000
DTSTAMP:20260424T151731
CREATED:20250205T194122Z
LAST-MODIFIED:20250205T194757Z
UID:11794-1742495400-1742513400@carolinadragway.com
SUMMARY:TEST & TUNE
DESCRIPTION:Gates Open 6:30 PM \nSpectators: $20 \nKids 12 & Under: Free \nTech Cards: $30 
URL:https://carolinadragway.com/event/test-tune-4/
CATEGORIES:Test-n-Tune
END:VEVENT
BEGIN:VEVENT
DTSTART;TZID=America/New_York:20250327T183000
DTEND;TZID=America/New_York:20250327T233000
DTSTAMP:20260424T151731
CREATED:20250205T194147Z
LAST-MODIFIED:20250205T194750Z
UID:11795-1743100200-1743118200@carolinadragway.com
SUMMARY:TEST & TUNE
DESCRIPTION:Gates Open 6:30 PM \nSpectators: $20 \nKids 12 & Under: Free \nTech Cards: $30 
URL:https://carolinadragway.com/event/test-tune-5/
CATEGORIES:Test-n-Tune
END:VEVENT
END:VCALENDAR