BEGIN:VCALENDAR
VERSION:2.0
PRODID:-//Carolina Dragway &quot;The House of Hook&quot; in Aiken, SC - ECPv6.15.20//NONSGML v1.0//EN
CALSCALE:GREGORIAN
METHOD:PUBLISH
X-WR-CALNAME:Carolina Dragway &quot;The House of Hook&quot; in Aiken, SC
X-ORIGINAL-URL:https://carolinadragway.com
X-WR-CALDESC:Events for Carolina Dragway &quot;The House of Hook&quot; in Aiken, SC
REFRESH-INTERVAL;VALUE=DURATION:PT1H
X-Robots-Tag:noindex
X-PUBLISHED-TTL:PT1H
BEGIN:VTIMEZONE
TZID:America/New_York
BEGIN:DAYLIGHT
TZOFFSETFROM:-0500
TZOFFSETTO:-0400
TZNAME:EDT
DTSTART:20200308T070000
END:DAYLIGHT
BEGIN:STANDARD
TZOFFSETFROM:-0400
TZOFFSETTO:-0500
TZNAME:EST
DTSTART:20201101T060000
END:STANDARD
BEGIN:DAYLIGHT
TZOFFSETFROM:-0500
TZOFFSETTO:-0400
TZNAME:EDT
DTSTART:20210314T070000
END:DAYLIGHT
BEGIN:STANDARD
TZOFFSETFROM:-0400
TZOFFSETTO:-0500
TZNAME:EST
DTSTART:20211107T060000
END:STANDARD
BEGIN:DAYLIGHT
TZOFFSETFROM:-0500
TZOFFSETTO:-0400
TZNAME:EDT
DTSTART:20220313T070000
END:DAYLIGHT
BEGIN:STANDARD
TZOFFSETFROM:-0400
TZOFFSETTO:-0500
TZNAME:EST
DTSTART:20221106T060000
END:STANDARD
BEGIN:DAYLIGHT
TZOFFSETFROM:-0500
TZOFFSETTO:-0400
TZNAME:EDT
DTSTART:20230312T070000
END:DAYLIGHT
BEGIN:STANDARD
TZOFFSETFROM:-0400
TZOFFSETTO:-0500
TZNAME:EST
DTSTART:20231105T060000
END:STANDARD
BEGIN:DAYLIGHT
TZOFFSETFROM:-0500
TZOFFSETTO:-0400
TZNAME:EDT
DTSTART:20240310T070000
END:DAYLIGHT
BEGIN:STANDARD
TZOFFSETFROM:-0400
TZOFFSETTO:-0500
TZNAME:EST
DTSTART:20241103T060000
END:STANDARD
BEGIN:DAYLIGHT
TZOFFSETFROM:-0500
TZOFFSETTO:-0400
TZNAME:EDT
DTSTART:20250309T070000
END:DAYLIGHT
BEGIN:STANDARD
TZOFFSETFROM:-0400
TZOFFSETTO:-0500
TZNAME:EST
DTSTART:20251102T060000
END:STANDARD
END:VTIMEZONE
BEGIN:VEVENT
DTSTART;VALUE=DATE:20241102
DTEND;VALUE=DATE:20241104
DTSTAMP:20260424T131832
CREATED:20231204T194618Z
LAST-MODIFIED:20241022T203312Z
UID:10753-1730505600-1730678399@carolinadragway.com
SUMMARY:20th Annual Big Bucks Bracket Race
DESCRIPTION:
URL:https://carolinadragway.com/event/20th-annual-big-bucks-bracket-race/
LOCATION:Carolina Dragway\, 302 Dragstrip Road\, Aiken\, SC\, 29803\, United States
CATEGORIES:Bracket Races
ORGANIZER;CN="Carolina Dragway":MAILTO:info@carolinadragway.com
END:VEVENT
BEGIN:VEVENT
DTSTART;VALUE=DATE:20241004
DTEND;VALUE=DATE:20241007
DTSTAMP:20260424T131832
CREATED:20231219T160651Z
LAST-MODIFIED:20241001T181418Z
UID:10812-1728000000-1728259199@carolinadragway.com
SUMMARY:NHRA National Open / NIGHT OF FIRE CANCELED.... DUE TO WEATHER!!
DESCRIPTION:CANCELED…. DUE TO WEATHER!!
URL:https://carolinadragway.com/event/nhra-national-open-2/
LOCATION:Carolina Dragway\, 302 Dragstrip Road\, Aiken\, SC\, 29803\, United States
CATEGORIES:Bracket Races
ORGANIZER;CN="Carolina Dragway":MAILTO:info@carolinadragway.com
END:VEVENT
BEGIN:VEVENT
DTSTART;VALUE=DATE:20240824
DTEND;VALUE=DATE:20240826
DTSTAMP:20260424T131832
CREATED:20231204T194005Z
LAST-MODIFIED:20240815T201037Z
UID:10723-1724457600-1724630399@carolinadragway.com
SUMMARY:Summit Bracket Series Races #11 & #12/ Swap Meet
DESCRIPTION:
URL:https://carolinadragway.com/event/summit-bracket-series-races-11-12/
LOCATION:Carolina Dragway\, 302 Dragstrip Road\, Aiken\, SC\, 29803\, United States
CATEGORIES:Bracket Races
ORGANIZER;CN="Carolina Dragway":MAILTO:info@carolinadragway.com
END:VEVENT
BEGIN:VEVENT
DTSTART;VALUE=DATE:20240727
DTEND;VALUE=DATE:20240729
DTSTAMP:20260424T131832
CREATED:20231204T193941Z
LAST-MODIFIED:20240425T145208Z
UID:10722-1722038400-1722211199@carolinadragway.com
SUMMARY:Summit Bracket Series Races #9 & #10
DESCRIPTION:
URL:https://carolinadragway.com/event/summit-bracket-series-races-9-10/
LOCATION:Carolina Dragway\, 302 Dragstrip Road\, Aiken\, SC\, 29803\, United States
CATEGORIES:Bracket Races
ORGANIZER;CN="Carolina Dragway":MAILTO:info@carolinadragway.com
END:VEVENT
BEGIN:VEVENT
DTSTART;VALUE=DATE:20240622
DTEND;VALUE=DATE:20240624
DTSTAMP:20260424T131832
CREATED:20231204T193914Z
LAST-MODIFIED:20240425T145146Z
UID:10721-1719014400-1719187199@carolinadragway.com
SUMMARY:Summit Bracket Series Races #7 & #8
DESCRIPTION:
URL:https://carolinadragway.com/event/summit-bracket-series-races-7-8/
LOCATION:Carolina Dragway\, 302 Dragstrip Road\, Aiken\, SC\, 29803\, United States
CATEGORIES:Bracket Races
ORGANIZER;CN="Carolina Dragway":MAILTO:info@carolinadragway.com
END:VEVENT
BEGIN:VEVENT
DTSTART;VALUE=DATE:20240525
DTEND;VALUE=DATE:20240527
DTSTAMP:20260424T131832
CREATED:20231204T193850Z
LAST-MODIFIED:20240425T145113Z
UID:10720-1716595200-1716767999@carolinadragway.com
SUMMARY:Summit Bracket Series Races #5 & #6
DESCRIPTION:
URL:https://carolinadragway.com/event/summit-bracket-series-races-5-6/
LOCATION:Carolina Dragway\, 302 Dragstrip Road\, Aiken\, SC\, 29803\, United States
CATEGORIES:Bracket Races
ORGANIZER;CN="Carolina Dragway":MAILTO:info@carolinadragway.com
END:VEVENT
BEGIN:VEVENT
DTSTART;VALUE=DATE:20240413
DTEND;VALUE=DATE:20240415
DTSTAMP:20260424T131832
CREATED:20231204T193832Z
LAST-MODIFIED:20231205T195402Z
UID:10719-1712966400-1713139199@carolinadragway.com
SUMMARY:Summit Bracket Series Races #3 & #4
DESCRIPTION:
URL:https://carolinadragway.com/event/summit-bracket-series-races-3-4/
LOCATION:Carolina Dragway\, 302 Dragstrip Road\, Aiken\, SC\, 29803\, United States
CATEGORIES:Bracket Races
ORGANIZER;CN="Carolina Dragway":MAILTO:info@carolinadragway.com
END:VEVENT
BEGIN:VEVENT
DTSTART;VALUE=DATE:20240323
DTEND;VALUE=DATE:20240325
DTSTAMP:20260424T131832
CREATED:20231204T193812Z
LAST-MODIFIED:20231205T195357Z
UID:10718-1711152000-1711324799@carolinadragway.com
SUMMARY:Summit Bracket Series Races #1 & #2
DESCRIPTION:
URL:https://carolinadragway.com/event/summit-bracket-series-races-1-2/
LOCATION:Carolina Dragway\, 302 Dragstrip Road\, Aiken\, SC\, 29803\, United States
CATEGORIES:Bracket Races
ORGANIZER;CN="Carolina Dragway":MAILTO:info@carolinadragway.com
END:VEVENT
BEGIN:VEVENT
DTSTART;VALUE=DATE:20240316
DTEND;VALUE=DATE:20240318
DTSTAMP:20260424T131832
CREATED:20231204T193741Z
LAST-MODIFIED:20231205T202238Z
UID:10714-1710547200-1710719999@carolinadragway.com
SUMMARY:March Madness Bracket Race
DESCRIPTION:
URL:https://carolinadragway.com/event/march-madness-bracket-race-2/
LOCATION:Carolina Dragway\, 302 Dragstrip Road\, Aiken\, SC\, 29803\, United States
CATEGORIES:Bracket Races
ORGANIZER;CN="Carolina Dragway":MAILTO:info@carolinadragway.com
END:VEVENT
BEGIN:VEVENT
DTSTART;TZID=America/New_York:20240120T120000
DTEND;TZID=America/New_York:20240120T160000
DTSTAMP:20260424T131832
CREATED:20231229T233249Z
LAST-MODIFIED:20240116T183441Z
UID:10820-1705752000-1705766400@carolinadragway.com
SUMMARY:Summit Bracket Series Night of Champions Awards Banquet
DESCRIPTION:🏆 Our 2023 Summit Racing Equipment Points Series Night of Champions Awards Banquet will be held on Saturday\, January 20 at 12:00 pm NOON! \n \nAll of our Summit Bracket Series racers are welcome to attend. \nPLEASE RSVP at ⬇️⬇️⬇️\n\n\nhttps://docs.google.com/forms/d/e/1FAIpQLSc58SQ3A7Thw9hSHMoyUI1u7EO-T3Sm6VRebVcZIau89cRAJQ/viewform?usp=sf_link
URL:https://carolinadragway.com/event/summit-bracket-series-night-of-champions-awards-banquet/
LOCATION:Carolina Dragway\, 302 Dragstrip Road\, Aiken\, SC\, 29803\, United States
CATEGORIES:Bracket Races,Other Events
ATTACH;FMTTYPE=image/jpeg:https://carolinadragway.com/wp-content/uploads/2023/12/GENERIC-ANNOUNCEMENT-TEMPLATE.jpg
ORGANIZER;CN="Carolina Dragway":MAILTO:info@carolinadragway.com
END:VEVENT
BEGIN:VEVENT
DTSTART;VALUE=DATE:20231104
DTEND;VALUE=DATE:20231106
DTSTAMP:20260424T131832
CREATED:20221209T141551Z
LAST-MODIFIED:20230306T154048Z
UID:9141-1699056000-1699228799@carolinadragway.com
SUMMARY:19th Annual Big Bucks Race - $20K Each Day
DESCRIPTION:*NON-POINTS RACE*\n 
URL:https://carolinadragway.com/event/19th-annual-big-bucks-race-20k-each-day/
LOCATION:Carolina Dragway\, 302 Dragstrip Road\, Aiken\, SC\, 29803\, United States
CATEGORIES:Bracket Races
ORGANIZER;CN="Carolina Dragway":MAILTO:info@carolinadragway.com
END:VEVENT
BEGIN:VEVENT
DTSTART;VALUE=DATE:20230826
DTEND;VALUE=DATE:20230828
DTSTAMP:20260424T131832
CREATED:20221209T140448Z
LAST-MODIFIED:20230626T140004Z
UID:9129-1693008000-1693180799@carolinadragway.com
SUMMARY:Summit Bracket Series Points Races 11 & 12
DESCRIPTION:
URL:https://carolinadragway.com/event/summit-bracket-series-points-races-11-12/
LOCATION:Carolina Dragway\, 302 Dragstrip Road\, Aiken\, SC\, 29803\, United States
CATEGORIES:Bracket Races
ATTACH;FMTTYPE=image/jpeg:https://carolinadragway.com/wp-content/uploads/2021/01/summit-bracket-series.jpg
ORGANIZER;CN="Carolina Dragway":MAILTO:info@carolinadragway.com
END:VEVENT
BEGIN:VEVENT
DTSTART;TZID=America/New_York:20230824T183000
DTEND;TZID=America/New_York:20230824T233000
DTSTAMP:20260424T131832
CREATED:20230407T204528Z
LAST-MODIFIED:20230407T224247Z
UID:10143-1692901800-1692919800@carolinadragway.com
SUMMARY:Test-n-Tune + Shootout: Overdrive
DESCRIPTION:CLASS RULES for Overdrive Shootout:\nmust have tag\, insurance\, overdrive transmission\, full exhaust\, no hard tires
URL:https://carolinadragway.com/event/thursday-night-thunder-test-n-tune-grudge-race-3-14/
LOCATION:Carolina Dragway\, 302 Dragstrip Road\, Aiken\, SC\, 29803\, United States
CATEGORIES:Bracket Races,Heads-Up Races,Test-n-Tune
ATTACH;FMTTYPE=image/jpeg:https://carolinadragway.com/wp-content/uploads/2021/07/thursday-night-thunder-test-and-tune-grudge-racing.jpg
ORGANIZER;CN="Carolina Dragway":MAILTO:info@carolinadragway.com
END:VEVENT
BEGIN:VEVENT
DTSTART;VALUE=DATE:20230729
DTEND;VALUE=DATE:20230731
DTSTAMP:20260424T131832
CREATED:20221209T140410Z
LAST-MODIFIED:20230626T135956Z
UID:9127-1690588800-1690761599@carolinadragway.com
SUMMARY:Summit Bracket Series Points Races 9 & 10
DESCRIPTION:
URL:https://carolinadragway.com/event/summit-bracket-series-points-races-9-10/
LOCATION:Carolina Dragway\, 302 Dragstrip Road\, Aiken\, SC\, 29803\, United States
CATEGORIES:Bracket Races
ATTACH;FMTTYPE=image/jpeg:https://carolinadragway.com/wp-content/uploads/2021/01/summit-bracket-series.jpg
ORGANIZER;CN="Carolina Dragway":MAILTO:info@carolinadragway.com
END:VEVENT
BEGIN:VEVENT
DTSTART;TZID=America/New_York:20230706T183000
DTEND;TZID=America/New_York:20230706T233000
DTSTAMP:20260424T131832
CREATED:20230618T193018Z
LAST-MODIFIED:20230618T193018Z
UID:10421-1688668200-1688686200@carolinadragway.com
SUMMARY:Test-n-Tune + King of the Track (2022 Make-Up)
DESCRIPTION:
URL:https://carolinadragway.com/event/test-n-tune-king-of-the-track-2022-make-up/
LOCATION:Carolina Dragway\, 302 Dragstrip Road\, Aiken\, SC\, 29803\, United States
CATEGORIES:Bracket Races,Heads-Up Races,Test-n-Tune
ATTACH;FMTTYPE=image/jpeg:https://carolinadragway.com/wp-content/uploads/2021/07/thursday-night-thunder-test-and-tune-grudge-racing.jpg
ORGANIZER;CN="Carolina Dragway":MAILTO:info@carolinadragway.com
END:VEVENT
BEGIN:VEVENT
DTSTART;VALUE=DATE:20230624
DTEND;VALUE=DATE:20230626
DTSTAMP:20260424T131832
CREATED:20221209T140329Z
LAST-MODIFIED:20230618T192053Z
UID:9128-1687564800-1687737599@carolinadragway.com
SUMMARY:Summit Bracket Series Points Races 7 & 8
DESCRIPTION:
URL:https://carolinadragway.com/event/summit-bracket-series-points-races-7-8/
LOCATION:Carolina Dragway\, 302 Dragstrip Road\, Aiken\, SC\, 29803\, United States
CATEGORIES:Bracket Races
ATTACH;FMTTYPE=image/jpeg:https://carolinadragway.com/wp-content/uploads/2021/01/summit-bracket-series.jpg
ORGANIZER;CN="Carolina Dragway":MAILTO:info@carolinadragway.com
END:VEVENT
BEGIN:VEVENT
DTSTART;VALUE=DATE:20230520
DTEND;VALUE=DATE:20230522
DTSTAMP:20260424T131832
CREATED:20221209T140249Z
LAST-MODIFIED:20230306T154009Z
UID:9126-1684540800-1684713599@carolinadragway.com
SUMMARY:Summit Bracket Series Points Races 5 & 6
DESCRIPTION:
URL:https://carolinadragway.com/event/summit-bracket-series-points-races-5-6/
LOCATION:Carolina Dragway\, 302 Dragstrip Road\, Aiken\, SC\, 29803\, United States
CATEGORIES:Bracket Races
ATTACH;FMTTYPE=image/jpeg:https://carolinadragway.com/wp-content/uploads/2021/01/summit-bracket-series.jpg
ORGANIZER;CN="Carolina Dragway":MAILTO:info@carolinadragway.com
END:VEVENT
BEGIN:VEVENT
DTSTART;VALUE=DATE:20230422
DTEND;VALUE=DATE:20230424
DTSTAMP:20260424T131832
CREATED:20221209T140113Z
LAST-MODIFIED:20230306T154013Z
UID:9125-1682121600-1682294399@carolinadragway.com
SUMMARY:Summit Bracket Series Points Races 3 & 4
DESCRIPTION:
URL:https://carolinadragway.com/event/summit-bracket-series-points-races-3-4/
LOCATION:Carolina Dragway\, 302 Dragstrip Road\, Aiken\, SC\, 29803\, United States
CATEGORIES:Bracket Races
ATTACH;FMTTYPE=image/jpeg:https://carolinadragway.com/wp-content/uploads/2021/01/summit-bracket-series.jpg
ORGANIZER;CN="Carolina Dragway":MAILTO:info@carolinadragway.com
END:VEVENT
BEGIN:VEVENT
DTSTART;VALUE=DATE:20230318
DTEND;VALUE=DATE:20230320
DTSTAMP:20260424T131832
CREATED:20221209T142020Z
LAST-MODIFIED:20230306T153829Z
UID:9144-1679097600-1679270399@carolinadragway.com
SUMMARY:March Madness Bracket Race - $20K Each Day
DESCRIPTION:*NON-POINTS RACE*\n 
URL:https://carolinadragway.com/event/march-madness-bracket-race-20k-each-day/
LOCATION:Carolina Dragway\, 302 Dragstrip Road\, Aiken\, SC\, 29803\, United States
CATEGORIES:Bracket Races
ORGANIZER;CN="Carolina Dragway":MAILTO:info@carolinadragway.com
END:VEVENT
BEGIN:VEVENT
DTSTART;VALUE=DATE:20221105
DTEND;VALUE=DATE:20221107
DTSTAMP:20260424T131832
CREATED:20211227T155846Z
LAST-MODIFIED:20221105T183831Z
UID:6818-1667606400-1667779199@carolinadragway.com
SUMMARY:CANCELED DUE TO RAIN: 18th Annual Big Bucks Bracket Race
DESCRIPTION:CANCELED DUE TO RAIN
URL:https://carolinadragway.com/event/18th-annual-big-bucks-bracket-race/
LOCATION:Carolina Dragway\, 302 Dragstrip Road\, Aiken\, SC\, 29803\, United States
CATEGORIES:Bracket Races,Heads-Up Races
ATTACH;FMTTYPE=image/jpeg:https://carolinadragway.com/wp-content/uploads/2020/11/big-bucks-race.jpg
ORGANIZER;CN="Carolina Dragway":MAILTO:info@carolinadragway.com
END:VEVENT
BEGIN:VEVENT
DTSTART;VALUE=DATE:20220930
DTEND;VALUE=DATE:20221003
DTSTAMP:20260424T131832
CREATED:20220729T125621Z
LAST-MODIFIED:20220906T133747Z
UID:8086-1664496000-1664755199@carolinadragway.com
SUMMARY:CANCELED: AGV $250K Fall Throwdown
DESCRIPTION:THIS EVENT HAS BEEN CANCELED BY THE PROMOTERS. PLEASE CONTACT AGV DIRECTLY FOR MORE INFORMATION.
URL:https://carolinadragway.com/event/canceled-agv-250k-fall-throwdown/
LOCATION:Carolina Dragway\, 302 Dragstrip Road\, Aiken\, SC\, 29803\, United States
CATEGORIES:Bracket Races,Heads-Up Races
ORGANIZER;CN="AGV Promotions":MAILTO:tony@tgmotorsports.net
END:VEVENT
BEGIN:VEVENT
DTSTART;VALUE=DATE:20220526
DTEND;VALUE=DATE:20220530
DTSTAMP:20260424T131832
CREATED:20211116T142330Z
LAST-MODIFIED:20220523T141622Z
UID:6610-1653523200-1653868799@carolinadragway.com
SUMMARY:SFG $175K World Series of Bracket Racing
DESCRIPTION:
URL:https://carolinadragway.com/event/sfg-175k-world-series-of-bracket-racing/
LOCATION:Carolina Dragway\, 302 Dragstrip Road\, Aiken\, SC\, 29803\, United States
CATEGORIES:Bracket Races
ATTACH;FMTTYPE=image/jpeg:https://carolinadragway.com/wp-content/uploads/2021/11/SFG-World-Series-of-Bracket-Racing-2022.jpg
ORGANIZER;CN="SFG Promotions":MAILTO:kyle@racesfg.com
END:VEVENT
BEGIN:VEVENT
DTSTART;VALUE=DATE:20220319
DTEND;VALUE=DATE:20220321
DTSTAMP:20260424T131832
CREATED:20211227T150152Z
LAST-MODIFIED:20220201T004240Z
UID:6778-1647648000-1647820799@carolinadragway.com
SUMMARY:March Madness Bracket Race
DESCRIPTION:
URL:https://carolinadragway.com/event/march-madness-bracket-race/
LOCATION:Carolina Dragway\, 302 Dragstrip Road\, Aiken\, SC\, 29803\, United States
CATEGORIES:Bracket Races
ORGANIZER;CN="Carolina Dragway":MAILTO:info@carolinadragway.com
END:VEVENT
BEGIN:VEVENT
DTSTART;VALUE=DATE:20211106
DTEND;VALUE=DATE:20211108
DTSTAMP:20260424T131832
CREATED:20210714T142119Z
LAST-MODIFIED:20211105T142934Z
UID:5793-1636156800-1636329599@carolinadragway.com
SUMMARY:CANCELED: 17th Annual Big Bucks Bracket Race
DESCRIPTION:CANCELED DUE TO WEATHER\nIMPORTANT UPDATE: Due to the forecast showing rain and cold temperatures making it unsafe to run\, we have CANCELED this weekend’s Big Bucks Bracket race at #CarolinaDragway.
URL:https://carolinadragway.com/event/17th-annual-big-bucks-bracket-race/
LOCATION:Carolina Dragway\, 302 Dragstrip Road\, Aiken\, SC\, 29803\, United States
CATEGORIES:Bracket Races,Heads-Up Races
ATTACH;FMTTYPE=image/jpeg:https://carolinadragway.com/wp-content/uploads/2020/11/big-bucks-race.jpg
ORGANIZER;CN="Carolina Dragway":MAILTO:info@carolinadragway.com
END:VEVENT
BEGIN:VEVENT
DTSTART;VALUE=DATE:20211015
DTEND;VALUE=DATE:20211018
DTSTAMP:20260424T131832
CREATED:20210714T141742Z
LAST-MODIFIED:20211002T175708Z
UID:5789-1634256000-1634515199@carolinadragway.com
SUMMARY:AGV Promotions “No Split” Big Money Bracket Weekend
DESCRIPTION:SPECTATOR ADMISSION: $10/day or $25/weekend
URL:https://carolinadragway.com/event/agv-promotions-no-split-big-money-bracket-weekend/
LOCATION:Carolina Dragway\, 302 Dragstrip Road\, Aiken\, SC\, 29803\, United States
CATEGORIES:Bracket Races,Heads-Up Races
ATTACH;FMTTYPE=image/jpeg:https://carolinadragway.com/wp-content/uploads/2020/11/big-bucks-race.jpg
ORGANIZER;CN="Carolina Dragway":MAILTO:info@carolinadragway.com
END:VEVENT
END:VCALENDAR