BEGIN:VCALENDAR
VERSION:2.0
PRODID:-//Carolina Dragway &quot;The House of Hook&quot; in Aiken, SC - ECPv6.15.20//NONSGML v1.0//EN
CALSCALE:GREGORIAN
METHOD:PUBLISH
X-WR-CALNAME:Carolina Dragway &quot;The House of Hook&quot; in Aiken, SC
X-ORIGINAL-URL:https://carolinadragway.com
X-WR-CALDESC:Events for Carolina Dragway &quot;The House of Hook&quot; in Aiken, SC
REFRESH-INTERVAL;VALUE=DURATION:PT1H
X-Robots-Tag:noindex
X-PUBLISHED-TTL:PT1H
BEGIN:VTIMEZONE
TZID:America/New_York
BEGIN:DAYLIGHT
TZOFFSETFROM:-0500
TZOFFSETTO:-0400
TZNAME:EDT
DTSTART:20230312T070000
END:DAYLIGHT
BEGIN:STANDARD
TZOFFSETFROM:-0400
TZOFFSETTO:-0500
TZNAME:EST
DTSTART:20231105T060000
END:STANDARD
BEGIN:DAYLIGHT
TZOFFSETFROM:-0500
TZOFFSETTO:-0400
TZNAME:EDT
DTSTART:20240310T070000
END:DAYLIGHT
BEGIN:STANDARD
TZOFFSETFROM:-0400
TZOFFSETTO:-0500
TZNAME:EST
DTSTART:20241103T060000
END:STANDARD
BEGIN:DAYLIGHT
TZOFFSETFROM:-0500
TZOFFSETTO:-0400
TZNAME:EDT
DTSTART:20250309T070000
END:DAYLIGHT
BEGIN:STANDARD
TZOFFSETFROM:-0400
TZOFFSETTO:-0500
TZNAME:EST
DTSTART:20251102T060000
END:STANDARD
END:VTIMEZONE
BEGIN:VEVENT
DTSTART;VALUE=DATE:20240727
DTEND;VALUE=DATE:20240729
DTSTAMP:20260425T083154
CREATED:20231204T193941Z
LAST-MODIFIED:20240425T145208Z
UID:10722-1722038400-1722211199@carolinadragway.com
SUMMARY:Summit Bracket Series Races #9 & #10
DESCRIPTION:
URL:https://carolinadragway.com/event/summit-bracket-series-races-9-10/
LOCATION:Carolina Dragway\, 302 Dragstrip Road\, Aiken\, SC\, 29803\, United States
CATEGORIES:Bracket Races
ORGANIZER;CN="Carolina Dragway":MAILTO:info@carolinadragway.com
END:VEVENT
END:VCALENDAR